BEGIN:VCALENDAR
VERSION:2.0
PRODID:-//The Clifton Institute - ECPv6.15.15//NONSGML v1.0//EN
CALSCALE:GREGORIAN
METHOD:PUBLISH
X-ORIGINAL-URL:https://cliftoninstitute.org
X-WR-CALDESC:Events for The Clifton Institute
REFRESH-INTERVAL;VALUE=DURATION:PT1H
X-Robots-Tag:noindex
X-PUBLISHED-TTL:PT1H
BEGIN:VTIMEZONE
TZID:America/New_York
BEGIN:DAYLIGHT
TZOFFSETFROM:-0500
TZOFFSETTO:-0400
TZNAME:EDT
DTSTART:20230312T070000
END:DAYLIGHT
BEGIN:STANDARD
TZOFFSETFROM:-0400
TZOFFSETTO:-0500
TZNAME:EST
DTSTART:20231105T060000
END:STANDARD
BEGIN:DAYLIGHT
TZOFFSETFROM:-0500
TZOFFSETTO:-0400
TZNAME:EDT
DTSTART:20240310T070000
END:DAYLIGHT
BEGIN:STANDARD
TZOFFSETFROM:-0400
TZOFFSETTO:-0500
TZNAME:EST
DTSTART:20241103T060000
END:STANDARD
BEGIN:DAYLIGHT
TZOFFSETFROM:-0500
TZOFFSETTO:-0400
TZNAME:EDT
DTSTART:20250309T070000
END:DAYLIGHT
BEGIN:STANDARD
TZOFFSETFROM:-0400
TZOFFSETTO:-0500
TZNAME:EST
DTSTART:20251102T060000
END:STANDARD
END:VTIMEZONE
BEGIN:VEVENT
DTSTART;TZID=America/New_York:20240411T190000
DTEND;TZID=America/New_York:20240411T203000
DTSTAMP:20260421T043824
CREATED:20240330T161554Z
LAST-MODIFIED:20240330T161554Z
UID:16905-1712862000-1712867400@cliftoninstitute.org
SUMMARY:*Virtual* Restoration of Piedmont Prairies
DESCRIPTION:**This is a virtual event** \nIn this Zoom event\, Co-Director Bert Harris will present the latest results from our grassland restoration experiment! He will cover which management methods were most successful at converting fescue to native grasses and wildflowers. He will also talk about our study of the native seed bank and the recovery of grassland soils. \n  \nRegister through VNPS: https://vnps.org/potowmack/events/clifton-institute-grassland-restoration-project-with-bert-harris-via-zoom/
URL:https://cliftoninstitute.org/event/virtual-restoration-of-piedmont-prairies/
CATEGORIES:Adult programs,Community science
ATTACH;FMTTYPE=image/jpeg:https://cliftoninstitute.org/wp-content/uploads/2024/03/Piedmont-Prairies.jpg
END:VEVENT
END:VCALENDAR