BEGIN:VCALENDAR
VERSION:2.0
PRODID:-//The Clifton Institute - ECPv6.15.15//NONSGML v1.0//EN
CALSCALE:GREGORIAN
METHOD:PUBLISH
X-ORIGINAL-URL:https://cliftoninstitute.org
X-WR-CALDESC:Events for The Clifton Institute
REFRESH-INTERVAL;VALUE=DURATION:PT1H
X-Robots-Tag:noindex
X-PUBLISHED-TTL:PT1H
BEGIN:VTIMEZONE
TZID:America/New_York
BEGIN:DAYLIGHT
TZOFFSETFROM:-0500
TZOFFSETTO:-0400
TZNAME:EDT
DTSTART:20230312T070000
END:DAYLIGHT
BEGIN:STANDARD
TZOFFSETFROM:-0400
TZOFFSETTO:-0500
TZNAME:EST
DTSTART:20231105T060000
END:STANDARD
BEGIN:DAYLIGHT
TZOFFSETFROM:-0500
TZOFFSETTO:-0400
TZNAME:EDT
DTSTART:20240310T070000
END:DAYLIGHT
BEGIN:STANDARD
TZOFFSETFROM:-0400
TZOFFSETTO:-0500
TZNAME:EST
DTSTART:20241103T060000
END:STANDARD
BEGIN:DAYLIGHT
TZOFFSETFROM:-0500
TZOFFSETTO:-0400
TZNAME:EDT
DTSTART:20250309T070000
END:DAYLIGHT
BEGIN:STANDARD
TZOFFSETFROM:-0400
TZOFFSETTO:-0500
TZNAME:EST
DTSTART:20251102T060000
END:STANDARD
END:VTIMEZONE
BEGIN:VEVENT
DTSTART;TZID=America/New_York:20240209T190000
DTEND;TZID=America/New_York:20240209T200000
DTSTAMP:20260421T071104
CREATED:20231129T161206Z
LAST-MODIFIED:20240208T161634Z
UID:15485-1707505200-1707508800@cliftoninstitute.org
SUMMARY:American Kestrel Research Update (Virtual)
DESCRIPTION:**This is a virtual event. We will close registration at noon on February 9 to make sure everyone gets the Zoom link. If you have registered and have not yet received a Zoom link please email Eleanor at eharris@cliftoninstitute.org. If you would like to register after noon on February 9 you can email Eleanor\, but she may not see your message in time.** \nJoin Executive Director Bert Harris to hear the latest on our American Kestrel research. We have been studying these declining falcons for three years in collaboration with Joe Kolowski from the Smithsonian Conservation Biology Institute and Alan Williams. Dr. Harris will present on our results from the 2023 field season and what they tell us about how to manage land for these charismatic animals. The work is funded by the Raines Family Fund\, BAND Foundation\, Nick Lapham\, the Virginia Society of Ornithology\, the Washington Biologists Field Club\, and Janine Moseley. We will send a link to the Zoom meeting a few days prior to the talk. Please make sure your email address is up to date! \nCost: Free! \n  \n 
URL:https://cliftoninstitute.org/event/american-kestrel-research-update-virtual/
LOCATION:The Clifton Institute\, 6712 Blantyre Road\, Warrenton\, VA\, 20187\, United States
CATEGORIES:Adult programs
ATTACH;FMTTYPE=image/png:https://cliftoninstitute.org/wp-content/uploads/2023/11/Kestrel-Talk-1.png
GEO:38.7751537;-77.7981971
X-APPLE-STRUCTURED-LOCATION;VALUE=URI;X-ADDRESS=The Clifton Institute 6712 Blantyre Road Warrenton VA 20187 United States;X-APPLE-RADIUS=500;X-TITLE=6712 Blantyre Road:geo:-77.7981971,38.7751537
END:VEVENT
BEGIN:VEVENT
DTSTART;TZID=America/New_York:20240222T190000
DTEND;TZID=America/New_York:20240222T200000
DTSTAMP:20260421T071104
CREATED:20231220T172742Z
LAST-MODIFIED:20240222T201223Z
UID:15687-1708628400-1708632000@cliftoninstitute.org
SUMMARY:The Sounds of Nature: How Natural Sounds are Made and Why They Sound Like They Do *Virtual*
DESCRIPTION:**This is a virtual program. We will close registration at noon on February 22 to make sure everyone gets the Zoom link. If you registered and have not received a Zoom link by that time please email Eleanor at eharris@cliftoninstitute.org. If you would like to register after that time you can email Eleanor\, but she may not see your message in time.** \nAs mostly visual creatures\, we often take sound for granted\, but there is a whole incredible world of vibrations going on around us. In this Zoom program\, Co-Director Eleanor Harris\, Ph.D.\, will explain how natural sounds are made and how both human and non-human animals hear them. From why birds sing in the morning to how insects hear with their legs\, thinking about sounds in nature might change the way you see and hear the world around you. A Zoom link will be emailed to participants shortly before the program. \nCost: Free! \nRegistration is REQUIRED. \nCancellation policy: If you register and can no longer attend this event\, please let us know as soon as possible so that we can open your spot to someone else. \nBy registering for this event\, you are affirming that you have read and agree to our liability release policy. \nWe look forward to seeing you at the Clifton Institute! \n  \n 
URL:https://cliftoninstitute.org/event/the-sounds-of-nature-how-natural-sounds-are-made-and-why-they-sound-like-they-do-virtual/
LOCATION:The Clifton Institute\, 6712 Blantyre Road\, Warrenton\, VA\, 20187\, United States
CATEGORIES:Adult programs
ATTACH;FMTTYPE=image/jpeg:https://cliftoninstitute.org/wp-content/uploads/2023/12/Sounds-of-Nature.jpg
GEO:38.7751537;-77.7981971
X-APPLE-STRUCTURED-LOCATION;VALUE=URI;X-ADDRESS=The Clifton Institute 6712 Blantyre Road Warrenton VA 20187 United States;X-APPLE-RADIUS=500;X-TITLE=6712 Blantyre Road:geo:-77.7981971,38.7751537
END:VEVENT
END:VCALENDAR