BEGIN:VCALENDAR
VERSION:2.0
PRODID:-//The Clifton Institute - ECPv6.15.15//NONSGML v1.0//EN
CALSCALE:GREGORIAN
METHOD:PUBLISH
X-ORIGINAL-URL:https://cliftoninstitute.org
X-WR-CALDESC:Events for The Clifton Institute
REFRESH-INTERVAL;VALUE=DURATION:PT1H
X-Robots-Tag:noindex
X-PUBLISHED-TTL:PT1H
BEGIN:VTIMEZONE
TZID:America/New_York
BEGIN:DAYLIGHT
TZOFFSETFROM:-0500
TZOFFSETTO:-0400
TZNAME:EDT
DTSTART:20230312T070000
END:DAYLIGHT
BEGIN:STANDARD
TZOFFSETFROM:-0400
TZOFFSETTO:-0500
TZNAME:EST
DTSTART:20231105T060000
END:STANDARD
BEGIN:DAYLIGHT
TZOFFSETFROM:-0500
TZOFFSETTO:-0400
TZNAME:EDT
DTSTART:20240310T070000
END:DAYLIGHT
BEGIN:STANDARD
TZOFFSETFROM:-0400
TZOFFSETTO:-0500
TZNAME:EST
DTSTART:20241103T060000
END:STANDARD
BEGIN:DAYLIGHT
TZOFFSETFROM:-0500
TZOFFSETTO:-0400
TZNAME:EDT
DTSTART:20250309T070000
END:DAYLIGHT
BEGIN:STANDARD
TZOFFSETFROM:-0400
TZOFFSETTO:-0500
TZNAME:EST
DTSTART:20251102T060000
END:STANDARD
END:VTIMEZONE
BEGIN:VEVENT
DTSTART;TZID=America/New_York:20240213T190000
DTEND;TZID=America/New_York:20240213T210000
DTSTAMP:20260421T152738
CREATED:20231220T142705Z
LAST-MODIFIED:20240120T144430Z
UID:15661-1707850800-1707858000@cliftoninstitute.org
SUMMARY:Spotted Salamander Walk
DESCRIPTION:Once a year\, salamanders leave their homes in the woods and head toward vernal pools\, temporary ponds created by spring rains and melting winter snow. The conditions must be just right\, a warm night with rainy conditions. The males arrive first and lay sperm sacks around the pond. The females come later and absorb these sacks\, which causes them to lay their eggs\, about 50-100 per female. Join us on a walk to our vernal pools to witness this spectacle of nature. \nWe’ll be watching the weather closely to adjust our time and date that looks most promising for us to see this wonderful migration. For now\, this date is a best-guess placeholder for us. We will email you closer to the date with information about when to meet.\n \nPlease bring a flashlight. As we will likely go out in the rain\, we recommend wearing a raincoat and waterproof shoes. \n\n\nCost: Free! \n\n\nAge:  Adults and children ages 12 and up\, accompanied by an adult. \n\n\nCOVID-19 Information: This program will be entirely outdoors (an outside porta potty will be available). We require that everyone have a mask with them in case we need to go inside during inclement weather\, to administer first aid\, or for other reasons. Please do not attend if you are experiencing or have experienced in the last two weeks any symptoms associated with COVID-19 (fever\, cough\, shortness of breath\, etc.). \n\n\nRegistration is REQUIRED. \n\n\nCancellation policy: If you register and can no longer attend this event\, please let us know as soon as possible so that we can open your spot to someone else. \n\n\nBefore attending this event\, please read the information included on our liability release form (click here). \n\n\nWe look forward to seeing you at the Clifton Institute!
URL:https://cliftoninstitute.org/event/spotted-salamander-walk-3/
LOCATION:The Clifton Institute\, 6712 Blantyre Road\, Warrenton\, VA\, 20187\, United States
CATEGORIES:Adult programs
ATTACH;FMTTYPE=image/png:https://cliftoninstitute.org/wp-content/uploads/2022/11/Spotted-Salamander-Walk-1-845x321-1.png
GEO:38.7751537;-77.7981971
X-APPLE-STRUCTURED-LOCATION;VALUE=URI;X-ADDRESS=The Clifton Institute 6712 Blantyre Road Warrenton VA 20187 United States;X-APPLE-RADIUS=500;X-TITLE=6712 Blantyre Road:geo:-77.7981971,38.7751537
END:VEVENT
END:VCALENDAR