BEGIN:VCALENDAR
VERSION:2.0
PRODID:-//The Clifton Institute - ECPv6.15.15//NONSGML v1.0//EN
CALSCALE:GREGORIAN
METHOD:PUBLISH
X-WR-CALNAME:The Clifton Institute
X-ORIGINAL-URL:https://cliftoninstitute.org
X-WR-CALDESC:Events for The Clifton Institute
REFRESH-INTERVAL;VALUE=DURATION:PT1H
X-Robots-Tag:noindex
X-PUBLISHED-TTL:PT1H
BEGIN:VTIMEZONE
TZID:America/New_York
BEGIN:DAYLIGHT
TZOFFSETFROM:-0500
TZOFFSETTO:-0400
TZNAME:EDT
DTSTART:20220313T070000
END:DAYLIGHT
BEGIN:STANDARD
TZOFFSETFROM:-0400
TZOFFSETTO:-0500
TZNAME:EST
DTSTART:20221106T060000
END:STANDARD
BEGIN:DAYLIGHT
TZOFFSETFROM:-0500
TZOFFSETTO:-0400
TZNAME:EDT
DTSTART:20230312T070000
END:DAYLIGHT
BEGIN:STANDARD
TZOFFSETFROM:-0400
TZOFFSETTO:-0500
TZNAME:EST
DTSTART:20231105T060000
END:STANDARD
BEGIN:DAYLIGHT
TZOFFSETFROM:-0500
TZOFFSETTO:-0400
TZNAME:EDT
DTSTART:20240310T070000
END:DAYLIGHT
BEGIN:STANDARD
TZOFFSETFROM:-0400
TZOFFSETTO:-0500
TZNAME:EST
DTSTART:20241103T060000
END:STANDARD
END:VTIMEZONE
BEGIN:VEVENT
DTSTART;TZID=America/New_York:20230909T100000
DTEND;TZID=America/New_York:20230909T130000
DTSTAMP:20260422T063229
CREATED:20230726T202508Z
LAST-MODIFIED:20230801T161258Z
UID:14325-1694253600-1694264400@cliftoninstitute.org
SUMMARY:Parks for Pollinators Bioblitz
DESCRIPTION:Come along while we partner with the Fauquier County Department of Parks and Recreation to participate in the Parks for Pollinators Bioblitz!   \nWe’ll explore Riverside Preserve with the goal of documenting as many different kinds of butterflies and bees as possible! This event is part of the Fauquier County Bee City USA initiative to learn about and conserve pollinators in our county. All levels of naturalists are welcome! \nPlease note that this program meets at Riverside Preserve\, NOT at the Clifton Institute. The address is 8150 Leeds Manor Rd\, Marshall\, VA 20115. We will meet by the environmental education shed / port-a-potty. You can park on the lawn near the building or you can drive all the way to the lot at the bottom of the hill and walk back up. \nCost: Free! \nAge: Adults and children accompanied by an adult. \nWeather policy: Rain or shine except in case of extreme weather (e.g. thunderstorm or significant snow fall). Please check your email for updates on the morning of the event. \nCOVID-19 Information: This program will be entirely outdoors (an outside porta potty will be available). Please do not attend if you are experiencing or have experienced in the last two weeks any symptoms associated with COVID-19 (fever\, cough\, shortness of breath\, etc.). \nRegistration is REQUIRED. \nCancellation policy: If you register and can no longer attend this event\, please let us know as soon as possible so that we can open your spot to someone else. \nBy registering for this event\, you are affirming that you have read and agree to our liability release policy.
URL:https://cliftoninstitute.org/event/parks-for-pollinators-bioblitz/
LOCATION:Riverside Preserve\, 8150 Leeds Manor Road\, Marshall\, VA\, 20115\, United States
CATEGORIES:Adult programs,Community science
ATTACH;FMTTYPE=image/png:https://cliftoninstitute.org/wp-content/uploads/2023/07/Bioblitz.png
GEO:38.7042668;-77.9137244
X-APPLE-STRUCTURED-LOCATION;VALUE=URI;X-ADDRESS=Riverside Preserve 8150 Leeds Manor Road Marshall VA 20115 United States;X-APPLE-RADIUS=500;X-TITLE=8150 Leeds Manor Road:geo:-77.9137244,38.7042668
END:VEVENT
END:VCALENDAR