BEGIN:VCALENDAR
VERSION:2.0
PRODID:-//The Clifton Institute - ECPv6.15.15//NONSGML v1.0//EN
CALSCALE:GREGORIAN
METHOD:PUBLISH
X-ORIGINAL-URL:https://cliftoninstitute.org
X-WR-CALDESC:Events for The Clifton Institute
REFRESH-INTERVAL;VALUE=DURATION:PT1H
X-Robots-Tag:noindex
X-PUBLISHED-TTL:PT1H
BEGIN:VTIMEZONE
TZID:America/New_York
BEGIN:DAYLIGHT
TZOFFSETFROM:-0500
TZOFFSETTO:-0400
TZNAME:EDT
DTSTART:20220313T070000
END:DAYLIGHT
BEGIN:STANDARD
TZOFFSETFROM:-0400
TZOFFSETTO:-0500
TZNAME:EST
DTSTART:20221106T060000
END:STANDARD
BEGIN:DAYLIGHT
TZOFFSETFROM:-0500
TZOFFSETTO:-0400
TZNAME:EDT
DTSTART:20230312T070000
END:DAYLIGHT
BEGIN:STANDARD
TZOFFSETFROM:-0400
TZOFFSETTO:-0500
TZNAME:EST
DTSTART:20231105T060000
END:STANDARD
BEGIN:DAYLIGHT
TZOFFSETFROM:-0500
TZOFFSETTO:-0400
TZNAME:EDT
DTSTART:20240310T070000
END:DAYLIGHT
BEGIN:STANDARD
TZOFFSETFROM:-0400
TZOFFSETTO:-0500
TZNAME:EST
DTSTART:20241103T060000
END:STANDARD
END:VTIMEZONE
BEGIN:VEVENT
DTSTART;TZID=America/New_York:20231021T100000
DTEND;TZID=America/New_York:20231021T120000
DTSTAMP:20260422T012223
CREATED:20230818T181906Z
LAST-MODIFIED:20231018T175154Z
UID:14506-1697882400-1697889600@cliftoninstitute.org
SUMMARY:CANCELLED: Riverside Plant Walk at Riverside Preserve
DESCRIPTION:**This event has been cancelled! We look forward to seeing you next time.** \n  \nJoin Dr. Bert Harris of The Clifton Institute to explore the special plants and animals of Fauquier County’s Riverside Preserve!  This beautiful park protects a fascinating variety of habitats\, from mature riparian forest to mesic upland forest\, and native meadows. In mid-October we will see late wildflowers in the meadows and the last insects of the year\, including bees\, hoverflies\, and caterpillars. We will also look for and learn about riparian tree species\, including hazelnut\, bladdernut\, ironwood\, river birch\, and the rare butternut.  \n**Registration is through Fauquier County Parks and Recreation. Use the link below ** \nhttps://secure.rec1.com/VA/fauquier-county-va/catalog/index/5e381764b40b6957ae13216fc51dc654?filter=c2VhcmNoPSZsb2NhdGlvbiU1QjI0Mjk0JTVEPTE= \nCost: $12 per person \nAge: Adults and children ages 12 and up\, accompanied by an adult. \nWhat to wear: Dress for the weather and wear comfortable clothes you can move in! \nWhat to bring: Water bottle\, hat\, sunscreen\, bug spray\, camera\, binoculars \n\nCOVID-19 Information: This program will be entirely outdoors (an outside port-o-potty will be available). Please do not attend if you are experiencing or have experienced in the last two weeks any symptoms associated with COVID-19 (fever\, cough\, shortness of breath\, etc.). \n\n\nBefore attending this event\, please read the information included on our liability release form (click here).
URL:https://cliftoninstitute.org/event/riverside-plant-walk-at-riverside-preserve-2/
LOCATION:The Clifton Institute\, 6712 Blantyre Road\, Warrenton\, VA\, 20187\, United States
CATEGORIES:Adult programs
ATTACH;FMTTYPE=image/png:https://cliftoninstitute.org/wp-content/uploads/2023/08/Riverside-header.png
GEO:38.7751537;-77.7981971
X-APPLE-STRUCTURED-LOCATION;VALUE=URI;X-ADDRESS=The Clifton Institute 6712 Blantyre Road Warrenton VA 20187 United States;X-APPLE-RADIUS=500;X-TITLE=6712 Blantyre Road:geo:-77.7981971,38.7751537
END:VEVENT
END:VCALENDAR