BEGIN:VCALENDAR
VERSION:2.0
PRODID:-//The Clifton Institute - ECPv6.15.15//NONSGML v1.0//EN
CALSCALE:GREGORIAN
METHOD:PUBLISH
X-ORIGINAL-URL:https://cliftoninstitute.org
X-WR-CALDESC:Events for The Clifton Institute
REFRESH-INTERVAL;VALUE=DURATION:PT1H
X-Robots-Tag:noindex
X-PUBLISHED-TTL:PT1H
BEGIN:VTIMEZONE
TZID:America/New_York
BEGIN:DAYLIGHT
TZOFFSETFROM:-0500
TZOFFSETTO:-0400
TZNAME:EDT
DTSTART:20210314T070000
END:DAYLIGHT
BEGIN:STANDARD
TZOFFSETFROM:-0400
TZOFFSETTO:-0500
TZNAME:EST
DTSTART:20211107T060000
END:STANDARD
BEGIN:DAYLIGHT
TZOFFSETFROM:-0500
TZOFFSETTO:-0400
TZNAME:EDT
DTSTART:20220313T070000
END:DAYLIGHT
BEGIN:STANDARD
TZOFFSETFROM:-0400
TZOFFSETTO:-0500
TZNAME:EST
DTSTART:20221106T060000
END:STANDARD
BEGIN:DAYLIGHT
TZOFFSETFROM:-0500
TZOFFSETTO:-0400
TZNAME:EDT
DTSTART:20230312T070000
END:DAYLIGHT
BEGIN:STANDARD
TZOFFSETFROM:-0400
TZOFFSETTO:-0500
TZNAME:EST
DTSTART:20231105T060000
END:STANDARD
END:VTIMEZONE
BEGIN:VEVENT
DTSTART;TZID=America/New_York:20220105T090000
DTEND;TZID=America/New_York:20220105T120000
DTSTAMP:20260423T012935
CREATED:20211113T220622Z
LAST-MODIFIED:20211113T220727Z
UID:7666-1641373200-1641384000@cliftoninstitute.org
SUMMARY:Nature School: Spring Semester
DESCRIPTION:This series\, which takes place between January and May\, is a chance for young students to dip their toes into 10 different topics as we watch the land around us become green again! Each session will include time spent journaling\, learning about science\, and going on a hike. The younger group will also be read a story. \nStudents are expected to bring their own snacks\, water\, and backpack but all other materials will be provided. We will divide into two groups split roughly by age for most of the time\, to allow for students to engage in activities that are appropriately challenging. Therefore\, we ask that students come prepared for the possibility of being in a different group from their siblings. We also ask that children who are not yet in kindergarten or who will be uncomfortable being away from a caregiver participate in our Piedmont Polliwogs programs. We are outside for the duration of every session\, rain or shine\, so dress for the weather! \nWe will meet every other Wednesday from 9:00AM to 12:00PM on the following dates: \nJanuary 5 \nJanuary 19 \nFebruary 2 \nFebruary 16 \nMarch 2 \nMarch 16 \nMarch 30 \nApril 13 \nApril 27 \nMay 11 \n\n\nCost: $100 ($80 for Friends of the Clifton Institute) \n\n\nAge: Children in grades K-5\, drop-off only. \n\n\nBring: Water bottle\, snack\, and backpack. We also recommend a small towel\, seat pad\, or piece of tarp to sit on on the trail. \n\n\nWeather policy: Rain or shine except in case of extreme weather (e.g. thunderstorm or significant snow fall). \n\n\nCOVID-19 Information: This program will be entirely outdoors (an outside porta potty will be available). We require that everyone have a mask with them in case we need to go inside during inclement weather\, to administer first aid\, or for other reasons. Please do not attend if you are experiencing or have experienced in the last two weeks any symptoms associated with COVID-19 (fever\, cough\, shortness of breath\, etc.). \n\n\nRegistration is REQUIRED. \n\n\nCancellation policy: If you register and can no longer attend this event\, please let us know as soon as possible so that we can open your spot to someone else. No refunds will be given upon registrant cancellation. \n\n\nBefore attending this event\, please read the information included on our liability release form (click here). \n\n\nWe look forward to seeing you at the Clifton Institute! \n\n 
URL:https://cliftoninstitute.org/event/nature-school-spring-semester/
LOCATION:The Clifton Institute\, 6712 Blantyre Road\, Warrenton\, VA\, 20187\, United States
CATEGORIES:Youth programs
GEO:38.7751537;-77.7981971
X-APPLE-STRUCTURED-LOCATION;VALUE=URI;X-ADDRESS=The Clifton Institute 6712 Blantyre Road Warrenton VA 20187 United States;X-APPLE-RADIUS=500;X-TITLE=6712 Blantyre Road:geo:-77.7981971,38.7751537
END:VEVENT
END:VCALENDAR