BEGIN:VCALENDAR
VERSION:2.0
PRODID:-//The Clifton Institute - ECPv6.15.15//NONSGML v1.0//EN
CALSCALE:GREGORIAN
METHOD:PUBLISH
X-ORIGINAL-URL:https://cliftoninstitute.org
X-WR-CALDESC:Events for The Clifton Institute
REFRESH-INTERVAL;VALUE=DURATION:PT1H
X-Robots-Tag:noindex
X-PUBLISHED-TTL:PT1H
BEGIN:VTIMEZONE
TZID:America/New_York
BEGIN:DAYLIGHT
TZOFFSETFROM:-0500
TZOFFSETTO:-0400
TZNAME:EDT
DTSTART:20200308T070000
END:DAYLIGHT
BEGIN:STANDARD
TZOFFSETFROM:-0400
TZOFFSETTO:-0500
TZNAME:EST
DTSTART:20201101T060000
END:STANDARD
BEGIN:DAYLIGHT
TZOFFSETFROM:-0500
TZOFFSETTO:-0400
TZNAME:EDT
DTSTART:20210314T070000
END:DAYLIGHT
BEGIN:STANDARD
TZOFFSETFROM:-0400
TZOFFSETTO:-0500
TZNAME:EST
DTSTART:20211107T060000
END:STANDARD
BEGIN:DAYLIGHT
TZOFFSETFROM:-0500
TZOFFSETTO:-0400
TZNAME:EDT
DTSTART:20220313T070000
END:DAYLIGHT
BEGIN:STANDARD
TZOFFSETFROM:-0400
TZOFFSETTO:-0500
TZNAME:EST
DTSTART:20221106T060000
END:STANDARD
END:VTIMEZONE
BEGIN:VEVENT
DTSTART;TZID=America/New_York:20210908T090000
DTEND;TZID=America/New_York:20210908T120000
DTSTAMP:20260423T065747
CREATED:20210707T175820Z
LAST-MODIFIED:20210831T144924Z
UID:6134-1631091600-1631102400@cliftoninstitute.org
SUMMARY:Fall Nature School
DESCRIPTION:Back by popular demand…We’re offering another semester of Nature School this fall! Each class will include a structured learning activity on a particular topic and an exploratory nature walk. For example\, in the past we studied vultures\, bird eggs and nests\, leaf identification\, beaver dams\, and more. In this series\, we will learn about new and different topics as the seasons change\, so we invite returning and new Nature School students alike to sign up! \nCost: $80 for the series (includes 8 sessions lasting 3 hours each); $75 for Friends of Clifton \nAge: Students in grades K-5. This program is drop-off only. \nWhen: 9am to 12pm\, every other Wednesday. Dates for the fall semester include: Sep 8\, Sep 22\, Oct 6\, Oct 20\, Nov 3\, Nov 17\, Dec 1\, Dec 15. (Please note: No make-ups will be offered for missed classes.) \nWhere: The Clifton Institute (6712 Blantyre Rd. in Warrenton) \nWhat to wear: Dress for the weather and wear sturdy shoes. \nWhat to bring: Small backpack with the following items: Full water bottle\, towel/sheet to sit on\, and a mask (required to have\, not required to wear unless inside for inclement weather). \nWeather policy: Nature School will be held in light rain/snow\, but may be postponed or canceled in the event of extreme weather. We will communicate updates with parents via email\, the evening before the program date. \nRegistration REQUIRED: Registration is only available for the entire program series\, not for individual sessions. \nCancellation policy: NO REFUNDS will be given upon registrant cancellation. No make-ups or refunds will be offered for individual\, missed classes. Refunds will only be given in the event that The Clifton Institute cancels the program.
URL:https://cliftoninstitute.org/event/fall-nature-school/
LOCATION:The Clifton Institute\, 6712 Blantyre Road\, Warrenton\, VA\, 20187\, United States
CATEGORIES:Youth programs
GEO:38.7751537;-77.7981971
X-APPLE-STRUCTURED-LOCATION;VALUE=URI;X-ADDRESS=The Clifton Institute 6712 Blantyre Road Warrenton VA 20187 United States;X-APPLE-RADIUS=500;X-TITLE=6712 Blantyre Road:geo:-77.7981971,38.7751537
END:VEVENT
END:VCALENDAR