BEGIN:VCALENDAR
VERSION:2.0
PRODID:-//The Clifton Institute - ECPv6.15.15//NONSGML v1.0//EN
CALSCALE:GREGORIAN
METHOD:PUBLISH
X-ORIGINAL-URL:https://cliftoninstitute.org
X-WR-CALDESC:Events for The Clifton Institute
REFRESH-INTERVAL;VALUE=DURATION:PT1H
X-Robots-Tag:noindex
X-PUBLISHED-TTL:PT1H
BEGIN:VTIMEZONE
TZID:America/New_York
BEGIN:DAYLIGHT
TZOFFSETFROM:-0500
TZOFFSETTO:-0400
TZNAME:EDT
DTSTART:20230312T070000
END:DAYLIGHT
BEGIN:STANDARD
TZOFFSETFROM:-0400
TZOFFSETTO:-0500
TZNAME:EST
DTSTART:20231105T060000
END:STANDARD
BEGIN:DAYLIGHT
TZOFFSETFROM:-0500
TZOFFSETTO:-0400
TZNAME:EDT
DTSTART:20240310T070000
END:DAYLIGHT
BEGIN:STANDARD
TZOFFSETFROM:-0400
TZOFFSETTO:-0500
TZNAME:EST
DTSTART:20241103T060000
END:STANDARD
BEGIN:DAYLIGHT
TZOFFSETFROM:-0500
TZOFFSETTO:-0400
TZNAME:EDT
DTSTART:20250309T070000
END:DAYLIGHT
BEGIN:STANDARD
TZOFFSETFROM:-0400
TZOFFSETTO:-0500
TZNAME:EST
DTSTART:20251102T060000
END:STANDARD
END:VTIMEZONE
BEGIN:VEVENT
DTSTART;TZID=America/New_York:20240712T090000
DTEND;TZID=America/New_York:20240712T120000
DTSTAMP:20260421T165013
CREATED:20240523T181557Z
LAST-MODIFIED:20240605T153611Z
UID:17311-1720774800-1720785600@cliftoninstitute.org
SUMMARY:Locust Run Woodland Walk
DESCRIPTION:We’re partnering with the Piedmont chapter of the Virginia Native Plant Society for a special walk! This site hosts a nice variety of habitats from rich riparian forest dominated by Tulip Poplar\, Ironwood\, and Witch Hazel along Locust Run\, to open hilly forests. The property was clear-cut approximately 12 years ago\, and that disturbance has allowed the persistence of two patches of the globally rare and imperilled Torrey’s Mountain-mint. Other exciting open woodland species at the site include Featherbells (new for Fauquier County)\, Bashful Bullrush\, Clasping Milkweed\, Whorled Rosinweed\, Forked Bluecurls\, Rose-pink\, Allegheny Chinkapin\, and Bigtooth Aspen. The bedrock is metasandstone which leads to a very acidic soil in most areas\, but there are richer areas (Little Heartleaf) and clearly some basic areas as well (Maidenhair Spleenwort and Wood Anemone; new for Fauquier County). \nRegistration is through VNPS: https://www.eventbrite.com/e/locust-run-woodland-walk-tickets-902470622927
URL:https://cliftoninstitute.org/event/locust-run-woodland-walk/
LOCATION:The Clifton Institute\, 6712 Blantyre Road\, Warrenton\, VA\, 20187\, United States
CATEGORIES:Adult programs
ATTACH;FMTTYPE=image/png:https://cliftoninstitute.org/wp-content/uploads/2024/05/Locust-Run.png
GEO:38.7751537;-77.7981971
X-APPLE-STRUCTURED-LOCATION;VALUE=URI;X-ADDRESS=The Clifton Institute 6712 Blantyre Road Warrenton VA 20187 United States;X-APPLE-RADIUS=500;X-TITLE=6712 Blantyre Road:geo:-77.7981971,38.7751537
END:VEVENT
END:VCALENDAR