BEGIN:VCALENDAR
VERSION:2.0
PRODID:-//The Clifton Institute - ECPv6.15.15//NONSGML v1.0//EN
CALSCALE:GREGORIAN
METHOD:PUBLISH
X-ORIGINAL-URL:https://cliftoninstitute.org
X-WR-CALDESC:Events for The Clifton Institute
REFRESH-INTERVAL;VALUE=DURATION:PT1H
X-Robots-Tag:noindex
X-PUBLISHED-TTL:PT1H
BEGIN:VTIMEZONE
TZID:America/New_York
BEGIN:DAYLIGHT
TZOFFSETFROM:-0500
TZOFFSETTO:-0400
TZNAME:EDT
DTSTART:20220313T070000
END:DAYLIGHT
BEGIN:STANDARD
TZOFFSETFROM:-0400
TZOFFSETTO:-0500
TZNAME:EST
DTSTART:20221106T060000
END:STANDARD
BEGIN:DAYLIGHT
TZOFFSETFROM:-0500
TZOFFSETTO:-0400
TZNAME:EDT
DTSTART:20230312T070000
END:DAYLIGHT
BEGIN:STANDARD
TZOFFSETFROM:-0400
TZOFFSETTO:-0500
TZNAME:EST
DTSTART:20231105T060000
END:STANDARD
BEGIN:DAYLIGHT
TZOFFSETFROM:-0500
TZOFFSETTO:-0400
TZNAME:EDT
DTSTART:20240310T070000
END:DAYLIGHT
BEGIN:STANDARD
TZOFFSETFROM:-0400
TZOFFSETTO:-0500
TZNAME:EST
DTSTART:20241103T060000
END:STANDARD
END:VTIMEZONE
BEGIN:VEVENT
DTSTART;TZID=America/New_York:20230609T200000
DTEND;TZID=America/New_York:20230609T213000
DTSTAMP:20260422T124038
CREATED:20230310T210346Z
LAST-MODIFIED:20230420T152200Z
UID:13152-1686340800-1686346200@cliftoninstitute.org
SUMMARY:Firefly Walk
DESCRIPTION:Who doesn’t love fireflies? Many of us have fond memories of catching fireflies or watching a magical light show on a summer evening. But why do fireflies flash? What do they eat? How many species are there? And are fireflies disappearing? Learn all about these fascinating insects with Ariel Firebaugh\, firefly researcher and Director of Scientific Engagement at UVA’s Blandy Experimental Farm (Boyce\, VA). After a short talk\, we’ll walk around grounds\, practice identification\, and enjoy the light show! \nCost: $10 ($5 for Friends of Clifton) \nAge: Adults and children accompanied by an adult. \nBring: Please bring a flashlight. \nWeather policy: Date and time subject to change dependent on weather. Please check your email for updates on the morning of the event. \nCOVID-19 Information: This program will include a brief presentation indoors. We are requiring all participants to be fully vaccinated. We will ask to see vaccination cards. Please do not attend if you are experiencing or have experienced in the last two weeks any symptoms associated with COVID-19 (fever\, cough\, shortness of breath\, etc.). \nRegistration is REQUIRED. \nCancellation policy: If you register and can no longer attend this event\, please let us know as soon as possible so that we can open your spot to someone else. No refunds will be given upon registrant cancellation. \nBy registering for this event\, you are affirming that you have read and agree to our liability release policy. \nWe look forward to seeing you at the Clifton Institute!
URL:https://cliftoninstitute.org/event/firefly-walk/
LOCATION:The Clifton Institute\, 6712 Blantyre Road\, Warrenton\, VA\, 20187\, United States
CATEGORIES:Adult programs
ATTACH;FMTTYPE=image/png:https://cliftoninstitute.org/wp-content/uploads/2023/03/Firefly-Walk.png
GEO:38.7751537;-77.7981971
X-APPLE-STRUCTURED-LOCATION;VALUE=URI;X-ADDRESS=The Clifton Institute 6712 Blantyre Road Warrenton VA 20187 United States;X-APPLE-RADIUS=500;X-TITLE=6712 Blantyre Road:geo:-77.7981971,38.7751537
END:VEVENT
END:VCALENDAR