BEGIN:VCALENDAR
VERSION:2.0
PRODID:-//The Clifton Institute - ECPv6.15.15//NONSGML v1.0//EN
CALSCALE:GREGORIAN
METHOD:PUBLISH
X-ORIGINAL-URL:https://cliftoninstitute.org
X-WR-CALDESC:Events for The Clifton Institute
REFRESH-INTERVAL;VALUE=DURATION:PT1H
X-Robots-Tag:noindex
X-PUBLISHED-TTL:PT1H
BEGIN:VTIMEZONE
TZID:America/New_York
BEGIN:DAYLIGHT
TZOFFSETFROM:-0500
TZOFFSETTO:-0400
TZNAME:EDT
DTSTART:20220313T070000
END:DAYLIGHT
BEGIN:STANDARD
TZOFFSETFROM:-0400
TZOFFSETTO:-0500
TZNAME:EST
DTSTART:20221106T060000
END:STANDARD
BEGIN:DAYLIGHT
TZOFFSETFROM:-0500
TZOFFSETTO:-0400
TZNAME:EDT
DTSTART:20230312T070000
END:DAYLIGHT
BEGIN:STANDARD
TZOFFSETFROM:-0400
TZOFFSETTO:-0500
TZNAME:EST
DTSTART:20231105T060000
END:STANDARD
BEGIN:DAYLIGHT
TZOFFSETFROM:-0500
TZOFFSETTO:-0400
TZNAME:EDT
DTSTART:20240310T070000
END:DAYLIGHT
BEGIN:STANDARD
TZOFFSETFROM:-0400
TZOFFSETTO:-0500
TZNAME:EST
DTSTART:20241103T060000
END:STANDARD
END:VTIMEZONE
BEGIN:VEVENT
DTSTART;TZID=America/New_York:20230617T110000
DTEND;TZID=America/New_York:20230617T130000
DTSTAMP:20260421T220753
CREATED:20230310T211006Z
LAST-MODIFIED:20230310T211006Z
UID:13162-1686999600-1687006800@cliftoninstitute.org
SUMMARY:Dragonfly Identification Workshop
DESCRIPTION:Dragonflies and damselflies are some of the most mysterious and beautiful animals that live at the Clifton Institute\, and June is the perfect time to search for them. Join us for a workshop that will cover the basics of dragonfly identification and biology. We will then practice what we learned by visiting lakes\, streams\, and fish-free vernal pools\, each of which host distinct dragonfly communities. You are welcome to bring a lunch and eat on our picnic tables after the program. \nCost: Free! \nAge: Adults and children ages 12 and up\, accompanied by an adult. \nBring: Please bring binoculars if you have them. \nWeather policy: Date and time subject to change dependent on weather. Please check your email for updates on the morning of the event. \nCOVID-19 Information: This program will be entirely outdoors (an outside porta potty will be available). Please do not attend if you are experiencing or have experienced in the last two weeks any symptoms associated with COVID-19 (fever\, cough\, shortness of breath\, etc.). \nRegistration is REQUIRED. \nCancellation policy: If you register and can no longer attend this event\, please let us know as soon as possible so that we can open your spot to someone else. \nBy registering for this event\, you are affirming that you have read and agree to our liability release policy. \nWe look forward to seeing you at the Clifton Institute!
URL:https://cliftoninstitute.org/event/dragonfly-identification-workshop-2/
LOCATION:The Clifton Institute\, 6712 Blantyre Road\, Warrenton\, VA\, 20187\, United States
CATEGORIES:Adult programs
ATTACH;FMTTYPE=image/png:https://cliftoninstitute.org/wp-content/uploads/2023/03/Dragonfly-Workshop.png
GEO:38.7751537;-77.7981971
X-APPLE-STRUCTURED-LOCATION;VALUE=URI;X-ADDRESS=The Clifton Institute 6712 Blantyre Road Warrenton VA 20187 United States;X-APPLE-RADIUS=500;X-TITLE=6712 Blantyre Road:geo:-77.7981971,38.7751537
END:VEVENT
END:VCALENDAR