BEGIN:VCALENDAR
VERSION:2.0
PRODID:-//The Clifton Institute - ECPv6.15.15//NONSGML v1.0//EN
CALSCALE:GREGORIAN
METHOD:PUBLISH
X-WR-CALNAME:The Clifton Institute
X-ORIGINAL-URL:https://cliftoninstitute.org
X-WR-CALDESC:Events for The Clifton Institute
REFRESH-INTERVAL;VALUE=DURATION:PT1H
X-Robots-Tag:noindex
X-PUBLISHED-TTL:PT1H
BEGIN:VTIMEZONE
TZID:America/New_York
BEGIN:DAYLIGHT
TZOFFSETFROM:-0500
TZOFFSETTO:-0400
TZNAME:EDT
DTSTART:20220313T070000
END:DAYLIGHT
BEGIN:STANDARD
TZOFFSETFROM:-0400
TZOFFSETTO:-0500
TZNAME:EST
DTSTART:20221106T060000
END:STANDARD
BEGIN:DAYLIGHT
TZOFFSETFROM:-0500
TZOFFSETTO:-0400
TZNAME:EDT
DTSTART:20230312T070000
END:DAYLIGHT
BEGIN:STANDARD
TZOFFSETFROM:-0400
TZOFFSETTO:-0500
TZNAME:EST
DTSTART:20231105T060000
END:STANDARD
BEGIN:DAYLIGHT
TZOFFSETFROM:-0500
TZOFFSETTO:-0400
TZNAME:EDT
DTSTART:20240310T070000
END:DAYLIGHT
BEGIN:STANDARD
TZOFFSETFROM:-0400
TZOFFSETTO:-0500
TZNAME:EST
DTSTART:20241103T060000
END:STANDARD
END:VTIMEZONE
BEGIN:VEVENT
DTSTART;TZID=America/New_York:20230127T190000
DTEND;TZID=America/New_York:20230127T200000
DTSTAMP:20260423T171000
CREATED:20221028T202108Z
LAST-MODIFIED:20230127T135301Z
UID:11628-1674846000-1674849600@cliftoninstitute.org
SUMMARY:Research Talk: American Kestrel Nesting Habitat
DESCRIPTION:Link to Zoom webinar: https://us06web.zoom.us/j/87576436084\n**This is a virtual event** \nJoin Executive Director Bert Harris to hear the latest on our American Kestrel research. We have been studying these declining falcons for two years and we have learned so much about the habitats they use for hunting. Cattle pastures are preferred over all other kinds of fields and we are trying to find out why. We also now know that at least some of northern Virginia’s kestrels are migratory and that their territories are smaller here than in other parts of North America. This research is a collaborative project with Joe Kolowski from the Smithsonian Conservation Biology Institute and Alan Williams. The work is funded by the Raines Family Fund\, BAND Foundation\, Nick Lapham\, the Virginia Society of Ornithology\, the Washington Biologists Field Club\, and Janine Moseley. \nWe will send a link to the Zoom meeting a few days prior to the talk. Please make sure your email address is up to date! \nCost: Free! \nAge:  All ages. \nRegistration is REQUIRED. \nWe look forward to seeing you then! \n  \n 
URL:https://cliftoninstitute.org/event/research-talk-american-kestrel-nesting-habitat-2/
LOCATION:The Clifton Institute\, 6712 Blantyre Road\, Warrenton\, VA\, 20187\, United States
CATEGORIES:Adult programs
ATTACH;FMTTYPE=image/png:https://cliftoninstitute.org/wp-content/uploads/2022/10/Kestrel-Talk-.png
GEO:38.7751537;-77.7981971
X-APPLE-STRUCTURED-LOCATION;VALUE=URI;X-ADDRESS=The Clifton Institute 6712 Blantyre Road Warrenton VA 20187 United States;X-APPLE-RADIUS=500;X-TITLE=6712 Blantyre Road:geo:-77.7981971,38.7751537
END:VEVENT
END:VCALENDAR