BEGIN:VCALENDAR
VERSION:2.0
PRODID:-//The Clifton Institute - ECPv6.15.15//NONSGML v1.0//EN
CALSCALE:GREGORIAN
METHOD:PUBLISH
X-WR-CALNAME:The Clifton Institute
X-ORIGINAL-URL:https://cliftoninstitute.org
X-WR-CALDESC:Events for The Clifton Institute
REFRESH-INTERVAL;VALUE=DURATION:PT1H
X-Robots-Tag:noindex
X-PUBLISHED-TTL:PT1H
BEGIN:VTIMEZONE
TZID:America/New_York
BEGIN:DAYLIGHT
TZOFFSETFROM:-0500
TZOFFSETTO:-0400
TZNAME:EDT
DTSTART:20250309T070000
END:DAYLIGHT
BEGIN:STANDARD
TZOFFSETFROM:-0400
TZOFFSETTO:-0500
TZNAME:EST
DTSTART:20251102T060000
END:STANDARD
BEGIN:DAYLIGHT
TZOFFSETFROM:-0500
TZOFFSETTO:-0400
TZNAME:EDT
DTSTART:20260308T070000
END:DAYLIGHT
BEGIN:STANDARD
TZOFFSETFROM:-0400
TZOFFSETTO:-0500
TZNAME:EST
DTSTART:20261101T060000
END:STANDARD
BEGIN:DAYLIGHT
TZOFFSETFROM:-0500
TZOFFSETTO:-0400
TZNAME:EDT
DTSTART:20270314T070000
END:DAYLIGHT
BEGIN:STANDARD
TZOFFSETFROM:-0400
TZOFFSETTO:-0500
TZNAME:EST
DTSTART:20271107T060000
END:STANDARD
END:VTIMEZONE
BEGIN:VEVENT
DTSTART;TZID=America/New_York:20260421T090000
DTEND;TZID=America/New_York:20260421T160000
DTSTAMP:20260420T013812
CREATED:20260227T185517Z
LAST-MODIFIED:20260227T185517Z
UID:24033-1776762000-1776787200@cliftoninstitute.org
SUMMARY:Open-access Day for Friends of the Clifton Institute
DESCRIPTION:We invite Friends of the Clifton Institute to come explore the field station on their own every Saturday and Tuesday from mid-January to mid-October. You can become a Friend of Clifton with a minimum annual donation of $40. Your support will help us reach our goals of expanding and improving our education\, restoration\, and research programs this year. Thank you! \nBefore attending an open-access day\, please read the information included on our liability release form (click here). As you walk our trails\, you can help us take care of the field station by keeping your eyes and ears open to help us learn about the ecosystem we’re a part of and by enjoying and respecting the plants and animals that live here. \n\nA trail map is available here. Please note that some trails are in the process of being built and many are not marked. Navigation skills and a GPS are recommended. Please stay on the trails\, use common sense\, and proceed at your own risk. \nThe farmhouse is closed to all visitors at this time. There are port-a-potties available in both parking lots. \nWe reserve the right to deny access to our property to anyone who does not obey the rules posted below or is otherwise disruptive to our field station operations. \n\nOn open-access days\, you may park either at the lower parking area (“the Gap”) or at the farm house.\nAll children under the age of 18 must be accompanied by an adult.\nYou are welcome to bring your family with you on open-access days. One or two visitors are acceptable as well\, but if this starts to be abused we reserve the right to limit the benefit to family members.\nNo dogs are permitted.\nLeave no trace. We expect you to take all litter with you. It would be even better if you helped us pick up any litter you find! We do not have trash collection facilities.\nTake nothing but photographs. We use our trails to teach kids about the environment and their experiences are much richer if there are still feathers and bones and everything else for them to look at.\nNo swimming\, fishing\, boating\, or any other entry in the ponds.\nNo alcohol is permitted.\nNo horses\, bicycles\, automobiles\, ATVs\, or any other vehicles are allowed on the trails.\nNo hunting is permitted.
URL:https://cliftoninstitute.org/event/open-access-day-for-friends-of-the-clifton-institute-7/2026-04-21/
LOCATION:The Clifton Institute\, 6712 Blantyre Road\, Warrenton\, VA\, 20187\, United States
CATEGORIES:Open Access days
ATTACH;FMTTYPE=image/png:https://cliftoninstitute.org/wp-content/uploads/2022/04/Copy-of-open-access-day1.png
GEO:38.7751537;-77.7981971
X-APPLE-STRUCTURED-LOCATION;VALUE=URI;X-ADDRESS=The Clifton Institute 6712 Blantyre Road Warrenton VA 20187 United States;X-APPLE-RADIUS=500;X-TITLE=6712 Blantyre Road:geo:-77.7981971,38.7751537
END:VEVENT
BEGIN:VEVENT
DTSTART;TZID=America/New_York:20260425T070000
DTEND;TZID=America/New_York:20260425T090000
DTSTAMP:20260420T013812
CREATED:20260115T163823Z
LAST-MODIFIED:20260115T163823Z
UID:22983-1777100400-1777107600@cliftoninstitute.org
SUMMARY:Bird Walk
DESCRIPTION:Come join us to birdwatch around the field station! \nCost: Free! \nAge: Adults and children accompanied by an adult. \nWeather policy: Rain or shine except in case of extreme weather (e.g. thunderstorm or significant snow fall). \nRegistration is REQUIRED. \nCancellation policy: If you register and can no longer attend this event\, please let us know as soon as possible so that we can open your spot to someone else. \nBy registering for this event\, you are affirming that you have read and agree to our liability release policy. \nWe look forward to seeing you at the Clifton Institute.
URL:https://cliftoninstitute.org/event/bird-walk-98/
LOCATION:The Clifton Institute\, 6712 Blantyre Road\, Warrenton\, VA\, 20187\, United States
CATEGORIES:Adult programs
ATTACH;FMTTYPE=image/png:https://cliftoninstitute.org/wp-content/uploads/2021/09/monthly-bird-walks-2.5-1.png
GEO:38.7751537;-77.7981971
X-APPLE-STRUCTURED-LOCATION;VALUE=URI;X-ADDRESS=The Clifton Institute 6712 Blantyre Road Warrenton VA 20187 United States;X-APPLE-RADIUS=500;X-TITLE=6712 Blantyre Road:geo:-77.7981971,38.7751537
END:VEVENT
BEGIN:VEVENT
DTSTART;TZID=America/New_York:20260425T090000
DTEND;TZID=America/New_York:20260425T160000
DTSTAMP:20260420T013812
CREATED:20260227T185315Z
LAST-MODIFIED:20260227T185315Z
UID:24000-1777107600-1777132800@cliftoninstitute.org
SUMMARY:Open-access Day for Friends of the Clifton Institute
DESCRIPTION:We invite Friends of the Clifton Institute to come explore the field station on their own every Saturday from mid-January to mid-October. You can become a Friend of Clifton with a minimum annual donation of $40. Your support will help us reach our goals of expanding and improving our education\, restoration\, and research programs this year. Thank you! \nBefore attending an open-access day\, please read the information included on our liability release form (click here). As you walk our trails\, you can help us take care of the field station by keeping your eyes and ears open to help us learn about the ecosystem we’re a part of and by enjoying and respecting the plants and animals that live here. \n\nA trail map is available here. Please note that some trails are in the process of being built and many are not marked. Navigation skills and a GPS are recommended. Please stay on the trails\, use common sense\, and proceed at your own risk. \nThe farmhouse is closed to all visitors at this time. There are port-a-potties available in both parking lots. \nWe reserve the right to deny access to our property to anyone who does not obey the rules posted below or is otherwise disruptive to our field station operations. \n\nOn open-access days\, you may park either at the lower parking area (“the Gap”) or at the farm house.\nAll children under the age of 18 must be accompanied by an adult.\nYou are welcome to bring your family with you on open-access days. One or two visitors are acceptable as well\, but if this starts to be abused we reserve the right to limit the benefit to family members.\nNo dogs are permitted.\nLeave no trace. We expect you to take all litter with you. It would be even better if you helped us pick up any litter you find! We do not have trash collection facilities.\nTake nothing but photographs. We use our trails to teach kids about the environment and their experiences are much richer if there are still feathers and bones and everything else for them to look at.\nNo swimming\, fishing\, boating\, or any other entry in the ponds.\nNo alcohol is permitted.\nNo horses\, bicycles\, automobiles\, ATVs\, or any other vehicles are allowed on the trails.\nNo hunting is permitted.
URL:https://cliftoninstitute.org/event/open-access-day-for-friends-of-the-clifton-institute-6/2026-04-25/
LOCATION:The Clifton Institute\, 6712 Blantyre Road\, Warrenton\, VA\, 20187\, United States
CATEGORIES:Open Access days
ATTACH;FMTTYPE=image/png:https://cliftoninstitute.org/wp-content/uploads/2022/04/Copy-of-open-access-day1.png
GEO:38.7751537;-77.7981971
X-APPLE-STRUCTURED-LOCATION;VALUE=URI;X-ADDRESS=The Clifton Institute 6712 Blantyre Road Warrenton VA 20187 United States;X-APPLE-RADIUS=500;X-TITLE=6712 Blantyre Road:geo:-77.7981971,38.7751537
END:VEVENT
BEGIN:VEVENT
DTSTART;TZID=America/New_York:20260425T130000
DTEND;TZID=America/New_York:20260425T150000
DTSTAMP:20260420T013812
CREATED:20260115T163316Z
LAST-MODIFIED:20260115T163316Z
UID:22980-1777122000-1777129200@cliftoninstitute.org
SUMMARY:Walk With A Naturalist
DESCRIPTION:Join us for a walk around the field station to see what we can see! Led by a staff naturalist\, we’ll encounter birds\, bugs\, plants and more. \nCost: Free! \nAge: Adults and children accompanied by an adult. \nWeather policy: Date and time subject to change dependent on weather. Please check your email for updates on the morning of the event. \nRegistration is REQUIRED. \nCancellation policy: If you register and can no longer attend this event\, please let us know as soon as possible so that we can open your spot to someone else. \nBy registering for this event\, you are affirming that you have read and agree to our liability release policy. \nWe look forward to seeing you at the Clifton Institute!
URL:https://cliftoninstitute.org/event/walk-with-a-naturalist-40/
LOCATION:The Clifton Institute\, 6712 Blantyre Road\, Warrenton\, VA\, 20187\, United States
CATEGORIES:Adult programs
ATTACH;FMTTYPE=image/png:https://cliftoninstitute.org/wp-content/uploads/2023/01/walk-with-a-naturalist-1.png
GEO:38.7751537;-77.7981971
X-APPLE-STRUCTURED-LOCATION;VALUE=URI;X-ADDRESS=The Clifton Institute 6712 Blantyre Road Warrenton VA 20187 United States;X-APPLE-RADIUS=500;X-TITLE=6712 Blantyre Road:geo:-77.7981971,38.7751537
END:VEVENT
BEGIN:VEVENT
DTSTART;TZID=America/New_York:20260428T090000
DTEND;TZID=America/New_York:20260428T160000
DTSTAMP:20260420T013812
CREATED:20260227T185517Z
LAST-MODIFIED:20260227T185517Z
UID:24034-1777366800-1777392000@cliftoninstitute.org
SUMMARY:Open-access Day for Friends of the Clifton Institute
DESCRIPTION:We invite Friends of the Clifton Institute to come explore the field station on their own every Saturday and Tuesday from mid-January to mid-October. You can become a Friend of Clifton with a minimum annual donation of $40. Your support will help us reach our goals of expanding and improving our education\, restoration\, and research programs this year. Thank you! \nBefore attending an open-access day\, please read the information included on our liability release form (click here). As you walk our trails\, you can help us take care of the field station by keeping your eyes and ears open to help us learn about the ecosystem we’re a part of and by enjoying and respecting the plants and animals that live here. \n\nA trail map is available here. Please note that some trails are in the process of being built and many are not marked. Navigation skills and a GPS are recommended. Please stay on the trails\, use common sense\, and proceed at your own risk. \nThe farmhouse is closed to all visitors at this time. There are port-a-potties available in both parking lots. \nWe reserve the right to deny access to our property to anyone who does not obey the rules posted below or is otherwise disruptive to our field station operations. \n\nOn open-access days\, you may park either at the lower parking area (“the Gap”) or at the farm house.\nAll children under the age of 18 must be accompanied by an adult.\nYou are welcome to bring your family with you on open-access days. One or two visitors are acceptable as well\, but if this starts to be abused we reserve the right to limit the benefit to family members.\nNo dogs are permitted.\nLeave no trace. We expect you to take all litter with you. It would be even better if you helped us pick up any litter you find! We do not have trash collection facilities.\nTake nothing but photographs. We use our trails to teach kids about the environment and their experiences are much richer if there are still feathers and bones and everything else for them to look at.\nNo swimming\, fishing\, boating\, or any other entry in the ponds.\nNo alcohol is permitted.\nNo horses\, bicycles\, automobiles\, ATVs\, or any other vehicles are allowed on the trails.\nNo hunting is permitted.
URL:https://cliftoninstitute.org/event/open-access-day-for-friends-of-the-clifton-institute-7/2026-04-28/
LOCATION:The Clifton Institute\, 6712 Blantyre Road\, Warrenton\, VA\, 20187\, United States
CATEGORIES:Open Access days
ATTACH;FMTTYPE=image/png:https://cliftoninstitute.org/wp-content/uploads/2022/04/Copy-of-open-access-day1.png
GEO:38.7751537;-77.7981971
X-APPLE-STRUCTURED-LOCATION;VALUE=URI;X-ADDRESS=The Clifton Institute 6712 Blantyre Road Warrenton VA 20187 United States;X-APPLE-RADIUS=500;X-TITLE=6712 Blantyre Road:geo:-77.7981971,38.7751537
END:VEVENT
END:VCALENDAR