BEGIN:VCALENDAR
VERSION:2.0
PRODID:-//The Clifton Institute - ECPv6.15.15//NONSGML v1.0//EN
CALSCALE:GREGORIAN
METHOD:PUBLISH
X-ORIGINAL-URL:https://cliftoninstitute.org
X-WR-CALDESC:Events for The Clifton Institute
REFRESH-INTERVAL;VALUE=DURATION:PT1H
X-Robots-Tag:noindex
X-PUBLISHED-TTL:PT1H
BEGIN:VTIMEZONE
TZID:America/New_York
BEGIN:DAYLIGHT
TZOFFSETFROM:-0500
TZOFFSETTO:-0400
TZNAME:EDT
DTSTART:20230312T070000
END:DAYLIGHT
BEGIN:STANDARD
TZOFFSETFROM:-0400
TZOFFSETTO:-0500
TZNAME:EST
DTSTART:20231105T060000
END:STANDARD
BEGIN:DAYLIGHT
TZOFFSETFROM:-0500
TZOFFSETTO:-0400
TZNAME:EDT
DTSTART:20240310T070000
END:DAYLIGHT
BEGIN:STANDARD
TZOFFSETFROM:-0400
TZOFFSETTO:-0500
TZNAME:EST
DTSTART:20241103T060000
END:STANDARD
BEGIN:DAYLIGHT
TZOFFSETFROM:-0500
TZOFFSETTO:-0400
TZNAME:EDT
DTSTART:20250309T070000
END:DAYLIGHT
BEGIN:STANDARD
TZOFFSETFROM:-0400
TZOFFSETTO:-0500
TZNAME:EST
DTSTART:20251102T060000
END:STANDARD
END:VTIMEZONE
BEGIN:VEVENT
DTSTART;TZID=America/New_York:20240110T080000
DTEND;TZID=America/New_York:20240110T100000
DTSTAMP:20260423T193306
CREATED:20231129T152437Z
LAST-MODIFIED:20231129T152437Z
UID:15472-1704873600-1704880800@cliftoninstitute.org
SUMMARY:Bird Walk
DESCRIPTION:Cost: Free! \nAge: Adults and children accompanied by an adult. \nWeather policy: Rain or shine except in case of extreme weather (e.g. thunderstorm or significant snow fall). / \nCOVID-19 Information: This program will be entirely outdoors (an outside porta potty will be available). Please do not attend if you are experiencing or have experienced in the last two weeks any symptoms associated with COVID-19 (fever\, cough\, shortness of breath\, etc.). \nRegistration is REQUIRED. \nCancellation policy: If you register and can no longer attend this event\, please let us know as soon as possible so that we can open your spot to someone else. \nBy registering for this event\, you are affirming that you have read and agree to our liability release policy. \nWe look forward to seeing you at the Clifton Institute!
URL:https://cliftoninstitute.org/event/bird-walk-51/
LOCATION:The Clifton Institute\, 6712 Blantyre Road\, Warrenton\, VA\, 20187\, United States
CATEGORIES:Adult programs
ATTACH;FMTTYPE=image/png:https://cliftoninstitute.org/wp-content/uploads/2021/09/monthly-bird-walks-2.5-1.png
GEO:38.7751537;-77.7981971
X-APPLE-STRUCTURED-LOCATION;VALUE=URI;X-ADDRESS=The Clifton Institute 6712 Blantyre Road Warrenton VA 20187 United States;X-APPLE-RADIUS=500;X-TITLE=6712 Blantyre Road:geo:-77.7981971,38.7751537
END:VEVENT
BEGIN:VEVENT
DTSTART;TZID=America/New_York:20240113T080000
DTEND;TZID=America/New_York:20240113T160000
DTSTAMP:20260423T193306
CREATED:20231118T230640Z
LAST-MODIFIED:20231118T230640Z
UID:15380-1705132800-1705161600@cliftoninstitute.org
SUMMARY:Open-access Day for Friends of the Clifton Institute
DESCRIPTION:We invite Friends of the Clifton Institute to come explore the field station on their own every Saturday from mid-January to mid-October. You can become a Friend of Clifton with a minimum annual donation of $40. Your support will help us reach our goals of expanding and improving our education\, restoration\, and research programs this year. Thank you!\n\nBefore attending an open-access day\, please read the information included on our liability release form (click here). As you walk our trails\, you can help us take care of the field station by keeping your eyes and ears open to help us learn about the ecosystem we’re a part of and by enjoying and respecting the plants and animals that live here.\n\n\n\nA trail map is available here. Please note that some trails are in the process of being built and many are not marked. Navigation skills and a GPS are recommended. Please stay on the trails\, use common sense\, and proceed at your own risk. \nThe farmhouse is closed to all visitors at this time. There are port-a-potties available in both parking lots. \nWe reserve the right to deny access to our property to anyone who does not obey the rules posted below or is otherwise disruptive to our field station operations. \n\nOn open-access days\, you may park either at the lower parking area (“the Gap”) or at the farm house.\nAll children under the age of 18 must be accompanied by an adult.\nYou are welcome to bring your family with you on open-access days. One or two visitors are acceptable as well\, but if this starts to be abused we reserve the right to limit the benefit to family members.\nNo dogs are permitted.\nLeave no trace. We expect you to take all litter with you. It would be even better if you helped us pick up any litter you find! We do not have trash collection facilities.\nTake nothing but photographs. We use our trails to teach kids about the environment and their experiences are much richer if there are still feathers and bones and everything else for them to look at.\nNo swimming\, fishing\, boating\, or any other entry in the ponds.\nNo alcohol is permitted.\nNo horses\, bicycles\, automobiles\, ATVs\, or any other vehicles are allowed on the trails.\nNo hunting is permitted.\n\n 
URL:https://cliftoninstitute.org/event/open-access-day-for-friends-of-the-clifton-institute-3/2024-01-13/
LOCATION:The Clifton Institute\, 6712 Blantyre Road\, Warrenton\, VA\, 20187\, United States
CATEGORIES:Open Access days
ATTACH;FMTTYPE=image/png:https://cliftoninstitute.org/wp-content/uploads/2022/04/Copy-of-open-access-day1.png
GEO:38.7751537;-77.7981971
X-APPLE-STRUCTURED-LOCATION;VALUE=URI;X-ADDRESS=The Clifton Institute 6712 Blantyre Road Warrenton VA 20187 United States;X-APPLE-RADIUS=500;X-TITLE=6712 Blantyre Road:geo:-77.7981971,38.7751537
END:VEVENT
BEGIN:VEVENT
DTSTART;TZID=America/New_York:20240113T090000
DTEND;TZID=America/New_York:20240113T120000
DTSTAMP:20260423T193306
CREATED:20231220T182743Z
LAST-MODIFIED:20231220T182743Z
UID:15692-1705136400-1705147200@cliftoninstitute.org
SUMMARY:Volunteer day: Invasive Removal
DESCRIPTION:Invasive plant species crowd out native plants and provide little to no food for native animals. Please bring work gloves and clippers if you have them. \n\nAge: Adults only and children ages 12 and up\, accompanied by an adult. \n\n\nWeather policy: Date and time subject to change dependent on weather. Please check your email for updates on the morning of the event. \n\n\nCOVID-19 Information: This program will be entirely outdoors (an outside port-o-potty will be available). Please do not attend if you are experiencing or have experienced in the last two weeks any symptoms associated with COVID-19 (fever\, cough\, shortness of breath\, etc.). \n\n\nRegistration is REQUIRED so that we can communicate with you in case of changes.\n \n\n\nBefore attending this event\, please read the information included on our liability release form (click here). \n\n\nWe look forward to seeing you at the Clifton Institute!
URL:https://cliftoninstitute.org/event/volunteer-day-invasive-removal-7/
LOCATION:The Clifton Institute\, 6712 Blantyre Road\, Warrenton\, VA\, 20187\, United States
CATEGORIES:Volunteer days
ATTACH;FMTTYPE=image/png:https://cliftoninstitute.org/wp-content/uploads/2022/04/Copy-of-volunteer-day-2.5.png
GEO:38.7751537;-77.7981971
X-APPLE-STRUCTURED-LOCATION;VALUE=URI;X-ADDRESS=The Clifton Institute 6712 Blantyre Road Warrenton VA 20187 United States;X-APPLE-RADIUS=500;X-TITLE=6712 Blantyre Road:geo:-77.7981971,38.7751537
END:VEVENT
BEGIN:VEVENT
DTSTART;TZID=America/New_York:20240113T100000
DTEND;TZID=America/New_York:20240113T120000
DTSTAMP:20260423T193306
CREATED:20231129T153140Z
LAST-MODIFIED:20231129T153140Z
UID:15479-1705140000-1705147200@cliftoninstitute.org
SUMMARY:Family Nature Walk
DESCRIPTION:Families with children in grades K-8 are invited to come along as we explore the field station. This program is a wonderful opportunity for families to explore nature together. We pick a different trail to explore each month and usually move slowly as we stop often to look at and learn about the plants and animals that live in Northern Virginia. \nCost: Free! \nAge: Families with children in grades K-8. \nWeather policy: Rain or shine except in case of extreme weather (e.g. thunderstorm or significant snow fall). \nCOVID-19 Information: This program will be entirely outdoors (an outside porta potty will be available). Please do not attend if you are experiencing or have experienced in the last two weeks any symptoms associated with COVID-19 (fever\, cough\, shortness of breath\, etc.). \nRegistration is REQUIRED. \nCancellation policy: If you register and can no longer attend this event\, please let us know as soon as possible so that we can open your spot to someone else. \nBy registering for this event\, you are affirming that you have read and agree to our liability release policy. \nWe look forward to seeing you at the Clifton Institute!
URL:https://cliftoninstitute.org/event/family-nature-walk-16/
LOCATION:The Clifton Institute\, 6712 Blantyre Road\, Warrenton\, VA\, 20187\, United States
CATEGORIES:Family programs
ATTACH;FMTTYPE=image/png:https://cliftoninstitute.org/wp-content/uploads/2021/09/family-nature-walks-2.5.png
GEO:38.7751537;-77.7981971
X-APPLE-STRUCTURED-LOCATION;VALUE=URI;X-ADDRESS=The Clifton Institute 6712 Blantyre Road Warrenton VA 20187 United States;X-APPLE-RADIUS=500;X-TITLE=6712 Blantyre Road:geo:-77.7981971,38.7751537
END:VEVENT
BEGIN:VEVENT
DTSTART;TZID=America/New_York:20240113T130000
DTEND;TZID=America/New_York:20240113T150000
DTSTAMP:20260423T193306
CREATED:20231129T161909Z
LAST-MODIFIED:20231129T201107Z
UID:15489-1705150800-1705158000@cliftoninstitute.org
SUMMARY:Winter Tree Identification
DESCRIPTION:Winter is a great time of year to learn how to identify trees and to practice looking at bark and twigs. We will start this program with a brief presentation indoors about the tips and tricks to identify the most common trees in our forests. Then we will take you on a mile-long walk in the woods to practice. This program is meant for beginners. Advanced botanists are welcome but you may teach us more than we teach you! If you would like to start practicing now or if you would like to bring some resources with you\, we recommend the book Winter Tree Finder by May Theilgaard Watts and Tom Watts and the Flora of Virginia app. \nCost: Free! \nAge: Adults and children ages 12 and up\, accompanied by an adult. \nWeather policy: Date and time subject to change dependent on weather. Please check your email for updates on the morning of the event. \nCOVID-19 Information: This program will be entirely outdoors (an outside porta potty will be available). Please do not attend if you are experiencing or have experienced in the last two weeks any symptoms associated with COVID-19 (fever\, cough\, shortness of breath\, etc.). \nRegistration is REQUIRED. \nCancellation policy: If you register and can no longer attend this event\, please let us know as soon as possible so that we can open your spot to someone else. \nBy registering for this event\, you are affirming that you have read and agree to our liability release policy. \nWe look forward to seeing you at the Clifton Institute!
URL:https://cliftoninstitute.org/event/winter-tree-identification/
LOCATION:The Clifton Institute\, 6712 Blantyre Road\, Warrenton\, VA\, 20187\, United States
CATEGORIES:Adult programs
ATTACH;FMTTYPE=image/png:https://cliftoninstitute.org/wp-content/uploads/2022/10/Winter-Tree-ID.png
GEO:38.7751537;-77.7981971
X-APPLE-STRUCTURED-LOCATION;VALUE=URI;X-ADDRESS=The Clifton Institute 6712 Blantyre Road Warrenton VA 20187 United States;X-APPLE-RADIUS=500;X-TITLE=6712 Blantyre Road:geo:-77.7981971,38.7751537
END:VEVENT
BEGIN:VEVENT
DTSTART;TZID=America/New_York:20240120T083000
DTEND;TZID=America/New_York:20240120T103000
DTSTAMP:20260423T193306
CREATED:20231129T152819Z
LAST-MODIFIED:20240118T162147Z
UID:15475-1705739400-1705746600@cliftoninstitute.org
SUMMARY:**Cancelled** Bird Walk
DESCRIPTION:**THIS EVENT HAS BEEN CANCELLED DUE TO WEATHER** \nCost: Free! \nAge: Adults and children accompanied by an adult. \nWeather policy: Rain or shine except in case of extreme weather (e.g. thunderstorm or significant snow fall). / \nCOVID-19 Information: This program will be entirely outdoors (an outside porta potty will be available). Please do not attend if you are experiencing or have experienced in the last two weeks any symptoms associated with COVID-19 (fever\, cough\, shortness of breath\, etc.). \nRegistration is REQUIRED. \nCancellation policy: If you register and can no longer attend this event\, please let us know as soon as possible so that we can open your spot to someone else. \nBy registering for this event\, you are affirming that you have read and agree to our liability release policy. \nWe look forward to seeing you at the Clifton Institute!
URL:https://cliftoninstitute.org/event/bird-walk-52/
LOCATION:The Clifton Institute\, 6712 Blantyre Road\, Warrenton\, VA\, 20187\, United States
CATEGORIES:Adult programs
ATTACH;FMTTYPE=image/png:https://cliftoninstitute.org/wp-content/uploads/2021/09/monthly-bird-walks-2.5-1.png
GEO:38.7751537;-77.7981971
X-APPLE-STRUCTURED-LOCATION;VALUE=URI;X-ADDRESS=The Clifton Institute 6712 Blantyre Road Warrenton VA 20187 United States;X-APPLE-RADIUS=500;X-TITLE=6712 Blantyre Road:geo:-77.7981971,38.7751537
END:VEVENT
BEGIN:VEVENT
DTSTART;TZID=America/New_York:20240120T100000
DTEND;TZID=America/New_York:20240120T160000
DTSTAMP:20260423T193306
CREATED:20231129T153803Z
LAST-MODIFIED:20240118T150907Z
UID:15482-1705744800-1705766400@cliftoninstitute.org
SUMMARY:*POSTPONED TO Feb 17th* Walk with a Naturalist: All-day Hike
DESCRIPTION:On this special Walk with a Naturalist\, we will walk one of the longer trails on our property. We expect to walk about 5 miles on varied terrain\, some of which is steep\, but we’ll go slow as we look for plants and animals! Please bring a lunch and / or snacks to eat on the trail and dress for the weather. \n\nCost: Free! \nAge: Adults and children 12 and up accompanied by an adult. \nWeather policy: Date and time subject to change dependent on weather. Please check your email for updates on the morning of the event. \nCOVID-19 Information: This program will be entirely outdoors (an outside porta potty will be available). Please do not attend if you are experiencing or have experienced in the last two weeks any symptoms associated with COVID-19 (fever\, cough\, shortness of breath\, etc.). \nRegistration is REQUIRED. \nCancellation policy: If you register and can no longer attend this event\, please let us know as soon as possible so that we can open your spot to someone else. \nBy registering for this event\, you are affirming that you have read and agree to our liability release policy. \nWe look forward to seeing you at the Clifton Institute!
URL:https://cliftoninstitute.org/event/walk-with-a-naturalist-all-day-hike/
LOCATION:The Clifton Institute\, 6712 Blantyre Road\, Warrenton\, VA\, 20187\, United States
CATEGORIES:Adult programs
ATTACH;FMTTYPE=image/png:https://cliftoninstitute.org/wp-content/uploads/2023/01/walk-with-a-naturalist-1.png
GEO:38.7751537;-77.7981971
X-APPLE-STRUCTURED-LOCATION;VALUE=URI;X-ADDRESS=The Clifton Institute 6712 Blantyre Road Warrenton VA 20187 United States;X-APPLE-RADIUS=500;X-TITLE=6712 Blantyre Road:geo:-77.7981971,38.7751537
END:VEVENT
BEGIN:VEVENT
DTSTART;TZID=America/New_York:20240127T090000
DTEND;TZID=America/New_York:20240127T120000
DTSTAMP:20260423T193306
CREATED:20231220T183157Z
LAST-MODIFIED:20231220T183157Z
UID:15695-1706346000-1706356800@cliftoninstitute.org
SUMMARY:Volunteer Day: Vernal Pool Cleanup
DESCRIPTION:We are seeking volunteers to help cleanup the areas around our vernal pools in preparation for our local salamanders! \nCost: Free! \nAge: Adults and children ages 12 and up\, accompanied by an adult. \nWeather policy: Date and time subject to change dependent on weather. Please check your email for updates on the morning of the event. \nCOVID-19 Information: This program will be entirely outdoors (an outside porta potty will be available). Please do not attend if you are experiencing or have experienced in the last two weeks any symptoms associated with COVID-19 (fever\, cough\, shortness of breath\, etc.). \nRegistration is REQUIRED. \nCancellation policy: If you register and can no longer attend this event\, please let us know as soon as possible so that we can open your spot to someone else. \nBy registering for this event\, you are affirming that you have read and agree to our liability release policy. \nWe look forward to seeing you at the Clifton Institute!
URL:https://cliftoninstitute.org/event/volunteer-day-vernal-pool-cleanup/
LOCATION:The Clifton Institute\, 6712 Blantyre Road\, Warrenton\, VA\, 20187\, United States
CATEGORIES:Volunteer days
ATTACH;FMTTYPE=image/png:https://cliftoninstitute.org/wp-content/uploads/2022/04/Copy-of-volunteer-day-2.5.png
GEO:38.7751537;-77.7981971
X-APPLE-STRUCTURED-LOCATION;VALUE=URI;X-ADDRESS=The Clifton Institute 6712 Blantyre Road Warrenton VA 20187 United States;X-APPLE-RADIUS=500;X-TITLE=6712 Blantyre Road:geo:-77.7981971,38.7751537
END:VEVENT
END:VCALENDAR