BEGIN:VCALENDAR
VERSION:2.0
PRODID:-//The Clifton Institute - ECPv6.15.15//NONSGML v1.0//EN
CALSCALE:GREGORIAN
METHOD:PUBLISH
X-ORIGINAL-URL:https://cliftoninstitute.org
X-WR-CALDESC:Events for The Clifton Institute
REFRESH-INTERVAL;VALUE=DURATION:PT1H
X-Robots-Tag:noindex
X-PUBLISHED-TTL:PT1H
BEGIN:VTIMEZONE
TZID:America/New_York
BEGIN:DAYLIGHT
TZOFFSETFROM:-0500
TZOFFSETTO:-0400
TZNAME:EDT
DTSTART:20220313T070000
END:DAYLIGHT
BEGIN:STANDARD
TZOFFSETFROM:-0400
TZOFFSETTO:-0500
TZNAME:EST
DTSTART:20221106T060000
END:STANDARD
BEGIN:DAYLIGHT
TZOFFSETFROM:-0500
TZOFFSETTO:-0400
TZNAME:EDT
DTSTART:20230312T070000
END:DAYLIGHT
BEGIN:STANDARD
TZOFFSETFROM:-0400
TZOFFSETTO:-0500
TZNAME:EST
DTSTART:20231105T060000
END:STANDARD
BEGIN:DAYLIGHT
TZOFFSETFROM:-0500
TZOFFSETTO:-0400
TZNAME:EDT
DTSTART:20240310T070000
END:DAYLIGHT
BEGIN:STANDARD
TZOFFSETFROM:-0400
TZOFFSETTO:-0500
TZNAME:EST
DTSTART:20241103T060000
END:STANDARD
END:VTIMEZONE
BEGIN:VEVENT
DTSTART;TZID=America/New_York:20230401T140000
DTEND;TZID=America/New_York:20230401T170000
DTSTAMP:20260424T074111
CREATED:20230127T191422Z
LAST-MODIFIED:20230127T191422Z
UID:12645-1680357600-1680368400@cliftoninstitute.org
SUMMARY:Reading the Weather
DESCRIPTION:In this workshop\, the point is to have your head in the clouds. Spend the afternoon with Habitat Specialist Andrew Eberly learning about the behavior of Virginia’s spring atmosphere\, how to read models and forecasts\, and enjoy the simple pleasure of sitting back to watch the sky with a cold beverage (provided). This afternoon is intended to give participants the practical skills to understand weather maps and interpret the sky. \nCost:  $10 ($5 for Friends of the Clifton Institute) \nAge:  Adults and children ages 12 and up\, accompanied by an adult. \nWeather policy: Date and time subject to change dependent on weather. Please check your email for updates on the morning of the event. \nCOVID-19 Information: This program will be entirely outdoors (an outside porta potty will be available). Please do not attend if you are experiencing or have experienced in the last two weeks any symptoms associated with COVID-19 (fever\, cough\, shortness of breath\, etc.). \nRegistration is REQUIRED. \nCancellation policy: If you register and can no longer attend this event\, please let us know as soon as possible so that we can open your spot to someone else. No refunds will be given upon registrant cancellation. \nBy registering for this event\, you are affirming that you have read and agree to our liability release policy. \nWe look forward to seeing you at the Clifton Institute!
URL:https://cliftoninstitute.org/event/reading-the-weather/
LOCATION:The Clifton Institute\, 6712 Blantyre Road\, Warrenton\, VA\, 20187\, United States
CATEGORIES:Adult programs
ATTACH;FMTTYPE=image/png:https://cliftoninstitute.org/wp-content/uploads/2023/01/Reading-the-Weather.png
GEO:38.7751537;-77.7981971
X-APPLE-STRUCTURED-LOCATION;VALUE=URI;X-ADDRESS=The Clifton Institute 6712 Blantyre Road Warrenton VA 20187 United States;X-APPLE-RADIUS=500;X-TITLE=6712 Blantyre Road:geo:-77.7981971,38.7751537
END:VEVENT
BEGIN:VEVENT
DTSTART;TZID=America/New_York:20230407T090000
DTEND;TZID=America/New_York:20230407T170000
DTSTAMP:20260424T074111
CREATED:20230117T220655Z
LAST-MODIFIED:20230119T172557Z
UID:12426-1680858000-1680886800@cliftoninstitute.org
SUMMARY:Vernal Pool Camp
DESCRIPTION:Home for spring break? Come to our first ever day-long spring break camp\, all about vernal pools! \nCampers will spend a day with Clifton Institute staff studying the animals that live in our vernal pools! Vernal pools are small bodies of water which dry out for part of the year\, making them the perfect amphibian nurseries. They are home to frog\, salamander\, and dragonfly young\, as well as a wriggling mass of other creatures! \nWe will spend the first part of the day learning about amphibian and insect life cycles\, as well as how to identify many of our local amphibian species by sight and sound. We’ll spend the rest of the day hiking to the pools with our rain boots and research equipment and learning how to safely handle amphibians\, check water quality\, and interpret our findings. \nCampers will have the chance to participate in real science\, practice nature journaling\, as well as use their creativity to design their own amphibian paradise. \nCampers will need: \n-Picnic lunch \n-2 snacks \n-Rubber boots \n-Backpack \n-Water bottle \nThis is a drop-off program and a signed waiver will be required for participation. If the cost is prohibitive or you are missing something from the needs list\, please email Bridget Bradshaw (bbradshaw@cliftoninstitute.org). More details about the day will be sent 2 weeks prior to the program. \nPrice: $50 ($40 for Friends of Clifton) per child \nAge: Students in grade 1-6. \nWeather policy: Rain or shine except in case of extreme weather (e.g. thunderstorm or significant snow fall). \nCOVID-19 Information: This program will be entirely outdoors (an outside porta potty will be available). At the moment\, we are requiring that everyone have a mask with them in case we need to go inside during inclement weather\, to administer first aid\, or for other reasons. Please do not attend if you are experiencing or have experienced in the last two weeks any symptoms associated with COVID-19 (fever\, cough\, shortness of breath\, etc.) \nRegistration is REQUIRED. Please note that our registration system may only give you the space for one attendee. If you are registering for multiple children\, please put all of their first names in the First Name box. Thank you! \nCancellation policy: If you register and can no longer attend this event\, please let us know as soon as possible so that we can open your spot to someone else. No refunds will be given upon registrant cancellation. \nBy registering for this event\, you are affirming that you have read and agree to our liability release policy.
URL:https://cliftoninstitute.org/event/vernal-pool-camp/
LOCATION:The Clifton Institute\, 6712 Blantyre Road\, Warrenton\, VA\, 20187\, United States
CATEGORIES:Youth programs
ATTACH;FMTTYPE=image/jpeg:https://cliftoninstitute.org/wp-content/uploads/2023/01/Vernal-Pool-Camp.jpg
GEO:38.7751537;-77.7981971
X-APPLE-STRUCTURED-LOCATION;VALUE=URI;X-ADDRESS=The Clifton Institute 6712 Blantyre Road Warrenton VA 20187 United States;X-APPLE-RADIUS=500;X-TITLE=6712 Blantyre Road:geo:-77.7981971,38.7751537
END:VEVENT
BEGIN:VEVENT
DTSTART;TZID=America/New_York:20230408T093000
DTEND;TZID=America/New_York:20230408T123000
DTSTAMP:20260424T074111
CREATED:20230325T140112Z
LAST-MODIFIED:20230329T151155Z
UID:13264-1680946200-1680957000@cliftoninstitute.org
SUMMARY:Volunteer Day: Tree Tube Maintenance
DESCRIPTION:We need help maintaining tree tubes! Afterward\, participants are welcome to bring a packed lunch and join us for a picnic on the lawn! Clifton will provide cold drinks. \nCost: Free! \nAge: Adults and children ages 12 and up\, accompanied by an adult. \nBring: Work gloves (if desired.) \nWeather policy: Date and time subject to change dependent on weather. Please check your email for updates on the morning of the event. \nCOVID-19 Information: This program will be entirely outdoors (an outside porta potty will be available). Please do not attend if you are experiencing or have experienced in the last two weeks any symptoms associated with COVID-19 (fever\, cough\, shortness of breath\, etc.). \nRegistration is REQUIRED. \nCancellation policy: If you register and can no longer attend this event\, please let us know as soon as possible so that we can open your spot to someone else. \nBy registering for this event\, you are affirming that you have read and agree to our liability release policy. \nWe look forward to seeing you at the Clifton Institute!
URL:https://cliftoninstitute.org/event/volunteer-day/
LOCATION:The Clifton Institute\, 6712 Blantyre Road\, Warrenton\, VA\, 20187\, United States
CATEGORIES:Volunteer days
ATTACH;FMTTYPE=image/png:https://cliftoninstitute.org/wp-content/uploads/2022/04/Copy-of-volunteer-day-2.5.png
GEO:38.7751537;-77.7981971
X-APPLE-STRUCTURED-LOCATION;VALUE=URI;X-ADDRESS=The Clifton Institute 6712 Blantyre Road Warrenton VA 20187 United States;X-APPLE-RADIUS=500;X-TITLE=6712 Blantyre Road:geo:-77.7981971,38.7751537
END:VEVENT
BEGIN:VEVENT
DTSTART;TZID=America/New_York:20230408T100000
DTEND;TZID=America/New_York:20230408T120000
DTSTAMP:20260424T074111
CREATED:20230112T205915Z
LAST-MODIFIED:20230112T205915Z
UID:12363-1680948000-1680955200@cliftoninstitute.org
SUMMARY:Family Nature Walk
DESCRIPTION:Families with children in grades K-8 are invited to come along as we explore the field station. This program is a wonderful opportunity for families to explore nature together. We pick a different trail to explore each month and usually move slowly as we stop often to look at and learn about the plants and animals that live in Northern Virginia. \nCost: Free! \nAge: Families with children in grades K-8. \nWeather policy: Date and time subject to change dependent on weather. Please check your email for updates on the morning of the event. \nCOVID-19 Information: This program will be entirely outdoors (an outside porta potty will be available). Please do not attend if you are experiencing or have experienced in the last two weeks any symptoms associated with COVID-19 (fever\, cough\, shortness of breath\, etc.). \nRegistration is REQUIRED. \nCancellation policy: If you register and can no longer attend this event\, please let us know as soon as possible so that we can open your spot to someone else. \nBy registering for this event\, you are affirming that you have read and agree to our liability release policy. \nWe look forward to seeing you at the Clifton Institute!
URL:https://cliftoninstitute.org/event/family-nature-walk-13/
LOCATION:The Clifton Institute\, 6712 Blantyre Road\, Warrenton\, VA\, 20187\, United States
CATEGORIES:Family programs
ATTACH;FMTTYPE=image/png:https://cliftoninstitute.org/wp-content/uploads/2021/09/family-nature-walks-2.5.png
GEO:38.7751537;-77.7981971
X-APPLE-STRUCTURED-LOCATION;VALUE=URI;X-ADDRESS=The Clifton Institute 6712 Blantyre Road Warrenton VA 20187 United States;X-APPLE-RADIUS=500;X-TITLE=6712 Blantyre Road:geo:-77.7981971,38.7751537
END:VEVENT
BEGIN:VEVENT
DTSTART;TZID=America/New_York:20230408T130000
DTEND;TZID=America/New_York:20230408T150000
DTSTAMP:20260424T074111
CREATED:20230127T185849Z
LAST-MODIFIED:20230127T185849Z
UID:12635-1680958800-1680966000@cliftoninstitute.org
SUMMARY:Early Spring Wildflower Walk
DESCRIPTION:In early spring\, ephemeral wildflowers appear on the forest floor\, taking advantage of a brief moment of sunlight before the canopy above fills out with trees. Join us for a walk exploring our wooded trails in search of early spring ephemerals such as Bloodroot\, Cutleaf toothwort\, Rue-anemone\, and Skunk Cabbage. \nCost: Free! \nAge: Adults and children ages 12 and up\, accompanied by an adult. \nWeather policy: Date and time subject to change dependent on weather. Please check your email for updates on the morning of the event. \nCOVID-19 Information: This program will be entirely outdoors (an outside porta potty will be available). Please do not attend if you are experiencing or have experienced in the last two weeks any symptoms associated with COVID-19 (fever\, cough\, shortness of breath\, etc.). \nRegistration is REQUIRED. \nCancellation policy: If you register and can no longer attend this event\, please let us know as soon as possible so that we can open your spot to someone else. \nBy registering for this event\, you are affirming that you have read and agree to our liability release policy. \nWe look forward to seeing you at the Clifton Institute!
URL:https://cliftoninstitute.org/event/early-spring-wildflower-walk-2/
LOCATION:The Clifton Institute\, 6712 Blantyre Road\, Warrenton\, VA\, 20187\, United States
CATEGORIES:Adult programs
ATTACH;FMTTYPE=image/png:https://cliftoninstitute.org/wp-content/uploads/2023/01/Wildflower-Walk.png
GEO:38.7751537;-77.7981971
X-APPLE-STRUCTURED-LOCATION;VALUE=URI;X-ADDRESS=The Clifton Institute 6712 Blantyre Road Warrenton VA 20187 United States;X-APPLE-RADIUS=500;X-TITLE=6712 Blantyre Road:geo:-77.7981971,38.7751537
END:VEVENT
BEGIN:VEVENT
DTSTART;TZID=America/New_York:20230412T070000
DTEND;TZID=America/New_York:20230412T090000
DTSTAMP:20260424T074111
CREATED:20230112T210207Z
LAST-MODIFIED:20230119T170138Z
UID:12366-1681282800-1681290000@cliftoninstitute.org
SUMMARY:Bird Walk
DESCRIPTION:Cost: Free! \nAge: Adults and children 12 and up\, accompanied by an adult. \nWeather policy: Date and time subject to change dependent on weather. Please check your email for updates on the morning of the event. \nCOVID-19 Information: This program will be entirely outdoors (an outside porta potty will be available). Please do not attend if you are experiencing or have experienced in the last two weeks any symptoms associated with COVID-19 (fever\, cough\, shortness of breath\, etc.). \nRegistration is REQUIRED. \nCancellation policy: If you register and can no longer attend this event\, please let us know as soon as possible so that we can open your spot to someone else. \nBy registering for this event\, you are affirming that you have read and agree to our liability release policy. \nWe look forward to seeing you at the Clifton Institute!
URL:https://cliftoninstitute.org/event/bird-walk-37/
LOCATION:The Clifton Institute\, 6712 Blantyre Road\, Warrenton\, VA\, 20187\, United States
CATEGORIES:Adult programs
ATTACH;FMTTYPE=image/png:https://cliftoninstitute.org/wp-content/uploads/2021/09/monthly-bird-walks-2.5-1.png
GEO:38.7751537;-77.7981971
X-APPLE-STRUCTURED-LOCATION;VALUE=URI;X-ADDRESS=The Clifton Institute 6712 Blantyre Road Warrenton VA 20187 United States;X-APPLE-RADIUS=500;X-TITLE=6712 Blantyre Road:geo:-77.7981971,38.7751537
END:VEVENT
BEGIN:VEVENT
DTSTART;TZID=America/New_York:20230414T180000
DTEND;TZID=America/New_York:20230414T190000
DTSTAMP:20260424T074111
CREATED:20230127T190500Z
LAST-MODIFIED:20230414T172809Z
UID:12639-1681495200-1681498800@cliftoninstitute.org
SUMMARY:Warbler Song Bootcamp
DESCRIPTION:REGISTRATION CLOSED \n*This is a virtual event* \nBrush up on your warbler songs just before the migrants arrive in droves. We will listen to the songs of each of the migratory warblers that pass through our region in spring\, while looking at spectrograms to help visual learners identify differences in similar songs. We will also briefly discuss habitats where breeding warblers can be found in our area and cover a handful of other migrants such as vireos and thrushes. This workshop will be of interest to birdwatchers of all skill levels. It will definitely be more fun than listening to a warbler song CD in your car! This event will take place over Zoom. A Zoom link will be emailed to participants shortly before the event. \nCost: $10 ($5 for Friends of the Clifton Institute) \nAge: All ages. \nRegistration is REQUIRED. \nCancellation policy: If you register and can no longer attend this event\, please let us know as soon as possible so that we can open your spot to someone else. No refunds will be given upon registrant cancellation. \nBy registering for this event\, you are affirming that you have read and agree to our liability release policy. \nWe look forward to seeing you at the Clifton Institute! \n 
URL:https://cliftoninstitute.org/event/warbler-song-bootcamp/
LOCATION:The Clifton Institute\, 6712 Blantyre Road\, Warrenton\, VA\, 20187\, United States
CATEGORIES:Adult programs
ATTACH;FMTTYPE=image/png:https://cliftoninstitute.org/wp-content/uploads/2022/02/warbler-song-bootcamp.png
GEO:38.7751537;-77.7981971
X-APPLE-STRUCTURED-LOCATION;VALUE=URI;X-ADDRESS=The Clifton Institute 6712 Blantyre Road Warrenton VA 20187 United States;X-APPLE-RADIUS=500;X-TITLE=6712 Blantyre Road:geo:-77.7981971,38.7751537
END:VEVENT
BEGIN:VEVENT
DTSTART;TZID=America/New_York:20230415T130000
DTEND;TZID=America/New_York:20230415T150000
DTSTAMP:20260424T074111
CREATED:20230112T210755Z
LAST-MODIFIED:20230310T215323Z
UID:12372-1681563600-1681570800@cliftoninstitute.org
SUMMARY:Walk With A Naturalist
DESCRIPTION:Cost: Free! \nAge: Adults and children ages 12 and up\, accompanied by an adult. \nWeather policy: Date and time subject to change dependent on weather. Please check your email for updates on the morning of the event. \nCOVID-19 Information: This program will be entirely outdoors (an outside porta potty will be available). Please do not attend if you are experiencing or have experienced in the last two weeks any symptoms associated with COVID-19 (fever\, cough\, shortness of breath\, etc.). \nRegistration is REQUIRED. \nCancellation policy: If you register and can no longer attend this event\, please let us know as soon as possible so that we can open your spot to someone else. \nBy registering for this event\, you are affirming that you have read and agree to our liability release policy. \nWe look forward to seeing you at the Clifton Institute!
URL:https://cliftoninstitute.org/event/walk-with-a-naturalist-18/
LOCATION:The Clifton Institute\, 6712 Blantyre Road\, Warrenton\, VA\, 20187\, United States
CATEGORIES:Adult programs
ATTACH;FMTTYPE=image/png:https://cliftoninstitute.org/wp-content/uploads/2023/01/walk-with-a-naturalist-1.png
GEO:38.7751537;-77.7981971
X-APPLE-STRUCTURED-LOCATION;VALUE=URI;X-ADDRESS=The Clifton Institute 6712 Blantyre Road Warrenton VA 20187 United States;X-APPLE-RADIUS=500;X-TITLE=6712 Blantyre Road:geo:-77.7981971,38.7751537
END:VEVENT
BEGIN:VEVENT
DTSTART;TZID=America/New_York:20230422T070000
DTEND;TZID=America/New_York:20230422T090000
DTSTAMP:20260424T074111
CREATED:20230112T210454Z
LAST-MODIFIED:20230112T210454Z
UID:12369-1682146800-1682154000@cliftoninstitute.org
SUMMARY:Bird Walk
DESCRIPTION:Cost: Free! \nAge: Adults and children 12 and up\, accompanied by an adult. \nWeather policy: Date and time subject to change dependent on weather. Please check your email for updates on the morning of the event. \nCOVID-19 Information: This program will be entirely outdoors (an outside porta potty will be available). Please do not attend if you are experiencing or have experienced in the last two weeks any symptoms associated with COVID-19 (fever\, cough\, shortness of breath\, etc.). \nRegistration is REQUIRED. \nCancellation policy: If you register and can no longer attend this event\, please let us know as soon as possible so that we can open your spot to someone else. \nBy registering for this event\, you are affirming that you have read and agree to our liability release policy. \nWe look forward to seeing you at the Clifton Institute!
URL:https://cliftoninstitute.org/event/bird-walk-38/
LOCATION:The Clifton Institute\, 6712 Blantyre Road\, Warrenton\, VA\, 20187\, United States
CATEGORIES:Adult programs
ATTACH;FMTTYPE=image/png:https://cliftoninstitute.org/wp-content/uploads/2021/09/monthly-bird-walks-2.5-1.png
GEO:38.7751537;-77.7981971
X-APPLE-STRUCTURED-LOCATION;VALUE=URI;X-ADDRESS=The Clifton Institute 6712 Blantyre Road Warrenton VA 20187 United States;X-APPLE-RADIUS=500;X-TITLE=6712 Blantyre Road:geo:-77.7981971,38.7751537
END:VEVENT
BEGIN:VEVENT
DTSTART;TZID=America/New_York:20230422T093000
DTEND;TZID=America/New_York:20230422T123000
DTSTAMP:20260424T074111
CREATED:20230325T140821Z
LAST-MODIFIED:20230422T003930Z
UID:13267-1682155800-1682166600@cliftoninstitute.org
SUMMARY:Volunteer Day: Native Plant Propagation
DESCRIPTION:We need help propagating native plants! Afterward\, participants are welcome to bring a packed lunch and join us for a picnic on the lawn! Clifton will provide cold drinks. \nCost: Free! \nAge: Adults and children ages 12 and up\, accompanied by an adult. \nBring: Please bring gardening gloves if desired. \nWeather policy: Date and time subject to change dependent on weather. Please check your email for updates on the morning of the event. \nCOVID-19 Information: This program will be entirely outdoors (an outside porta potty will be available). Please do not attend if you are experiencing or have experienced in the last two weeks any symptoms associated with COVID-19 (fever\, cough\, shortness of breath\, etc.). \nRegistration is REQUIRED. \nCancellation policy: If you register and can no longer attend this event\, please let us know as soon as possible so that we can open your spot to someone else. \nBy registering for this event\, you are affirming that you have read and agree to our liability release policy. \nWe look forward to seeing you at the Clifton Institute!
URL:https://cliftoninstitute.org/event/volunteer-day-native-plant-propagation/
LOCATION:The Clifton Institute\, 6712 Blantyre Road\, Warrenton\, VA\, 20187\, United States
CATEGORIES:Volunteer days
ATTACH;FMTTYPE=image/png:https://cliftoninstitute.org/wp-content/uploads/2022/04/Copy-of-volunteer-day-2.5.png
GEO:38.7751537;-77.7981971
X-APPLE-STRUCTURED-LOCATION;VALUE=URI;X-ADDRESS=The Clifton Institute 6712 Blantyre Road Warrenton VA 20187 United States;X-APPLE-RADIUS=500;X-TITLE=6712 Blantyre Road:geo:-77.7981971,38.7751537
END:VEVENT
BEGIN:VEVENT
DTSTART;TZID=America/New_York:20230422T100000
DTEND;TZID=America/New_York:20230422T120000
DTSTAMP:20260424T074111
CREATED:20230309T145007Z
LAST-MODIFIED:20230419T204448Z
UID:13128-1682157600-1682164800@cliftoninstitute.org
SUMMARY:Lichen Walk
DESCRIPTION:On this program Executive Director and amateur lichenologist Bert Harris will give a guided tour of some of his favorite lichen-y spots while explaining the basics of lichen biology and how to identify common species. This is a special opportunity to dive into this interesting and mysterious group and you never know\, we might find a species new to the property\, the county\, or even the state! \nCost: Free! \nAge: Adults and children accompanied by an adult. \nWeather policy: Rain or shine except in case of extreme weather (e.g. thunderstorm or significant snow fall). \nCOVID-19 Information: This program will be entirely outdoors (an outside porta potty will be available). Please do not attend if you are experiencing or have experienced in the last two weeks any symptoms associated with COVID-19 (fever\, cough\, shortness of breath\, etc.). \nRegistration is REQUIRED. \nCancellation policy: If you register and can no longer attend this event\, please let us know as soon as possible so that we can open your spot to someone else. \nBy registering for this event\, you are affirming that you have read and agree to our liability release policy. \nWe look forward to seeing you at the Clifton Institute!
URL:https://cliftoninstitute.org/event/lichen-walk/
LOCATION:The Clifton Institute\, 6712 Blantyre Road\, Warrenton\, VA\, 20187\, United States
CATEGORIES:Adult programs
ATTACH;FMTTYPE=image/png:https://cliftoninstitute.org/wp-content/uploads/2023/03/Lichen-Walk.png
GEO:38.7751537;-77.7981971
X-APPLE-STRUCTURED-LOCATION;VALUE=URI;X-ADDRESS=The Clifton Institute 6712 Blantyre Road Warrenton VA 20187 United States;X-APPLE-RADIUS=500;X-TITLE=6712 Blantyre Road:geo:-77.7981971,38.7751537
END:VEVENT
BEGIN:VEVENT
DTSTART;TZID=America/New_York:20230429T090000
DTEND;TZID=America/New_York:20230429T150000
DTSTAMP:20260424T074111
CREATED:20230210T211453Z
LAST-MODIFIED:20230210T211453Z
UID:12861-1682758800-1682780400@cliftoninstitute.org
SUMMARY:Science Saturday: Kestrel Watch
DESCRIPTION:In what we hope will become a regular occurrence\, we are inviting the public to participate in one of our ongoing research projects. This time you’ll help us track American Kestrels that have been outfitted with GPS transmitters\, collect vegetation data in different types of fields\, and visit ink-pad tracks to see what kinds of rodents have been visiting. This is a great opportunity to see what it’s like to do field research and to learn about some fascinating native species. We will start here at the Clifton Institute and then drive to a few nearby properties where we know kestrels are hanging out. From Clifton\, we will encourage but not require everyone to carpool in as few cars as possible. We’re looking forward to a beautiful day in the field with you! \nCost: Free! \nAge: Adults only. \nBring: Please bring a lunch and water bottle. Binoculars are recommended. \nWeather policy: Date and time subject to change dependent on weather. Please check your email for updates on the morning of the event. \nCOVID-19 Information: This program will be entirely outdoors (an outside porta potty will be available). Please do not attend if you are experiencing or have experienced in the last two weeks any symptoms associated with COVID-19 (fever\, cough\, shortness of breath\, etc.). \nRegistration is REQUIRED. \nCancellation policy: If you register and can no longer attend this event\, please let us know as soon as possible so that we can open your spot to someone else. \nBy registering for this event\, you are affirming that you have read and agree to our liability release policy. \nWe look forward to seeing you at the Clifton Institute!
URL:https://cliftoninstitute.org/event/science-saturday-kestrel-watch/
LOCATION:The Clifton Institute\, 6712 Blantyre Road\, Warrenton\, VA\, 20187\, United States
CATEGORIES:Community science
ATTACH;FMTTYPE=image/png:https://cliftoninstitute.org/wp-content/uploads/2023/02/SS-Kestrel.png
GEO:38.7751537;-77.7981971
X-APPLE-STRUCTURED-LOCATION;VALUE=URI;X-ADDRESS=The Clifton Institute 6712 Blantyre Road Warrenton VA 20187 United States;X-APPLE-RADIUS=500;X-TITLE=6712 Blantyre Road:geo:-77.7981971,38.7751537
END:VEVENT
END:VCALENDAR