BEGIN:VCALENDAR
VERSION:2.0
PRODID:-//The Clifton Institute - ECPv6.15.15//NONSGML v1.0//EN
CALSCALE:GREGORIAN
METHOD:PUBLISH
X-ORIGINAL-URL:https://cliftoninstitute.org
X-WR-CALDESC:Events for The Clifton Institute
REFRESH-INTERVAL;VALUE=DURATION:PT1H
X-Robots-Tag:noindex
X-PUBLISHED-TTL:PT1H
BEGIN:VTIMEZONE
TZID:America/New_York
BEGIN:DAYLIGHT
TZOFFSETFROM:-0500
TZOFFSETTO:-0400
TZNAME:EDT
DTSTART:20220313T070000
END:DAYLIGHT
BEGIN:STANDARD
TZOFFSETFROM:-0400
TZOFFSETTO:-0500
TZNAME:EST
DTSTART:20221106T060000
END:STANDARD
BEGIN:DAYLIGHT
TZOFFSETFROM:-0500
TZOFFSETTO:-0400
TZNAME:EDT
DTSTART:20230312T070000
END:DAYLIGHT
BEGIN:STANDARD
TZOFFSETFROM:-0400
TZOFFSETTO:-0500
TZNAME:EST
DTSTART:20231105T060000
END:STANDARD
BEGIN:DAYLIGHT
TZOFFSETFROM:-0500
TZOFFSETTO:-0400
TZNAME:EDT
DTSTART:20240310T070000
END:DAYLIGHT
BEGIN:STANDARD
TZOFFSETFROM:-0400
TZOFFSETTO:-0500
TZNAME:EST
DTSTART:20241103T060000
END:STANDARD
END:VTIMEZONE
BEGIN:VEVENT
DTSTART;TZID=America/New_York:20230111T080000
DTEND;TZID=America/New_York:20230111T100000
DTSTAMP:20260424T122008
CREATED:20221026T160945Z
LAST-MODIFIED:20221223T210605Z
UID:11602-1673424000-1673431200@cliftoninstitute.org
SUMMARY:Bird Walk
DESCRIPTION:Cost: Free! \nAge: Adults and children 12 and up\, accompanied by an adult. \nWeather policy: Date and time subject to change dependent on weather. Please check your email for updates on the morning of the event. \nCOVID-19 Information: This program will be entirely outdoors (an outside porta potty will be available). Please do not attend if you are experiencing or have experienced in the last two weeks any symptoms associated with COVID-19 (fever\, cough\, shortness of breath\, etc.). \nRegistration is REQUIRED. \nCancellation policy: If you register and can no longer attend this event\, please let us know as soon as possible so that we can open your spot to someone else. \nBy registering for this event\, you are affirming that you have read and agree to our liability release policy. \nWe look forward to seeing you at the Clifton Institute!
URL:https://cliftoninstitute.org/event/bird-walk-31/
LOCATION:The Clifton Institute\, 6712 Blantyre Road\, Warrenton\, VA\, 20187\, United States
CATEGORIES:Adult programs
ATTACH;FMTTYPE=image/png:https://cliftoninstitute.org/wp-content/uploads/2021/09/monthly-bird-walks-2.5-1.png
GEO:38.7751537;-77.7981971
X-APPLE-STRUCTURED-LOCATION;VALUE=URI;X-ADDRESS=The Clifton Institute 6712 Blantyre Road Warrenton VA 20187 United States;X-APPLE-RADIUS=500;X-TITLE=6712 Blantyre Road:geo:-77.7981971,38.7751537
END:VEVENT
BEGIN:VEVENT
DTSTART;TZID=America/New_York:20230114T090000
DTEND;TZID=America/New_York:20230114T120000
DTSTAMP:20260424T122008
CREATED:20221207T152815Z
LAST-MODIFIED:20230113T183558Z
UID:11957-1673686800-1673697600@cliftoninstitute.org
SUMMARY:Volunteer Day: Invasive Removal
DESCRIPTION:We are seeking volunteers to help remove invasive multiflora rose near our vernal pools in preparation for our local salamanders in February! \nCost: Free! \nAge: Adults and children ages 12 and up\, accompanied by an adult. \nWeather policy: Date and time subject to change dependent on weather. Please check your email for updates on the morning of the event. \nCOVID-19 Information: This program will be entirely outdoors (an outside porta potty will be available). Please do not attend if you are experiencing or have experienced in the last two weeks any symptoms associated with COVID-19 (fever\, cough\, shortness of breath\, etc.). \nRegistration is REQUIRED. \nCancellation policy: If you register and can no longer attend this event\, please let us know as soon as possible so that we can open your spot to someone else. \nBy registering for this event\, you are affirming that you have read and agree to our liability release policy. \nWe look forward to seeing you at the Clifton Institute!
URL:https://cliftoninstitute.org/event/volunteer-day-invasive-removal-4/
LOCATION:The Clifton Institute\, 6712 Blantyre Road\, Warrenton\, VA\, 20187\, United States
CATEGORIES:Volunteer days
ATTACH;FMTTYPE=image/png:https://cliftoninstitute.org/wp-content/uploads/2022/04/Copy-of-volunteer-day-2.5.png
GEO:38.7751537;-77.7981971
X-APPLE-STRUCTURED-LOCATION;VALUE=URI;X-ADDRESS=The Clifton Institute 6712 Blantyre Road Warrenton VA 20187 United States;X-APPLE-RADIUS=500;X-TITLE=6712 Blantyre Road:geo:-77.7981971,38.7751537
END:VEVENT
BEGIN:VEVENT
DTSTART;TZID=America/New_York:20230114T100000
DTEND;TZID=America/New_York:20230114T120000
DTSTAMP:20260424T122008
CREATED:20221026T161935Z
LAST-MODIFIED:20221026T161935Z
UID:11608-1673690400-1673697600@cliftoninstitute.org
SUMMARY:Family Nature Walk
DESCRIPTION:Families with children in grades K-8 are invited to come along as we explore the field station. This program is a wonderful opportunity for families to explore nature together. We pick a different trail to explore each month and usually move slowly as we stop often to look at and learn about the plants and animals that live in Northern Virginia. \nCost: Free! \nAge: Families with children in grades K-8. \nWeather policy: Date and time subject to change dependent on weather. Please check your email for updates on the morning of the event. \nCOVID-19 Information: This program will be entirely outdoors (an outside porta potty will be available). Please do not attend if you are experiencing or have experienced in the last two weeks any symptoms associated with COVID-19 (fever\, cough\, shortness of breath\, etc.). \nRegistration is REQUIRED. \nCancellation policy: If you register and can no longer attend this event\, please let us know as soon as possible so that we can open your spot to someone else. \nBy registering for this event\, you are affirming that you have read and agree to our liability release policy. \nWe look forward to seeing you at the Clifton Institute!
URL:https://cliftoninstitute.org/event/family-nature-walk-11/
LOCATION:The Clifton Institute\, 6712 Blantyre Road\, Warrenton\, VA\, 20187\, United States
CATEGORIES:Family programs
ATTACH;FMTTYPE=image/png:https://cliftoninstitute.org/wp-content/uploads/2021/09/family-nature-walks-2.5.png
GEO:38.7751537;-77.7981971
X-APPLE-STRUCTURED-LOCATION;VALUE=URI;X-ADDRESS=The Clifton Institute 6712 Blantyre Road Warrenton VA 20187 United States;X-APPLE-RADIUS=500;X-TITLE=6712 Blantyre Road:geo:-77.7981971,38.7751537
END:VEVENT
BEGIN:VEVENT
DTSTART;TZID=America/New_York:20230114T100000
DTEND;TZID=America/New_York:20230114T160000
DTSTAMP:20260424T122008
CREATED:20221217T172216Z
LAST-MODIFIED:20221217T172216Z
UID:12094-1673690400-1673712000@cliftoninstitute.org
SUMMARY:Open-access Day for Friends of the Clifton Institute
DESCRIPTION:We invite Friends of the Clifton Institute to come explore the field station on their own every Saturday from mid-January to mid-October. You can become a Friend of Clifton with a minimum annual donation of $40. Your support will help us reach our goals of expanding and improving our education\, restoration\, and research programs this year. Thank you!\n\nBefore attending an open-access day\, please read the information included on our liability release form (click here). As you walk our trails\, you can help us take care of the field station by keeping your eyes and ears open to help us learn about the ecosystem we’re a part of and by enjoying and respecting the plants and animals that live here.\n\n\n\nA trail map is available here. Please note that some trails are in the process of being built and many are not marked. Navigation skills and a GPS are recommended. Please stay on the trails\, use common sense\, and proceed at your own risk. \nThe farmhouse is closed to all visitors at this time. There are port-a-potties available in both parking lots. \nWe reserve the right to deny access to our property to anyone who does not obey the rules posted below or is otherwise disruptive to our field station operations. \n\nOn open-access days\, you may park either at the lower parking area (“the Gap”) or at the farm house.\nAll children under the age of 18 must be accompanied by an adult.\nYou are welcome to bring your family with you on open-access days. One or two visitors are acceptable as well\, but if this starts to be abused we reserve the right to limit the benefit to family members.\nNo dogs are permitted.\nLeave no trace. We expect you to take all litter with you. It would be even better if you helped us pick up any litter you find! We do not have trash collection facilities.\nTake nothing but photographs. We use our trails to teach kids about the environment and their experiences are much richer if there are still feathers and bones and everything else for them to look at.\nNo swimming\, fishing\, boating\, or any other entry in the ponds.\nNo alcohol is permitted.\nNo horses\, bicycles\, automobiles\, ATVs\, or any other vehicles are allowed on the trails.\nNo hunting is permitted.\n\n 
URL:https://cliftoninstitute.org/event/open-access-day-for-friends-of-the-clifton-institute-2/2023-01-14/
LOCATION:The Clifton Institute\, 6712 Blantyre Road\, Warrenton\, VA\, 20187\, United States
CATEGORIES:Open Access days
ATTACH;FMTTYPE=image/png:https://cliftoninstitute.org/wp-content/uploads/2022/04/Copy-of-open-access-day1.png
GEO:38.7751537;-77.7981971
X-APPLE-STRUCTURED-LOCATION;VALUE=URI;X-ADDRESS=The Clifton Institute 6712 Blantyre Road Warrenton VA 20187 United States;X-APPLE-RADIUS=500;X-TITLE=6712 Blantyre Road:geo:-77.7981971,38.7751537
END:VEVENT
BEGIN:VEVENT
DTSTART;TZID=America/New_York:20230121T100000
DTEND;TZID=America/New_York:20230121T160000
DTSTAMP:20260424T122008
CREATED:20221026T174927Z
LAST-MODIFIED:20221026T174927Z
UID:11611-1674295200-1674316800@cliftoninstitute.org
SUMMARY:Walk With A Naturalist: Special All-day Hike
DESCRIPTION:On this special Walk with a Naturalist\, we will walk one of the longer trails on our property. We’ll still go slow as we look for plants and animals\, even in the dead of winter\, and we expect to walk no more than 3 miles. Please bring a lunch and / or snacks to eat on the trail and dress for the weather. \nCost: Free! \nAge: Adults and children ages 12 and up\, accompanied by an adult. \nBring: Please bring water\, a snack\, and/or lunch if desired. \nWeather policy: Date and time subject to change dependent on weather. Please check your email for updates on the morning of the event. \nCOVID-19 Information: This program will be entirely outdoors (an outside porta potty will be available). Please do not attend if you are experiencing or have experienced in the last two weeks any symptoms associated with COVID-19 (fever\, cough\, shortness of breath\, etc.). \nRegistration is REQUIRED. \nCancellation policy: If you register and can no longer attend this event\, please let us know as soon as possible so that we can open your spot to someone else. \nBy registering for this event\, you are affirming that you have read and agree to our liability release policy. \nWe look forward to seeing you at the Clifton Institute!
URL:https://cliftoninstitute.org/event/walk-with-a-naturalist-special-all-day-hike/
LOCATION:The Clifton Institute\, 6712 Blantyre Road\, Warrenton\, VA\, 20187\, United States
CATEGORIES:Adult programs
ATTACH;FMTTYPE=image/png:https://cliftoninstitute.org/wp-content/uploads/2021/11/walk-with-a-naturalist-2.5-1.png
GEO:38.7751537;-77.7981971
X-APPLE-STRUCTURED-LOCATION;VALUE=URI;X-ADDRESS=The Clifton Institute 6712 Blantyre Road Warrenton VA 20187 United States;X-APPLE-RADIUS=500;X-TITLE=6712 Blantyre Road:geo:-77.7981971,38.7751537
END:VEVENT
BEGIN:VEVENT
DTSTART;TZID=America/New_York:20230127T190000
DTEND;TZID=America/New_York:20230127T200000
DTSTAMP:20260424T122008
CREATED:20221028T202108Z
LAST-MODIFIED:20230127T135301Z
UID:11628-1674846000-1674849600@cliftoninstitute.org
SUMMARY:Research Talk: American Kestrel Nesting Habitat
DESCRIPTION:Link to Zoom webinar: https://us06web.zoom.us/j/87576436084\n**This is a virtual event** \nJoin Executive Director Bert Harris to hear the latest on our American Kestrel research. We have been studying these declining falcons for two years and we have learned so much about the habitats they use for hunting. Cattle pastures are preferred over all other kinds of fields and we are trying to find out why. We also now know that at least some of northern Virginia’s kestrels are migratory and that their territories are smaller here than in other parts of North America. This research is a collaborative project with Joe Kolowski from the Smithsonian Conservation Biology Institute and Alan Williams. The work is funded by the Raines Family Fund\, BAND Foundation\, Nick Lapham\, the Virginia Society of Ornithology\, the Washington Biologists Field Club\, and Janine Moseley. \nWe will send a link to the Zoom meeting a few days prior to the talk. Please make sure your email address is up to date! \nCost: Free! \nAge:  All ages. \nRegistration is REQUIRED. \nWe look forward to seeing you then! \n  \n 
URL:https://cliftoninstitute.org/event/research-talk-american-kestrel-nesting-habitat-2/
LOCATION:The Clifton Institute\, 6712 Blantyre Road\, Warrenton\, VA\, 20187\, United States
CATEGORIES:Adult programs
ATTACH;FMTTYPE=image/png:https://cliftoninstitute.org/wp-content/uploads/2022/10/Kestrel-Talk-.png
GEO:38.7751537;-77.7981971
X-APPLE-STRUCTURED-LOCATION;VALUE=URI;X-ADDRESS=The Clifton Institute 6712 Blantyre Road Warrenton VA 20187 United States;X-APPLE-RADIUS=500;X-TITLE=6712 Blantyre Road:geo:-77.7981971,38.7751537
END:VEVENT
BEGIN:VEVENT
DTSTART;TZID=America/New_York:20230128T083000
DTEND;TZID=America/New_York:20230128T103000
DTSTAMP:20260424T122008
CREATED:20221026T161529Z
LAST-MODIFIED:20221026T161529Z
UID:11605-1674894600-1674901800@cliftoninstitute.org
SUMMARY:Bird Walk
DESCRIPTION:Cost: Free! \nAge: Adults and children 12 and up\, accompanied by an adult. \nWeather policy: Date and time subject to change dependent on weather. Please check your email for updates on the morning of the event. \nCOVID-19 Information: This program will be entirely outdoors (an outside porta potty will be available). Please do not attend if you are experiencing or have experienced in the last two weeks any symptoms associated with COVID-19 (fever\, cough\, shortness of breath\, etc.). \nRegistration is REQUIRED. \nCancellation policy: If you register and can no longer attend this event\, please let us know as soon as possible so that we can open your spot to someone else. \nBy registering for this event\, you are affirming that you have read and agree to our liability release policy. \nWe look forward to seeing you at the Clifton Institute!
URL:https://cliftoninstitute.org/event/bird-walk-32/
LOCATION:The Clifton Institute\, 6712 Blantyre Road\, Warrenton\, VA\, 20187\, United States
CATEGORIES:Adult programs
ATTACH;FMTTYPE=image/png:https://cliftoninstitute.org/wp-content/uploads/2021/09/monthly-bird-walks-2.5-1.png
GEO:38.7751537;-77.7981971
X-APPLE-STRUCTURED-LOCATION;VALUE=URI;X-ADDRESS=The Clifton Institute 6712 Blantyre Road Warrenton VA 20187 United States;X-APPLE-RADIUS=500;X-TITLE=6712 Blantyre Road:geo:-77.7981971,38.7751537
END:VEVENT
BEGIN:VEVENT
DTSTART;TZID=America/New_York:20230128T130000
DTEND;TZID=America/New_York:20230128T150000
DTSTAMP:20260424T122008
CREATED:20221028T195557Z
LAST-MODIFIED:20230127T212242Z
UID:11620-1674910800-1674918000@cliftoninstitute.org
SUMMARY:Winter Tree Identification Workshop
DESCRIPTION:Winter is a great time of year to learn how to identify trees and to practice looking at bark and twigs. In this program\, we will take you on a short walk in the woods and talk about the tips and tricks to identify the most common trees in our forests. This program is meant for beginners. Advanced botanists are welcome but you may teach us more than we teach you! If you would like to start practicing now or if you would like to bring some resources with you\, we recommend the book Winter Tree Finder by May Theilgaard Watts and Tom Watts\, the Flora of Virginia app\, and the Virginia Tech Tree ID app. \nCost: $10 ($5 for Friends of the Clifton Institute) \nAge: Adults and children ages 12 and up\, accompanied by an adult. \nWeather policy: Date and time subject to change dependent on weather. Please check your email for updates on the morning of the event. \nCOVID-19 Information: This program will be entirely outdoors (an outside porta potty will be available). Please do not attend if you are experiencing or have experienced in the last two weeks any symptoms associated with COVID-19 (fever\, cough\, shortness of breath\, etc.). \nRegistration is REQUIRED. \nCancellation policy: If you register and can no longer attend this event\, please let us know as soon as possible so that we can open your spot to someone else. No refunds will be given upon registrant cancellation. \nBy registering for this event\, you are affirming that you have read and agree to our liability release policy. \nWe look forward to seeing you at the Clifton Institute!
URL:https://cliftoninstitute.org/event/winter-tree-identification-workshop/
LOCATION:The Clifton Institute\, 6712 Blantyre Road\, Warrenton\, VA\, 20187\, United States
CATEGORIES:Adult programs
ATTACH;FMTTYPE=image/png:https://cliftoninstitute.org/wp-content/uploads/2022/10/Winter-Tree-ID.png
GEO:38.7751537;-77.7981971
X-APPLE-STRUCTURED-LOCATION;VALUE=URI;X-ADDRESS=The Clifton Institute 6712 Blantyre Road Warrenton VA 20187 United States;X-APPLE-RADIUS=500;X-TITLE=6712 Blantyre Road:geo:-77.7981971,38.7751537
END:VEVENT
END:VCALENDAR