BEGIN:VCALENDAR
VERSION:2.0
PRODID:-//The Clifton Institute - ECPv6.15.15//NONSGML v1.0//EN
CALSCALE:GREGORIAN
METHOD:PUBLISH
X-ORIGINAL-URL:https://cliftoninstitute.org
X-WR-CALDESC:Events for The Clifton Institute
REFRESH-INTERVAL;VALUE=DURATION:PT1H
X-Robots-Tag:noindex
X-PUBLISHED-TTL:PT1H
BEGIN:VTIMEZONE
TZID:America/New_York
BEGIN:DAYLIGHT
TZOFFSETFROM:-0500
TZOFFSETTO:-0400
TZNAME:EDT
DTSTART:20210314T070000
END:DAYLIGHT
BEGIN:STANDARD
TZOFFSETFROM:-0400
TZOFFSETTO:-0500
TZNAME:EST
DTSTART:20211107T060000
END:STANDARD
BEGIN:DAYLIGHT
TZOFFSETFROM:-0500
TZOFFSETTO:-0400
TZNAME:EDT
DTSTART:20220313T070000
END:DAYLIGHT
BEGIN:STANDARD
TZOFFSETFROM:-0400
TZOFFSETTO:-0500
TZNAME:EST
DTSTART:20221106T060000
END:STANDARD
BEGIN:DAYLIGHT
TZOFFSETFROM:-0500
TZOFFSETTO:-0400
TZNAME:EDT
DTSTART:20230312T070000
END:DAYLIGHT
BEGIN:STANDARD
TZOFFSETFROM:-0400
TZOFFSETTO:-0500
TZNAME:EST
DTSTART:20231105T060000
END:STANDARD
END:VTIMEZONE
BEGIN:VEVENT
DTSTART;VALUE=DATE:20220627
DTEND;VALUE=DATE:20220702
DTSTAMP:20260424T211826
CREATED:20220208T195824Z
LAST-MODIFIED:20220226T174057Z
UID:8767-1656288000-1656719999@cliftoninstitute.org
SUMMARY:Young Scientists Research Experience
DESCRIPTION:During this unique experience\, students will explore and carry out their own research project. Young Scientists will engage in inquiry-based\, hands-on learning as they develop their own research questions\, collect and analyze data\, and present their results\, all under the guidance of an experienced mentor. This opportunity is perfect for middle and high school students with an interest in the environmental and natural sciences and the desire to experience ecological fieldwork. We welcome motivated students who are excited to spend the week at our beautiful\, 900-acre field station in the northern Virginia Piedmont in the company of like-minded peers. \nExample research questions include: \n\nHow does road noise affect the singing of birds\, frogs\, and other animals?\nWhere on the field station is there the most evidence of deer and other mammals?\nAre there more insects on plants that are native to Virginia or on exotic plants?\n\nAges: 13-18 at the time of camp. \nCost: $350.  Please note that the ticket will appear as “Free” until registration opens. \nCancellation Policy: Cancellations prior to 30 days before the start of camp will receive a full refund\, minus a $50 nonrefundable registration fee. Notice of cancellation must be submitted in writing. Cancellations within 30 days of camp start date forfeit full tuition. \nPaperwork:  Within 3 days of registration\, you will be emailed liability\, medical\, and emergency contact forms to be filled out and returned by April 15\, 2022.  If you do not submit your paperwork by this date\, you will be refunded all but the $50 and the spot will be offered to the next person on the wait list.  Paperwork is important for us to plan!  Please send it to camps@cliftoninstitute.org upon completion! \nVaccination Policy:  All staff and campers aged 5 and above must be fully vaccinated for COVID-19\, in addition to being up-to-date with all Virginia Board of Health School Immunization requirements for the appropriate age (found here). \nMask Policy: All campers and staff are required to have a mask with them at all times. We enforce mask wearing when social distancing is not possible and if inside due to inclement weather. \nScholarships:  If you are interested in a scholarship\, please fill out this Scholarship Application Form and email a completed copy (or photo of it) to camps@cliftoninstitute.org before registering so that we can ensure you are not charged full price.  
URL:https://cliftoninstitute.org/event/young-scientists-research-experience/
LOCATION:The Clifton Institute\, 6712 Blantyre Road\, Warrenton\, VA\, 20187\, United States
CATEGORIES:Summer Camps
ATTACH;FMTTYPE=image/png:https://cliftoninstitute.org/wp-content/uploads/2022/02/Spotted-Salamander-Walk-4.png
GEO:38.7751537;-77.7981971
X-APPLE-STRUCTURED-LOCATION;VALUE=URI;X-ADDRESS=The Clifton Institute 6712 Blantyre Road Warrenton VA 20187 United States;X-APPLE-RADIUS=500;X-TITLE=6712 Blantyre Road:geo:-77.7981971,38.7751537
END:VEVENT
BEGIN:VEVENT
DTSTART;TZID=America/New_York:20220709T090000
DTEND;TZID=America/New_York:20220709T120000
DTSTAMP:20260424T211826
CREATED:20220630T153658Z
LAST-MODIFIED:20220630T154240Z
UID:10452-1657357200-1657368000@cliftoninstitute.org
SUMMARY:Volunteer Day: Storm Damage Repair
DESCRIPTION:We have a lot of trees down throughout the property\, and need help getting them cleaned up. Bring good work clothes\, including gloves and sturdy boots\, and plenty of water. Additional equipment\, including chainsaws\, handsaws\, loppers\, or clippers are also welcome. \nAge: Adults only and children ages 12 and up\, accompanied by an adult. \nWeather policy: Date and time subject to change dependent on weather. Please check your email for updates on the morning of the event. \nCOVID-19 Information: This program will be entirely outdoors (an outside port-o-potty will be available). We require that everyone have a mask with them in case we need to go inside during inclement weather\, to administer first aid\, or for other reasons. Please do not attend if you are experiencing or have experienced in the last two weeks any symptoms associated with COVID-19 (fever\, cough\, shortness of breath\, etc.). \nRegistration is REQUIRED so that we can communicate with you in case of changes.
URL:https://cliftoninstitute.org/event/volunteer-day-storm-damage-repair/
LOCATION:The Clifton Institute\, 6712 Blantyre Road\, Warrenton\, VA\, 20187\, United States
CATEGORIES:Adult programs,Volunteer days
ATTACH;FMTTYPE=image/png:https://cliftoninstitute.org/wp-content/uploads/2022/04/Copy-of-volunteer-day-2.5.png
GEO:38.7751537;-77.7981971
X-APPLE-STRUCTURED-LOCATION;VALUE=URI;X-ADDRESS=The Clifton Institute 6712 Blantyre Road Warrenton VA 20187 United States;X-APPLE-RADIUS=500;X-TITLE=6712 Blantyre Road:geo:-77.7981971,38.7751537
END:VEVENT
BEGIN:VEVENT
DTSTART;TZID=America/New_York:20220713T070000
DTEND;TZID=America/New_York:20220713T090000
DTSTAMP:20260424T211826
CREATED:20220211T204426Z
LAST-MODIFIED:20220211T204426Z
UID:8842-1657695600-1657702800@cliftoninstitute.org
SUMMARY:Bird Walk
DESCRIPTION:Novice and experienced birders will enjoy this guided 1-2 mile hike to look for the many species of birds that can be found on the field station. We will explore successional fields\, meadows\, lake edges\, and forest. Don’t forget to bring your binoculars! \nCost: Free! \nAge: Adults and children 12 and up\, accompanied by an adult \nWeather policy: Rain or shine except in case of extreme weather (e.g. thunderstorm or significant snow fall). Please check your email for updates the morning of the event. \nCOVID-19 Information: This program will be entirely outdoors (an outside port-o-potty will be available). We require that everyone have a mask with them in case we need to go inside during inclement weather\, to administer first aid\, or for other reasons. Please do not attend if you are experiencing or have experienced in the last two weeks any symptoms associated with COVID-19 (fever\, cough\, shortness of breath\, etc.). \nRegistration is REQUIRED. \nCancellation policy: If you register and can no longer attend this event\, please let us know as soon as possible so that we can open your spot to someone else. \nBefore attending this event\, please read the information included on our liability release form (click here). \nWe look forward to seeing you at the Clifton Institute!
URL:https://cliftoninstitute.org/event/bird-walk-21/
LOCATION:The Clifton Institute\, 6712 Blantyre Road\, Warrenton\, VA\, 20187\, United States
CATEGORIES:Adult programs
ATTACH;FMTTYPE=image/png:https://cliftoninstitute.org/wp-content/uploads/2021/09/monthly-bird-walks-2.5-1.png
GEO:38.7751537;-77.7981971
X-APPLE-STRUCTURED-LOCATION;VALUE=URI;X-ADDRESS=The Clifton Institute 6712 Blantyre Road Warrenton VA 20187 United States;X-APPLE-RADIUS=500;X-TITLE=6712 Blantyre Road:geo:-77.7981971,38.7751537
END:VEVENT
BEGIN:VEVENT
DTSTART;TZID=America/New_York:20220716T090000
DTEND;TZID=America/New_York:20220716T120000
DTSTAMP:20260424T211826
CREATED:20220520T213021Z
LAST-MODIFIED:20220709T145218Z
UID:10082-1657962000-1657972800@cliftoninstitute.org
SUMMARY:Volunteer Day: Plant Propagation
DESCRIPTION:Summer is upon us\, and there is a lot to do in our gardens and greenhouse. Help us weed\, re-pot\, plant\, and organize our native plants. All you need to bring is sunscreen\, a water bottle\, and garden gloves (if you have them). \nAge: Adults only and children ages 12 and up\, accompanied by an adult. \nWeather policy: Date and time subject to change dependent on weather. Please check your email for updates on the morning of the event. \nCOVID-19 Information: This program will be entirely outdoors (an outside port-o-potty will be available). We require that everyone have a mask with them in case we need to go inside during inclement weather\, to administer first aid\, or for other reasons. Please do not attend if you are experiencing or have experienced in the last two weeks any symptoms associated with COVID-19 (fever\, cough\, shortness of breath\, etc.). \nRegistration is REQUIRED so that we can communicate with you in case of changes. \n\nBy registering for this event\, you are affirming that you have read and agree to our liability release policy.
URL:https://cliftoninstitute.org/event/volunteer-day-plant-propagation-3/
LOCATION:The Clifton Institute\, 6712 Blantyre Road\, Warrenton\, VA\, 20187\, United States
CATEGORIES:Adult programs,Volunteer days
ATTACH;FMTTYPE=image/png:https://cliftoninstitute.org/wp-content/uploads/2022/04/Copy-of-volunteer-day-2.5.png
GEO:38.7751537;-77.7981971
X-APPLE-STRUCTURED-LOCATION;VALUE=URI;X-ADDRESS=The Clifton Institute 6712 Blantyre Road Warrenton VA 20187 United States;X-APPLE-RADIUS=500;X-TITLE=6712 Blantyre Road:geo:-77.7981971,38.7751537
END:VEVENT
BEGIN:VEVENT
DTSTART;TZID=America/New_York:20220716T130000
DTEND;TZID=America/New_York:20220716T150000
DTSTAMP:20260424T211826
CREATED:20220211T210840Z
LAST-MODIFIED:20220212T201948Z
UID:8856-1657976400-1657983600@cliftoninstitute.org
SUMMARY:Walk With A Naturalist
DESCRIPTION:Join us for a walk on our trails with one our naturalists. \nCost: Free! \nAge: Adults and children 12 and up\, accompanied by an adult \nWeather policy: Rain or shine except in case of extreme weather (e.g. thunderstorm or significant snow fall).  Please check your email for updates on the morning of the event. \nWhat to bring: Water bottle\, hat\, sunscreen\, bug spray\, camera\, binoculars. \nCOVID-19 Information: This program will be entirely outdoors (an outside port-o-potty will be available). We require that everyone have a mask with them in case we need to go inside during inclement weather\, to administer first aid\, or for other reasons. Please do not attend if you are experiencing or have experienced in the last two weeks any symptoms associated with COVID-19 (fever\, cough\, shortness of breath\, etc.). \nRegistration is REQUIRED. \nCancellation policy: If you register and can no longer attend this event\, please let us know as soon as possible so that we can open your spot to someone else. \nBefore attending this event\, please read the information included on our liability release form (click here). \nWe look forward to seeing you at the Clifton Institute!
URL:https://cliftoninstitute.org/event/walk-with-a-naturalist-12/
LOCATION:The Clifton Institute\, 6712 Blantyre Road\, Warrenton\, VA\, 20187\, United States
CATEGORIES:Adult programs
ATTACH;FMTTYPE=image/png:https://cliftoninstitute.org/wp-content/uploads/2021/11/walk-with-a-naturalist-2.5-1.png
GEO:38.7751537;-77.7981971
X-APPLE-STRUCTURED-LOCATION;VALUE=URI;X-ADDRESS=The Clifton Institute 6712 Blantyre Road Warrenton VA 20187 United States;X-APPLE-RADIUS=500;X-TITLE=6712 Blantyre Road:geo:-77.7981971,38.7751537
END:VEVENT
BEGIN:VEVENT
DTSTART;TZID=America/New_York:20220716T140000
DTEND;TZID=America/New_York:20220716T160000
DTSTAMP:20260424T211826
CREATED:20220425T211550Z
LAST-MODIFIED:20220709T173755Z
UID:9836-1657980000-1657987200@cliftoninstitute.org
SUMMARY:Butterfly Identification Workshop
DESCRIPTION:Join us to learn about butterfly identification and biology. Bert Harris will give a presentation on the identification of common butterflies in our area. We will then take a walk around the field station to look for butterflies (and perhaps some dragonflies as well :). All skill levels welcome! \n\nCost: Free! \n\n\nAge: This program is intended for an adult audience. Interested children accompanied by an adult are welcome to attend. \n\n\nBring: We recommend wearing long pants and a broad-brimmed hat. Binoculars are essential. We have a few spare pairs. \n\n\nWeather policy: Date and time subject to change dependent on weather. Please check your email for updates on the morning of the event. \n\n\nCOVID-19 Information: This program will be entirely outdoors (an outside porta potty will be available). Please do not attend if you are experiencing or have experienced in the last two weeks any symptoms associated with COVID-19 (fever\, cough\, shortness of breath\, etc.). \n\n\nRegistration is REQUIRED. \n\n\nCancellation policy: If you register and can no longer attend this event\, please let us know as soon as possible so that we can open your spot to someone else. \n\n\nBy registering for this event\, you are affirming that you have read and agree to our liability release policy. \n\n\nWe look forward to seeing you at the Clifton Institute!
URL:https://cliftoninstitute.org/event/butterfly-identification-workshop/
LOCATION:The Clifton Institute\, 6712 Blantyre Road\, Warrenton\, VA\, 20187\, United States
CATEGORIES:Adult programs
ATTACH;FMTTYPE=image/png:https://cliftoninstitute.org/wp-content/uploads/2022/04/Butterfly-Workshop.png
GEO:38.7751537;-77.7981971
X-APPLE-STRUCTURED-LOCATION;VALUE=URI;X-ADDRESS=The Clifton Institute 6712 Blantyre Road Warrenton VA 20187 United States;X-APPLE-RADIUS=500;X-TITLE=6712 Blantyre Road:geo:-77.7981971,38.7751537
END:VEVENT
BEGIN:VEVENT
DTSTART;VALUE=DATE:20220718
DTEND;VALUE=DATE:20220723
DTSTAMP:20260424T211826
CREATED:20220208T194954Z
LAST-MODIFIED:20220416T151944Z
UID:8757-1658102400-1658534399@cliftoninstitute.org
SUMMARY:Young Explorers Camp: Session 1
DESCRIPTION:Each day at Young Explorers camp\, children will explore the field station with our naturalists and learn about the plants and animals that live in the northern Virginia Piedmont. In the afternoon\, children will enjoy crafts and games that will expand their knowledge of ecology and the environment. Campers will gain a deep understanding of our natural surroundings and the confidence they need to continue spending time outdoors for years to come. We will do a different set of activities each week so campers can have interesting and enriching experiences by coming to either week individually or both weeks.  Families are welcome and encouraged to register for both weeks but must pay for each session separately. Students will bring their own snacks and lunches from home. \nAges: 7-12 at the time of camp. \nCost: $215.00.  Please note that the ticket will appear as “Free” until registration opens. \nCancellation Policy: Cancellations prior to 30 days before the start of camp will receive a full refund\, minus a $50 nonrefundable registration fee. Notice of cancellation must be submitted in writing. Cancellations within 30 days of camp start date forfeit full tuition. \nPaperwork:  Within 3 days of registration\, you will be emailed liability\, medical\, and emergency contact forms to be filled out and returned by April 15\, 2022.  If you do not submit your paperwork by this date\, you will be refunded all but the $50 and the spot will be offered to the next person on the wait list.  Paperwork is important for us to plan!  Please send it to camps@cliftoninstitute.org upon completion! \nVaccination Policy:  All staff and campers aged 5 and above must be fully vaccinated for COVID-19\, in addition to being up-to-date with all Virginia Board of Health School Immunization requirements for the appropriate age (found here). \nMask Policy: All campers and staff are required to have a mask with them at all times. We enforce mask wearing when social distancing is not possible and if inside due to inclement weather. \nScholarships:  If you are interested in a scholarship\, please fill out this Scholarship Application Form and email a completed copy (or photo of it) to camps@cliftoninstitute.org before registering so that we can ensure you are not charged full price.  
URL:https://cliftoninstitute.org/event/young-explorers-camp-session-1/
LOCATION:The Clifton Institute\, 6712 Blantyre Road\, Warrenton\, VA\, 20187\, United States
CATEGORIES:Summer Camps
ATTACH;FMTTYPE=image/png:https://cliftoninstitute.org/wp-content/uploads/2022/02/Spotted-Salamander-Walk-2.png
GEO:38.7751537;-77.7981971
X-APPLE-STRUCTURED-LOCATION;VALUE=URI;X-ADDRESS=The Clifton Institute 6712 Blantyre Road Warrenton VA 20187 United States;X-APPLE-RADIUS=500;X-TITLE=6712 Blantyre Road:geo:-77.7981971,38.7751537
END:VEVENT
BEGIN:VEVENT
DTSTART;TZID=America/New_York:20220723T090000
DTEND;TZID=America/New_York:20220723T150000
DTSTAMP:20260424T211826
CREATED:20220425T211215Z
LAST-MODIFIED:20220707T142033Z
UID:9833-1658566800-1658588400@cliftoninstitute.org
SUMMARY:NABA Butterfly Count
DESCRIPTION:Every year community scientists help count the butterflies in 15-mile-diameter circles all around the country and contribute their data to the North American Butterfly Association. This summer we will host our 27th annual butterfly count and celebrate our 20th year contributing our data to NABA. Butterfly enthusiasts of all levels of experience are welcome! If you feel like you don’t know many butterflies\, this is a great way to learn and it’s always helpful to have more eyes pointing out butterflies. \nParticipants will be assigned to small teams\, led by an experienced butterfly counter. We will share information about your team closer to the date. Each team will survey a variety of sites within our count circle.  Unless your leader says otherwise\, participants will meet at the Clifton Institute at 9:00 AM. We will meet back here at 3:00 PM to tally our results over a cold glass of lemonade and a slice of watermelon. \nCost: Free! \nAge: Adults and children accompanied by an adult. \n\nBring: Please bring a lunch and water. We recommend wearing long pants and a broad-brimmed hat and bringing binoculars. \n\n\nWeather policy: Date and time subject to change dependent on weather. Please check your email for updates on the day before the event. \n\n\nCOVID-19 Information: This program will be entirely outdoors (an outside porta potty will be available). Please do not attend if you are experiencing or have experienced in the last two weeks any symptoms associated with COVID-19 (fever\, cough\, shortness of breath\, etc.). \n\n\nRegistration is REQUIRED. \n\n\nCancellation policy: If you register and can no longer  participate\, please let us know as soon as possible so that we can plan accordingly. \n\n\nBy registering for this event\, you are affirming that you have read and agree to our liability release policy. \n\n\nWe look forward to seeing you at the Clifton Institute!
URL:https://cliftoninstitute.org/event/naba-butterfly-count-22/
LOCATION:6712 Blantyre Road\, Warrenton\, VA\, 20187\, United States
CATEGORIES:Adult programs,Community science,Family programs
ATTACH;FMTTYPE=image/png:https://cliftoninstitute.org/wp-content/uploads/2022/04/Butterfly-Count.png
GEO:38.7751537;-77.7981971
X-APPLE-STRUCTURED-LOCATION;VALUE=URI;X-ADDRESS=6712 Blantyre Road Warrenton VA 20187 United States;X-APPLE-RADIUS=500;X-TITLE=6712 Blantyre Road:geo:-77.7981971,38.7751537
END:VEVENT
BEGIN:VEVENT
DTSTART;VALUE=DATE:20220725
DTEND;VALUE=DATE:20220730
DTSTAMP:20260424T211826
CREATED:20220208T195319Z
LAST-MODIFIED:20220623T194237Z
UID:8762-1658707200-1659139199@cliftoninstitute.org
SUMMARY:Young Explorers Camp: Session 2
DESCRIPTION:Each day at Young Explorers camp\, children will explore the field station with our naturalists and learn about the plants and animals that live in the northern Virginia Piedmont. In the afternoon\, children will enjoy crafts and games that will expand their knowledge of ecology and the environment. Campers will gain a deep understanding of our natural surroundings and the confidence they need to continue spending time outdoors for years to come. We will do a different set of activities each week so campers can have interesting and enriching experiences by coming to either week individually or both weeks.  Families are welcome and encouraged to register for both weeks but must pay for each session separately. Students will bring their own snacks and lunches from home. \nAges: 7-12 at the time of camp. \nCost: $215.00.  Please note that the ticket will appear as “Free” until registration opens. \nCancellation Policy: Cancellations prior to 30 days before the start of camp will receive a full refund\, minus a $50 nonrefundable registration fee. Notice of cancellation must be submitted in writing. Cancellations within 30 days of camp start date forfeit full tuition. \nPaperwork:  Within 3 days of registration\, you will be emailed liability\, medical\, and emergency contact forms to be filled out and returned by April 15\, 2022.  If you do not submit your paperwork by this date\, you will be refunded all but the $50 and the spot will be offered to the next person on the wait list.  Paperwork is important for us to plan!  Please send it to camps@cliftoninstitute.org upon completion! \nVaccination Policy:  All staff and campers aged 5 and above must be fully vaccinated for COVID-19\, in addition to being up-to-date with all Virginia Board of Health School Immunization requirements for the appropriate age (found here). \nMask Policy: All campers and staff are required to have a mask with them at all times. We enforce mask wearing when social distancing is not possible and if inside due to inclement weather. \nScholarships:  If you are interested in a scholarship\, please fill out this Scholarship Application Form and email a completed copy (or photo of it) to camps@cliftoninstitute.org before registering so that we can ensure you are not charged full price.
URL:https://cliftoninstitute.org/event/young-explorers-camp-session-2/
LOCATION:The Clifton Institute\, 6712 Blantyre Road\, Warrenton\, VA\, 20187\, United States
CATEGORIES:Summer Camps
ATTACH;FMTTYPE=image/png:https://cliftoninstitute.org/wp-content/uploads/2022/02/Spotted-Salamander-Walk-2.png
GEO:38.7751537;-77.7981971
X-APPLE-STRUCTURED-LOCATION;VALUE=URI;X-ADDRESS=The Clifton Institute 6712 Blantyre Road Warrenton VA 20187 United States;X-APPLE-RADIUS=500;X-TITLE=6712 Blantyre Road:geo:-77.7981971,38.7751537
END:VEVENT
BEGIN:VEVENT
DTSTART;TZID=America/New_York:20220730T090000
DTEND;TZID=America/New_York:20220730T120000
DTSTAMP:20260424T211826
CREATED:20220630T154024Z
LAST-MODIFIED:20220630T154024Z
UID:10455-1659171600-1659182400@cliftoninstitute.org
SUMMARY:Volunteer Day: Storm Damage Repair
DESCRIPTION:We have a lot of trees down throughout the property\, and need help getting them cleaned up. Bring good work clothes\, including gloves and sturdy boots\, and plenty of water. Additional equipment\, including chainsaws\, handsaws\, loppers\, or clippers are also welcome. \nAge: Adults only and children ages 12 and up\, accompanied by an adult. \nWeather policy: Date and time subject to change dependent on weather. Please check your email for updates on the morning of the event. \nCOVID-19 Information: This program will be entirely outdoors (an outside port-o-potty will be available). We require that everyone have a mask with them in case we need to go inside during inclement weather\, to administer first aid\, or for other reasons. Please do not attend if you are experiencing or have experienced in the last two weeks any symptoms associated with COVID-19 (fever\, cough\, shortness of breath\, etc.). \nRegistration is REQUIRED so that we can communicate with you in case of changes.
URL:https://cliftoninstitute.org/event/volunteer-day-storm-damage-repair-2/
LOCATION:The Clifton Institute\, 6712 Blantyre Road\, Warrenton\, VA\, 20187\, United States
CATEGORIES:Adult programs,Volunteer days
ATTACH;FMTTYPE=image/png:https://cliftoninstitute.org/wp-content/uploads/2022/04/Copy-of-volunteer-day-2.5.png
GEO:38.7751537;-77.7981971
X-APPLE-STRUCTURED-LOCATION;VALUE=URI;X-ADDRESS=The Clifton Institute 6712 Blantyre Road Warrenton VA 20187 United States;X-APPLE-RADIUS=500;X-TITLE=6712 Blantyre Road:geo:-77.7981971,38.7751537
END:VEVENT
END:VCALENDAR