BEGIN:VCALENDAR
VERSION:2.0
PRODID:-//The Clifton Institute - ECPv6.15.15//NONSGML v1.0//EN
CALSCALE:GREGORIAN
METHOD:PUBLISH
X-ORIGINAL-URL:https://cliftoninstitute.org
X-WR-CALDESC:Events for The Clifton Institute
REFRESH-INTERVAL;VALUE=DURATION:PT1H
X-Robots-Tag:noindex
X-PUBLISHED-TTL:PT1H
BEGIN:VTIMEZONE
TZID:America/New_York
BEGIN:DAYLIGHT
TZOFFSETFROM:-0500
TZOFFSETTO:-0400
TZNAME:EDT
DTSTART:20200308T070000
END:DAYLIGHT
BEGIN:STANDARD
TZOFFSETFROM:-0400
TZOFFSETTO:-0500
TZNAME:EST
DTSTART:20201101T060000
END:STANDARD
BEGIN:DAYLIGHT
TZOFFSETFROM:-0500
TZOFFSETTO:-0400
TZNAME:EDT
DTSTART:20210314T070000
END:DAYLIGHT
BEGIN:STANDARD
TZOFFSETFROM:-0400
TZOFFSETTO:-0500
TZNAME:EST
DTSTART:20211107T060000
END:STANDARD
BEGIN:DAYLIGHT
TZOFFSETFROM:-0500
TZOFFSETTO:-0400
TZNAME:EDT
DTSTART:20220313T070000
END:DAYLIGHT
BEGIN:STANDARD
TZOFFSETFROM:-0400
TZOFFSETTO:-0500
TZNAME:EST
DTSTART:20221106T060000
END:STANDARD
END:VTIMEZONE
BEGIN:VEVENT
DTSTART;TZID=America/New_York:20211106T123000
DTEND;TZID=America/New_York:20211106T160000
DTSTAMP:20260425T101343
CREATED:20211019T165304Z
LAST-MODIFIED:20240928T141643Z
UID:7389-1636201800-1636214400@cliftoninstitute.org
SUMMARY:Volunteer day: Native seed collection
DESCRIPTION:Join us to collect and clean seeds of native grasses and wildflowers for use in our grassland restoration programs. \nAge: Adults only and children ages 12 and up\, accompanied by an adult. \n\nWeather policy: Date and time subject to change dependent on weather. Please check your email for updates on the morning of the event. \n\n\nCOVID-19 Information: This program will be entirely outdoors (an outside port-o-potty will be available). We require that everyone have a mask with them in case we need to go inside during inclement weather\, to administer first aid\, or for other reasons. Please do not attend if you are experiencing or have experienced in the last two weeks any symptoms associated with COVID-19 (fever\, cough\, shortness of breath\, etc.). \n\n\nRegistration is REQUIRED so that we can communicate with you in case of changes.\n \n\n\nBefore attending this event\, please read the information included on our liability release form (click here). \n\n\nWe look forward to seeing you at the Clifton Institute!
URL:https://cliftoninstitute.org/event/volunteer-day-invasive-species-removal-2/
LOCATION:The Clifton Institute\, 6712 Blantyre Road\, Warrenton\, VA\, 20187\, United States
CATEGORIES:Volunteer days
ATTACH;FMTTYPE=image/png:https://cliftoninstitute.org/wp-content/uploads/2021/10/volunteer-day-2.52.png
GEO:38.7751537;-77.7981971
X-APPLE-STRUCTURED-LOCATION;VALUE=URI;X-ADDRESS=The Clifton Institute 6712 Blantyre Road Warrenton VA 20187 United States;X-APPLE-RADIUS=500;X-TITLE=6712 Blantyre Road:geo:-77.7981971,38.7751537
END:VEVENT
BEGIN:VEVENT
DTSTART;TZID=America/New_York:20211106T130000
DTEND;TZID=America/New_York:20211106T150000
DTSTAMP:20260425T101343
CREATED:20210929T205704Z
LAST-MODIFIED:20211023T151809Z
UID:7015-1636203600-1636210800@cliftoninstitute.org
SUMMARY:Nature Club
DESCRIPTION:Come on out for our Nature Club! You’ll have the opportunity to explore the field station\, learn about local plants and animals\, and spend time with like-minded\, nature-loving peers. Bring your friends! \nCost: $10 ($8 for Friends of Clifton) \nAge: Youth grades 6-12; this program is drop off only \n\nWeather policy: Rain or shine except in case of extreme weather (e.g. thunderstorm or significant snow fall). Please check your email for updates on the morning of the event. \n\n\nCOVID-19 Information: This program will be entirely outdoors (an outside port-o-potty will be available). We require that everyone have a mask with them in case we need to go inside during inclement weather\, to administer first aid\, or for other reasons. Please do not attend if you are experiencing or have experienced in the last two weeks any symptoms associated with COVID-19 (fever\, cough\, shortness of breath\, etc.). \n\n\nRegistration is REQUIRED. \n\n\nCancellation policy: If you register and can no longer attend this event\, please let us know as soon as possible so that we can open your spot to someone else. No refunds will be given upon registrant cancellation. \n\n\nBefore attending this event\, please read the information included on our liability release form (click here). \n\n\nWe look forward to seeing you at the Clifton Institute!
URL:https://cliftoninstitute.org/event/nature-club-3/
LOCATION:The Clifton Institute\, 6712 Blantyre Road\, Warrenton\, VA\, 20187\, United States
CATEGORIES:Youth programs
ATTACH;FMTTYPE=image/png:https://cliftoninstitute.org/wp-content/uploads/2021/09/nature-club-2.5-1.png
GEO:38.7751537;-77.7981971
X-APPLE-STRUCTURED-LOCATION;VALUE=URI;X-ADDRESS=The Clifton Institute 6712 Blantyre Road Warrenton VA 20187 United States;X-APPLE-RADIUS=500;X-TITLE=6712 Blantyre Road:geo:-77.7981971,38.7751537
END:VEVENT
BEGIN:VEVENT
DTSTART;TZID=America/New_York:20211110T080000
DTEND;TZID=America/New_York:20211110T100000
DTSTAMP:20260425T101343
CREATED:20210929T214300Z
LAST-MODIFIED:20211102T190941Z
UID:7031-1636531200-1636538400@cliftoninstitute.org
SUMMARY:Bird Walk
DESCRIPTION:Novice and experienced birders will enjoy this guided 1-2 mile hike to look for the many species of birds that can be found on the field station. We will explore successional fields\, meadows\, lake edges\, and forest. \nCost: Free! \nAge: Adults and children 12 and up\, accompanied by an adult \nWeather policy: Rain or shine except in case of extreme weather (e.g. thunderstorm or significant snow fall). Please check your email for updates the morning of the event. \n\nCOVID-19 Information: This program will be entirely outdoors (an outside port-o-potty will be available). We require that everyone have a mask with them in case we need to go inside during inclement weather\, to administer first aid\, or for other reasons. Please do not attend if you are experiencing or have experienced in the last two weeks any symptoms associated with COVID-19 (fever\, cough\, shortness of breath\, etc.). \n\n\nRegistration is REQUIRED. \n\n\nCancellation policy: If you register and can no longer attend this event\, please let us know as soon as possible so that we can open your spot to someone else. IF PAID EVENT– No refunds will be given upon registrant cancellation. \n\n\nBefore attending this event\, please read the information included on our liability release form (click here). \n\n\nWe look forward to seeing you at the Clifton Institute! \n\n 
URL:https://cliftoninstitute.org/event/bird-walk-5/
LOCATION:The Clifton Institute\, 6712 Blantyre Road\, Warrenton\, VA\, 20187\, United States
CATEGORIES:Adult programs
ATTACH;FMTTYPE=image/png:https://cliftoninstitute.org/wp-content/uploads/2021/09/monthly-bird-walks-2.5-1.png
GEO:38.7751537;-77.7981971
X-APPLE-STRUCTURED-LOCATION;VALUE=URI;X-ADDRESS=The Clifton Institute 6712 Blantyre Road Warrenton VA 20187 United States;X-APPLE-RADIUS=500;X-TITLE=6712 Blantyre Road:geo:-77.7981971,38.7751537
END:VEVENT
BEGIN:VEVENT
DTSTART;TZID=America/New_York:20211111T100000
DTEND;TZID=America/New_York:20211111T110000
DTSTAMP:20260425T101343
CREATED:20210929T221107Z
LAST-MODIFIED:20211023T152315Z
UID:7040-1636624800-1636628400@cliftoninstitute.org
SUMMARY:Piedmont Polliwogs
DESCRIPTION:Piedmont Polliwogs is a monthly pre-K program that includes an outdoor story time and short nature walk. \n\n\nCost: Free! \nAge: Children ages 2-5\, accompanied by a caregiver \nWeather policy: Rain or shine except in case of extreme weather (e.g. thunderstorm or significant snow fall). Please check your email for updates on the morning of the event. \nWhat to bring: Blanket to sit on\, hat\, bottle of water. \n\nCOVID-19 Information: This program will be entirely outdoors (an outside port-o-potty will be available). We require that everyone have a mask with them in case we need to go inside during inclement weather\, to administer first aid\, or for other reasons. Please do not attend if you are experiencing or have experienced in the last two weeks any symptoms associated with COVID-19 (fever\, cough\, shortness of breath\, etc.). \n\n\nRegistration is REQUIRED. \n\n\nCancellation policy: If you register and can no longer attend this event\, please let us know as soon as possible so that we can open your spot to someone else. \n\n\nBefore attending this event\, please read the information included on our liability release form (click here). \n\n\nWe look forward to seeing you at the Clifton Institute! \n\n 
URL:https://cliftoninstitute.org/event/piedmont-polliwogs-3/
LOCATION:The Clifton Institute\, 6712 Blantyre Road\, Warrenton\, VA\, 20187\, United States
CATEGORIES:Family programs,Youth programs
ATTACH;FMTTYPE=image/png:https://cliftoninstitute.org/wp-content/uploads/2021/09/piedmont-polliwogs-2.5-1-1.png
GEO:38.7751537;-77.7981971
X-APPLE-STRUCTURED-LOCATION;VALUE=URI;X-ADDRESS=The Clifton Institute 6712 Blantyre Road Warrenton VA 20187 United States;X-APPLE-RADIUS=500;X-TITLE=6712 Blantyre Road:geo:-77.7981971,38.7751537
END:VEVENT
BEGIN:VEVENT
DTSTART;TZID=America/New_York:20211113T100000
DTEND;TZID=America/New_York:20211113T120000
DTSTAMP:20260425T101343
CREATED:20210929T205749Z
LAST-MODIFIED:20211023T152236Z
UID:7007-1636797600-1636804800@cliftoninstitute.org
SUMMARY:Family Nature Walk
DESCRIPTION:Families with children in grades K-8 are invited to come along as we explore the field station and experience autumn in Virginia. We’ll explore the woods to look for changes in the landscape and migrating birds. This program is a wonderful opportunity for families to explore nature together. We pick a different trail to explore each month and usually move slowly as we stop often to look at and learn about the plants and animals that live in Northern Virginia. \n\n\nCost: Free! \n\n\nAge:  Families with children in grades K-8 \n\n\nWeather policy: Rain or shine except in case of extreme weather (e.g. thunderstorm or significant snow fall). \n\n\nCOVID-19 Information: This program will be entirely outdoors (an outside port-o-potty will be available). We require that everyone have a mask with them in case we need to go inside during inclement weather\, to administer first aid\, or for other reasons. Please do not attend if you are experiencing or have experienced in the last two weeks any symptoms associated with COVID-19 (fever\, cough\, shortness of breath\, etc.). \n\n\nRegistration is REQUIRED. \n\n\nCancellation policy: If you register and can no longer attend this event\, please let us know as soon as possible so that we can open your spot to someone else. \n\n\nBefore attending this event\, please read the information included on our liability release form (click here). \n\n\nWe look forward to seeing you at the Clifton Institute! \n\n 
URL:https://cliftoninstitute.org/event/family-nature-walk-2/
LOCATION:6712 Blantyre Road\, Warrenton\, VA\, 20187\, United States
CATEGORIES:Family programs,Youth programs
ATTACH;FMTTYPE=image/png:https://cliftoninstitute.org/wp-content/uploads/2021/09/family-nature-walks-2.5.png
GEO:38.7751537;-77.7981971
X-APPLE-STRUCTURED-LOCATION;VALUE=URI;X-ADDRESS=6712 Blantyre Road Warrenton VA 20187 United States;X-APPLE-RADIUS=500;X-TITLE=6712 Blantyre Road:geo:-77.7981971,38.7751537
END:VEVENT
BEGIN:VEVENT
DTSTART;TZID=America/New_York:20211113T100000
DTEND;TZID=America/New_York:20211113T120000
DTSTAMP:20260425T101343
CREATED:20211015T193626Z
LAST-MODIFIED:20211102T191107Z
UID:7361-1636797600-1636804800@cliftoninstitute.org
SUMMARY:Native Seed Propagation and Collection Workshop
DESCRIPTION:Collecting and propagating native seeds is a great way to help spread native plant populations\, add 100% native species to your gardens\, and learn about the native plants in your backyard. Although it may seem daunting\, learning a few simple guidelines will get you well on your way to collecting and sowing your own seeds. Executive Director Bert Harris and Hill House Nursery’s Janet Davis will lead participants in learning when seeds are ready to collect\, how to collect and store seeds\, and how to propagate them. \nAge: Adults and children ages 12 and up\, accompanied by an adult. \nWeather policy: Date and time subject to change dependent on weather. Please check your email for updates on the morning of the event. \n\nCOVID-19 Information: This program will be entirely outdoors (an outside port-o-potty will be available). We require that everyone have a mask with them in case we need to go inside during inclement weather\, to administer first aid\, or for other reasons. Please do not attend if you are experiencing or have experienced in the last two weeks any symptoms associated with COVID-19 (fever\, cough\, shortness of breath\, etc.). \n\n\nRegistration is REQUIRED. \n\n\nCancellation policy: If you register and can no longer attend this event\, please let us know as soon as possible so that we can open your spot to someone else. IF PAID EVENT– No refunds will be given upon registrant cancellation. \n\n\nBefore attending this event\, please read the information included on our liability release form (click here). \n\n\nWe look forward to seeing you at the Clifton Institute!
URL:https://cliftoninstitute.org/event/native-seed-propagation-and-collection-workshop/
LOCATION:The Clifton Institute\, 6712 Blantyre Road\, Warrenton\, VA\, 20187\, United States
CATEGORIES:Adult programs
ATTACH;FMTTYPE=image/png:https://cliftoninstitute.org/wp-content/uploads/2021/10/seed-propagation.png
GEO:38.7751537;-77.7981971
X-APPLE-STRUCTURED-LOCATION;VALUE=URI;X-ADDRESS=The Clifton Institute 6712 Blantyre Road Warrenton VA 20187 United States;X-APPLE-RADIUS=500;X-TITLE=6712 Blantyre Road:geo:-77.7981971,38.7751537
END:VEVENT
BEGIN:VEVENT
DTSTART;TZID=America/New_York:20211116T160000
DTEND;TZID=America/New_York:20211116T180000
DTSTAMP:20260425T101343
CREATED:20210901T160003Z
LAST-MODIFIED:20211023T151412Z
UID:6752-1637078400-1637085600@cliftoninstitute.org
SUMMARY:After-School Adventure
DESCRIPTION:For the first time ever\, we are offering after-school programs! Students in grades 3-8 are invited to join us on the third Tuesday of every month for an adventure in nature. Activities will vary from month to month and will include science projects\, art projects\, and lessons in outdoor skills; but every month we will spend time outside making friends with each other. Sign up now and bring your friends! \n\nCost: $10 ($8 for Friends of the Clifton Institute) \nAge: Children in grades 3-8\, drop-off only \nWeather policy: Rain or shine except in case of extreme weather (e.g. thunderstorm or significant snow fall) \nWhat to bring: Hat\, bottle of water\, sunscreen\, bug spray\, binoculars\, camera. \n\nCOVID-19 Information: This program will be entirely outdoors (an outside port-o-potty will be available). We require that everyone have a mask with them in case we need to go inside during inclement weather\, to administer first aid\, or for other reasons. Please do not attend if you are experiencing or have experienced in the last two weeks any symptoms associated with COVID-19 (fever\, cough\, shortness of breath\, etc.). \n\n\nRegistration is REQUIRED. \n\n\nCancellation policy: If you register and can no longer attend this event\, please let us know as soon as possible so that we can open your spot to someone else. No refunds will be given upon registrant cancellation. \n\n\nBefore attending this event\, please read the information included on our liability release form (click here). \n\n 
URL:https://cliftoninstitute.org/event/after-school-adventure-3/
LOCATION:The Clifton Institute\, 6712 Blantyre Road\, Warrenton\, VA\, 20187\, United States
CATEGORIES:Youth programs
ATTACH;FMTTYPE=image/png:https://cliftoninstitute.org/wp-content/uploads/2021/09/After-school-Adventures.png
GEO:38.7751537;-77.7981971
X-APPLE-STRUCTURED-LOCATION;VALUE=URI;X-ADDRESS=The Clifton Institute 6712 Blantyre Road Warrenton VA 20187 United States;X-APPLE-RADIUS=500;X-TITLE=6712 Blantyre Road:geo:-77.7981971,38.7751537
END:VEVENT
BEGIN:VEVENT
DTSTART;TZID=America/New_York:20211118T180000
DTEND;TZID=America/New_York:20211118T200000
DTSTAMP:20260425T101343
CREATED:20210827T213221Z
LAST-MODIFIED:20211026T183056Z
UID:6701-1637258400-1637265600@cliftoninstitute.org
SUMMARY:Fall Book Club: The Fly Trap
DESCRIPTION:This fall\, we will read and discuss the Fly Trap by Fredrik Sjoberg\, a memoir by a Swedish entomologist\, as well as a “a meditation on the unexpected beauty of small things and an exploration of the history of entomology itself.” To support our local independent bookstore\, you can purchase your copy online or in store at Old Town Open Book. \nOur book discussions are typically small and informal. You don’t even have to have finished the book to attend! \nCost: Free! \nAge: Adults only \nWeather policy: Rain or shine. \nWhat to wear: We will evaluate COVID-19 restrictions closer to the date. If the situation permits we will meet inside in our parlor. If not\, we will meet in our historic log cabin which permits greater ventilation. Either way\, we will have a fire in the fireplace and warm drinks. \nWhat to bring: Your copy of the book\, a cup of tea or another beverage to enjoy \nCOVID-19 Information: This program will take place inside. We are requiring all participants to be fully vaccinated and to wear masks. We will ask to see vaccination cards. Please do not attend if you are experiencing or have experienced in the last two weeks any symptoms associated with COVID-19 (fever\, cough\, shortness of breath\, etc.). \nRegistration is REQUIRED. \nCancellation policy: If you register and can no longer attend this event\, please let us know as soon as possible. \nBefore attending this event\, please read the information included on our liability release form (click here). \nWe look forward to seeing you at the Clifton Institute!
URL:https://cliftoninstitute.org/event/fall-book-club-2021/
LOCATION:The Clifton Institute\, 6712 Blantyre Road\, Warrenton\, VA\, 20187\, United States
CATEGORIES:Adult programs
ATTACH;FMTTYPE=image/png:https://cliftoninstitute.org/wp-content/uploads/2021/08/Fall-Book-Club.png
GEO:38.7751537;-77.7981971
X-APPLE-STRUCTURED-LOCATION;VALUE=URI;X-ADDRESS=The Clifton Institute 6712 Blantyre Road Warrenton VA 20187 United States;X-APPLE-RADIUS=500;X-TITLE=6712 Blantyre Road:geo:-77.7981971,38.7751537
END:VEVENT
BEGIN:VEVENT
DTSTART;TZID=America/New_York:20211120T090000
DTEND;TZID=America/New_York:20211120T120000
DTSTAMP:20260425T101343
CREATED:20211019T165837Z
LAST-MODIFIED:20211023T151421Z
UID:7392-1637398800-1637409600@cliftoninstitute.org
SUMMARY:Volunteer day: Invasive species removal
DESCRIPTION:Invasive plant species crowd out native plants and provide little to no food for native animals. Every winter we work to remove invasive Autumn Olive from around our property and over the last few years we have made a lot of progress\, thanks to all of our amazing volunteers! \nPlease bring your own work gloves\, chainsaws\, and loppers if you have them. \nAge: Adults only and children ages 12 and up\, accompanied by an adult. \n\n\nWeather policy: Date and time subject to change dependent on weather. Please check your email for updates on the morning of the event. \n\n\nCOVID-19 Information: This program will be entirely outdoors (an outside port-o-potty will be available). We require that everyone have a mask with them in case we need to go inside during inclement weather\, to administer first aid\, or for other reasons. Please do not attend if you are experiencing or have experienced in the last two weeks any symptoms associated with COVID-19 (fever\, cough\, shortness of breath\, etc.). \n\n\nRegistration is REQUIRED so that we can communicate with you in case of changes.\n \n\n\nBefore attending this event\, please read the information included on our liability release form (click here). \n\n\nWe look forward to seeing you at the Clifton Institute!
URL:https://cliftoninstitute.org/event/volunteer-day-invasive-species-removal-3/
LOCATION:The Clifton Institute\, 6712 Blantyre Road\, Warrenton\, VA\, 20187\, United States
CATEGORIES:Volunteer days
ATTACH;FMTTYPE=image/png:https://cliftoninstitute.org/wp-content/uploads/2021/10/volunteer-day-2.52.png
GEO:38.7751537;-77.7981971
X-APPLE-STRUCTURED-LOCATION;VALUE=URI;X-ADDRESS=The Clifton Institute 6712 Blantyre Road Warrenton VA 20187 United States;X-APPLE-RADIUS=500;X-TITLE=6712 Blantyre Road:geo:-77.7981971,38.7751537
END:VEVENT
BEGIN:VEVENT
DTSTART;TZID=America/New_York:20211120T130000
DTEND;TZID=America/New_York:20211120T150000
DTSTAMP:20260425T101343
CREATED:20210929T215618Z
LAST-MODIFIED:20211023T151949Z
UID:7034-1637413200-1637420400@cliftoninstitute.org
SUMMARY:Walk with a Naturalist
DESCRIPTION:Join us for a walk on our trails with one our naturalists. Unlike most of our programs\, we won’t be looking for anything in particular. Instead we’ll amble and explore and see what we can find! \nCost: Free! \nAge: Adults and children 12 and up\, accompanied by an adult \nWeather policy: Rain or shine except in case of extreme weather (e.g. thunderstorm or significant snow fall).  Please check your email for updates on the morning of the event. \nWhat to bring: Water bottle\, hat\, sunscreen\, bug spray\, camera\, binoculars. \n\nCOVID-19 Information: This program will be entirely outdoors (an outside port-o-potty will be available). We require that everyone have a mask with them in case we need to go inside during inclement weather\, to administer first aid\, or for other reasons. Please do not attend if you are experiencing or have experienced in the last two weeks any symptoms associated with COVID-19 (fever\, cough\, shortness of breath\, etc.). \n\n\nRegistration is REQUIRED. \n\n\nCancellation policy: If you register and can no longer attend this event\, please let us know as soon as possible so that we can open your spot to someone else. \n\n\nBefore attending this event\, please read the information included on our liability release form (click here). \n\n\nWe look forward to seeing you at the Clifton Institute! \n\n 
URL:https://cliftoninstitute.org/event/walk-with-a-naturalist-5/
LOCATION:The Clifton Institute\, 6712 Blantyre Road\, Warrenton\, VA\, 20187\, United States
CATEGORIES:Adult programs
GEO:38.7751537;-77.7981971
X-APPLE-STRUCTURED-LOCATION;VALUE=URI;X-ADDRESS=The Clifton Institute 6712 Blantyre Road Warrenton VA 20187 United States;X-APPLE-RADIUS=500;X-TITLE=6712 Blantyre Road:geo:-77.7981971,38.7751537
END:VEVENT
END:VCALENDAR