BEGIN:VCALENDAR
VERSION:2.0
PRODID:-//The Clifton Institute - ECPv6.15.15//NONSGML v1.0//EN
CALSCALE:GREGORIAN
METHOD:PUBLISH
X-ORIGINAL-URL:https://cliftoninstitute.org
X-WR-CALDESC:Events for The Clifton Institute
REFRESH-INTERVAL;VALUE=DURATION:PT1H
X-Robots-Tag:noindex
X-PUBLISHED-TTL:PT1H
BEGIN:VTIMEZONE
TZID:America/New_York
BEGIN:DAYLIGHT
TZOFFSETFROM:-0500
TZOFFSETTO:-0400
TZNAME:EDT
DTSTART:20200308T070000
END:DAYLIGHT
BEGIN:STANDARD
TZOFFSETFROM:-0400
TZOFFSETTO:-0500
TZNAME:EST
DTSTART:20201101T060000
END:STANDARD
BEGIN:DAYLIGHT
TZOFFSETFROM:-0500
TZOFFSETTO:-0400
TZNAME:EDT
DTSTART:20210314T070000
END:DAYLIGHT
BEGIN:STANDARD
TZOFFSETFROM:-0400
TZOFFSETTO:-0500
TZNAME:EST
DTSTART:20211107T060000
END:STANDARD
BEGIN:DAYLIGHT
TZOFFSETFROM:-0500
TZOFFSETTO:-0400
TZNAME:EDT
DTSTART:20220313T070000
END:DAYLIGHT
BEGIN:STANDARD
TZOFFSETFROM:-0400
TZOFFSETTO:-0500
TZNAME:EST
DTSTART:20221106T060000
END:STANDARD
END:VTIMEZONE
BEGIN:VEVENT
DTSTART;TZID=America/New_York:20210710T100000
DTEND;TZID=America/New_York:20210710T120000
DTSTAMP:20260425T163008
CREATED:20210604T140624Z
LAST-MODIFIED:20210629T152855Z
UID:5546-1625911200-1625918400@cliftoninstitute.org
SUMMARY:Butterfly Identification Workshop & Walk
DESCRIPTION:Join us to learn about butterfly biology and identification. Dr. Bert Harris will give a short presentation followed by a guided walk around the field station to look for butterflies (and dragonflies). All skill levels welcome! \nCost: $10; $8 for Friends of Clifton \nAge: Adults and children ages 12 and up\, accompanied by an adult \nWeather policy: Date and time subject to change dependent on weather. Please check your email for updates on the morning of the event. \nWhat to wear: Dress for the weather and wear sturdy hiking shoes or rubber boots \nWhat to bring: Hat\, bottle of water\, sunscreen\, bug spray\, binoculars\, camera \nRegistration REQUIRED. Please note we are using a new event registration system. If you encounter any problems please let us know by emailing Alison at azak@cliftoninstitute.org.\n \nCancellation policy: No refunds will be given upon registrant cancellation. If you register and can no longer attend this event\, please let us know as soon as possible. ‘No-shows’ have a significant impact on the success of our programs. \nWe look forward to seeing you at the Clifton Institute!
URL:https://cliftoninstitute.org/event/butterfly-walk/
LOCATION:The Clifton Institute\, 6712 Blantyre Road\, Warrenton\, VA\, 20187\, United States
CATEGORIES:Adult programs
ATTACH;FMTTYPE=image/jpeg:https://cliftoninstitute.org/wp-content/uploads/2021/06/large-1-e1624024639765.jpg
GEO:38.7751537;-77.7981971
X-APPLE-STRUCTURED-LOCATION;VALUE=URI;X-ADDRESS=The Clifton Institute 6712 Blantyre Road Warrenton VA 20187 United States;X-APPLE-RADIUS=500;X-TITLE=6712 Blantyre Road:geo:-77.7981971,38.7751537
END:VEVENT
BEGIN:VEVENT
DTSTART;TZID=America/New_York:20210714T070000
DTEND;TZID=America/New_York:20210714T090000
DTSTAMP:20260425T163008
CREATED:20210604T141357Z
LAST-MODIFIED:20210708T172626Z
UID:5552-1626246000-1626253200@cliftoninstitute.org
SUMMARY:Bird Walk
DESCRIPTION:Novice and experienced birders will enjoy this guided 1-2 mile hike to look for the many species of birds that can be found on the field station. We will explore successional fields\, meadows\, lake edges\, and forest. \nCost: Free! \nAge: Adults and children 12 and up\, accompanied by an adult \nWeather policy: Rain or shine except in case of extreme weather (e.g. thunderstorm or significant snow fall) \nWhat to wear: Dress for the weather and wear sturdy shoes. \nWhat to bring: Mask (required)\, hat\, bottle of water\, sunscreen\, bug spray\, binoculars\, camera \nRegistration REQUIRED. Please note we are using a new event registration system. If you encounter any problems please let us know by emailing Alison at azak [at] cliftoninstitute [dot] org.\n \nCancellation policy: If you register and can no longer attend this event\, please let us know as soon as possible. ‘No-shows’ have a significant impact on the success of our programs. \nWe look forward to seeing you at the Clifton Institute!
URL:https://cliftoninstitute.org/event/bird-walk/
LOCATION:The Clifton Institute\, 6712 Blantyre Road\, Warrenton\, VA\, 20187\, United States
CATEGORIES:Adult programs
GEO:38.7751537;-77.7981971
X-APPLE-STRUCTURED-LOCATION;VALUE=URI;X-ADDRESS=The Clifton Institute 6712 Blantyre Road Warrenton VA 20187 United States;X-APPLE-RADIUS=500;X-TITLE=6712 Blantyre Road:geo:-77.7981971,38.7751537
END:VEVENT
BEGIN:VEVENT
DTSTART;TZID=America/New_York:20210724T090000
DTEND;TZID=America/New_York:20210724T150000
DTSTAMP:20260425T163008
CREATED:20210604T141929Z
LAST-MODIFIED:20210723T142155Z
UID:5556-1627117200-1627138800@cliftoninstitute.org
SUMMARY:NABA Butterfly Count
DESCRIPTION:LAST MINUTE REGISTRATION: If you are registering on July 23rd\, please email bharris@cliftoninstitute.org to make sure you are included in the count. \nWe look forward to hosting our 26th annual butterfly count and celebrating our 19th year in collaboration with the North American Butterfly Association. Novice and experienced butterfly enthusiasts are welcome! Community scientists will be assigned to small teams\, led by an experienced butterfly counter. Teams will survey a variety of sites within our count circle. \nCost: $3 per person (Children 8 and older\, accompanied by an adult\, may participate for free.) \nAge: Adults and children 8 and older\, accompanied by an adult \nWeather: Date and time subject to change dependent on weather. Please check your email for updates on the day before the event. \nWhat to bring: Lots of water\, lunch\, hat\, sunscreen\, bug spray\, camera\, binoculars. \nWe look forward to seeing you at the Clifton Institute!
URL:https://cliftoninstitute.org/event/naba-butterfly-count/
LOCATION:The Clifton Institute\, 6712 Blantyre Road\, Warrenton\, VA\, 20187\, United States
CATEGORIES:Family programs
ATTACH;FMTTYPE=image/jpeg:https://cliftoninstitute.org/wp-content/uploads/2021/06/large-e1624024541985.jpg
GEO:38.7751537;-77.7981971
X-APPLE-STRUCTURED-LOCATION;VALUE=URI;X-ADDRESS=The Clifton Institute 6712 Blantyre Road Warrenton VA 20187 United States;X-APPLE-RADIUS=500;X-TITLE=6712 Blantyre Road:geo:-77.7981971,38.7751537
END:VEVENT
BEGIN:VEVENT
DTSTART;TZID=America/New_York:20210731T070000
DTEND;TZID=America/New_York:20210731T090000
DTSTAMP:20260425T163008
CREATED:20210604T142546Z
LAST-MODIFIED:20210728T181623Z
UID:5560-1627714800-1627722000@cliftoninstitute.org
SUMMARY:Bird Walk
DESCRIPTION:Novice and experienced birders will enjoy this guided 1-2 mile hike to look for the many species of birds that can be found on the field station. We will explore successional fields\, meadows\, lake edges\, and forest. \nCost: Free! \nAge: Adults and children 12 and up\, accompanied by an adult \nWeather policy: Rain or shine except in case of extreme weather (e.g. thunderstorm or significant snow fall) \nWhat to wear: Dress for the weather and wear sturdy shoes. \nWhat to bring: Hat\, bottle of water\, sunscreen\, bug spray\, binoculars\, camera \nRegistration REQUIRED. Please note we are using a new event registration system. If you encounter any problems please let us know by emailing Alison at azak@cliftoninstitute.org.\n \nCancellation policy: If you register and can no longer attend this event\, please let us know as soon as possible. A few ‘no-shows’ have a significant impact on the success of our programs. \nWe look forward to seeing you at the Clifton Institute!
URL:https://cliftoninstitute.org/event/bird-walk-2/
LOCATION:The Clifton Institute\, 6712 Blantyre Road\, Warrenton\, VA\, 20187\, United States
CATEGORIES:Adult programs
GEO:38.7751537;-77.7981971
X-APPLE-STRUCTURED-LOCATION;VALUE=URI;X-ADDRESS=The Clifton Institute 6712 Blantyre Road Warrenton VA 20187 United States;X-APPLE-RADIUS=500;X-TITLE=6712 Blantyre Road:geo:-77.7981971,38.7751537
END:VEVENT
END:VCALENDAR