BEGIN:VCALENDAR
VERSION:2.0
PRODID:-//The Clifton Institute - ECPv6.15.15//NONSGML v1.0//EN
CALSCALE:GREGORIAN
METHOD:PUBLISH
X-ORIGINAL-URL:https://cliftoninstitute.org
X-WR-CALDESC:Events for The Clifton Institute
REFRESH-INTERVAL;VALUE=DURATION:PT1H
X-Robots-Tag:noindex
X-PUBLISHED-TTL:PT1H
BEGIN:VTIMEZONE
TZID:America/New_York
BEGIN:DAYLIGHT
TZOFFSETFROM:-0500
TZOFFSETTO:-0400
TZNAME:EDT
DTSTART:20220313T070000
END:DAYLIGHT
BEGIN:STANDARD
TZOFFSETFROM:-0400
TZOFFSETTO:-0500
TZNAME:EST
DTSTART:20221106T060000
END:STANDARD
BEGIN:DAYLIGHT
TZOFFSETFROM:-0500
TZOFFSETTO:-0400
TZNAME:EDT
DTSTART:20230312T070000
END:DAYLIGHT
BEGIN:STANDARD
TZOFFSETFROM:-0400
TZOFFSETTO:-0500
TZNAME:EST
DTSTART:20231105T060000
END:STANDARD
BEGIN:DAYLIGHT
TZOFFSETFROM:-0500
TZOFFSETTO:-0400
TZNAME:EDT
DTSTART:20240310T070000
END:DAYLIGHT
BEGIN:STANDARD
TZOFFSETFROM:-0400
TZOFFSETTO:-0500
TZNAME:EST
DTSTART:20241103T060000
END:STANDARD
END:VTIMEZONE
BEGIN:VEVENT
DTSTART;TZID=America/New_York:20230407T090000
DTEND;TZID=America/New_York:20230407T170000
DTSTAMP:20260421T220735
CREATED:20230117T220655Z
LAST-MODIFIED:20230119T172557Z
UID:12426-1680858000-1680886800@cliftoninstitute.org
SUMMARY:Vernal Pool Camp
DESCRIPTION:Home for spring break? Come to our first ever day-long spring break camp\, all about vernal pools! \nCampers will spend a day with Clifton Institute staff studying the animals that live in our vernal pools! Vernal pools are small bodies of water which dry out for part of the year\, making them the perfect amphibian nurseries. They are home to frog\, salamander\, and dragonfly young\, as well as a wriggling mass of other creatures! \nWe will spend the first part of the day learning about amphibian and insect life cycles\, as well as how to identify many of our local amphibian species by sight and sound. We’ll spend the rest of the day hiking to the pools with our rain boots and research equipment and learning how to safely handle amphibians\, check water quality\, and interpret our findings. \nCampers will have the chance to participate in real science\, practice nature journaling\, as well as use their creativity to design their own amphibian paradise. \nCampers will need: \n-Picnic lunch \n-2 snacks \n-Rubber boots \n-Backpack \n-Water bottle \nThis is a drop-off program and a signed waiver will be required for participation. If the cost is prohibitive or you are missing something from the needs list\, please email Bridget Bradshaw (bbradshaw@cliftoninstitute.org). More details about the day will be sent 2 weeks prior to the program. \nPrice: $50 ($40 for Friends of Clifton) per child \nAge: Students in grade 1-6. \nWeather policy: Rain or shine except in case of extreme weather (e.g. thunderstorm or significant snow fall). \nCOVID-19 Information: This program will be entirely outdoors (an outside porta potty will be available). At the moment\, we are requiring that everyone have a mask with them in case we need to go inside during inclement weather\, to administer first aid\, or for other reasons. Please do not attend if you are experiencing or have experienced in the last two weeks any symptoms associated with COVID-19 (fever\, cough\, shortness of breath\, etc.) \nRegistration is REQUIRED. Please note that our registration system may only give you the space for one attendee. If you are registering for multiple children\, please put all of their first names in the First Name box. Thank you! \nCancellation policy: If you register and can no longer attend this event\, please let us know as soon as possible so that we can open your spot to someone else. No refunds will be given upon registrant cancellation. \nBy registering for this event\, you are affirming that you have read and agree to our liability release policy.
URL:https://cliftoninstitute.org/event/vernal-pool-camp/
LOCATION:The Clifton Institute\, 6712 Blantyre Road\, Warrenton\, VA\, 20187\, United States
CATEGORIES:Youth programs
ATTACH;FMTTYPE=image/jpeg:https://cliftoninstitute.org/wp-content/uploads/2023/01/Vernal-Pool-Camp.jpg
GEO:38.7751537;-77.7981971
X-APPLE-STRUCTURED-LOCATION;VALUE=URI;X-ADDRESS=The Clifton Institute 6712 Blantyre Road Warrenton VA 20187 United States;X-APPLE-RADIUS=500;X-TITLE=6712 Blantyre Road:geo:-77.7981971,38.7751537
END:VEVENT
END:VCALENDAR