BEGIN:VCALENDAR
VERSION:2.0
PRODID:-//The Clifton Institute - ECPv6.15.15//NONSGML v1.0//EN
CALSCALE:GREGORIAN
METHOD:PUBLISH
X-ORIGINAL-URL:https://cliftoninstitute.org
X-WR-CALDESC:Events for The Clifton Institute
REFRESH-INTERVAL;VALUE=DURATION:PT1H
X-Robots-Tag:noindex
X-PUBLISHED-TTL:PT1H
BEGIN:VTIMEZONE
TZID:America/New_York
BEGIN:DAYLIGHT
TZOFFSETFROM:-0500
TZOFFSETTO:-0400
TZNAME:EDT
DTSTART:20210314T070000
END:DAYLIGHT
BEGIN:STANDARD
TZOFFSETFROM:-0400
TZOFFSETTO:-0500
TZNAME:EST
DTSTART:20211107T060000
END:STANDARD
BEGIN:DAYLIGHT
TZOFFSETFROM:-0500
TZOFFSETTO:-0400
TZNAME:EDT
DTSTART:20220313T070000
END:DAYLIGHT
BEGIN:STANDARD
TZOFFSETFROM:-0400
TZOFFSETTO:-0500
TZNAME:EST
DTSTART:20221106T060000
END:STANDARD
BEGIN:DAYLIGHT
TZOFFSETFROM:-0500
TZOFFSETTO:-0400
TZNAME:EDT
DTSTART:20230312T070000
END:DAYLIGHT
BEGIN:STANDARD
TZOFFSETFROM:-0400
TZOFFSETTO:-0500
TZNAME:EST
DTSTART:20231105T060000
END:STANDARD
END:VTIMEZONE
BEGIN:VEVENT
DTSTART;TZID=America/New_York:20220903T130000
DTEND;TZID=America/New_York:20220903T150000
DTSTAMP:20260422T093248
CREATED:20220520T215922Z
LAST-MODIFIED:20220520T225649Z
UID:10099-1662210000-1662217200@cliftoninstitute.org
SUMMARY:Nature Club
DESCRIPTION:Over 9 sessions beginning in September and running through May\, the members of Nature Club will work together to create a map of an uncharted piece of the Clifton Institute and build a trail that runs through it. The project will culminate in an unveiling party for the new trail led by the students themselves.  This is a chance for interested\, motivated naturalists to discover corners of the property that not even the staff have seen!  We will focus on new skills each month including cartography\, compass-work\, and plant ID.  By working in the same patch of woods each session and watching it change with the onset of spring\, students will have the opportunity to feel deep connection to a piece of land. Nature Club will meet on the first Saturday of each month 1-3PM on the following dates: \nSeptember 3 \nOctober 1 \nNovember 5 \nDecember 3 \nJanuary 7 \nFebruary 4 \nMarch 4 \nApril 1 \nMay 6- Unveiling Party! \nCost: $90 ($72 for Friends of the Clifton Institute) \n\n\nAge: Youth grades 7-12; this program is drop off only. \n\n\nWeather policy: Rain or shine except in case of extreme weather (e.g. thunderstorm or significant snow fall). Please check your email for updates on the morning of the event. \n\n\nCOVID-19 Information: This program will be entirely outdoors (an outside port-o-potty will be available). We require that everyone have a mask with them in case we need to go inside during inclement weather\, to administer first aid\, or for other reasons. Please do not attend if you are experiencing or have experienced in the last two weeks any symptoms associated with COVID-19 (fever\, cough\, shortness of breath\, etc.). \n\n\nRegistration is REQUIRED. No refunds will be given upon registrant cancellation. \n\n\n\nBy registering for this event\, you are affirming that you have read and agree to our liability release policy. \n\n\nWe look forward to seeing you at the Clifton Institute!
URL:https://cliftoninstitute.org/event/nature-club-6/2022-09-03/
LOCATION:6712 Blantyre Road\, Warrenton\, VA\, 20187\, United States
CATEGORIES:Youth programs
ATTACH;FMTTYPE=image/png:https://cliftoninstitute.org/wp-content/uploads/2021/09/nature-club-2.5-1.png
GEO:38.7751537;-77.7981971
X-APPLE-STRUCTURED-LOCATION;VALUE=URI;X-ADDRESS=6712 Blantyre Road Warrenton VA 20187 United States;X-APPLE-RADIUS=500;X-TITLE=6712 Blantyre Road:geo:-77.7981971,38.7751537
END:VEVENT
BEGIN:VEVENT
DTSTART;TZID=America/New_York:20220907T090000
DTEND;TZID=America/New_York:20220907T120000
DTSTAMP:20260422T093248
CREATED:20220416T185144Z
LAST-MODIFIED:20220520T220943Z
UID:9745-1662541200-1662552000@cliftoninstitute.org
SUMMARY:Nature School
DESCRIPTION:We’re offering another year of Nature School! Each class will include a structured learning activity on a particular topic and an exploratory nature walk. For example\, in the past we studied vultures\, bird eggs and nests\, leaf identification\, beaver dams\, and more. We will repeat some topics from the 2021-2022 school year\, but we will approach them from a new angle or do a new activity\, so we invite returning and new Nature School students alike to sign up! Nature School will take place every other Wednesday from 9Am to 12 noon on the following dates: September 7\, September 21\, October 5\, October 19\, November 2\, November 16\, November 30\, December 14\, January 4\, January 18\, February 1\, February 15\, March 1\, March 15\, March 29\, April 12\, April 26\, and May 10. \nRegistration Notes: *If you are purchasing tickets for multiple students\, please write all of their names together in the same box\, i.e. “Sam\, Martie\, and Alex Bradshaw” when registering.  The form does not give you separate spaces to enter different names for each ticket.* Please also note that we are changing the age range for Nature School from K-5 to Grades 1-5. Thank you for your understanding! \n\nCost: $180 ($145 for Friends of the Clifton Institute) \n\n\nAge: Children in grades 1-5\, drop-off only. \n\n\nBring: Please bring a small backpack packed with a full water bottle and snack. We also recommend a small towel\, seat pad\, or piece of tarp to sit on on the trail. \n\n\nWeather policy: Rain or shine except in case of extreme weather (e.g. thunderstorm or significant snow fall). \nCOVID-19 Information: This program will be entirely outdoors (an outside porta potty will be available). At the moment\, we are requiring that everyone have a mask with them in case we need to go inside during inclement weather\, to administer first aid\, or for other reasons. Please do not attend if you are experiencing or have experienced in the last two weeks any symptoms associated with COVID-19 (fever\, cough\, shortness of breath\, etc.). We will monitor the situation as we get closer to fall and may loosen this requirement. \n\n\nRegistration is REQUIRED. Please note that our registration system will likely only give you the space for one attendee. If you are registering for multiple children\, please put all of their first names in the First Name box. Thank you! \n\n\nCancellation policy: If you register and can no longer attend this event\, please let us know as soon as possible so that we can open your spot to someone else. No refunds will be given upon registrant cancellation. No refunds will be given for any missed classes. \n\n\nBy registering for this event\, you are affirming that you have read and agree to our liability release policy. \n\n\nWe look forward to seeing you at the Clifton Institute!
URL:https://cliftoninstitute.org/event/nature-school-fall-22/2022-09-07/
LOCATION:The Clifton Institute\, 6712 Blantyre Road\, Warrenton\, VA\, 20187\, United States
CATEGORIES:Youth programs
ATTACH;FMTTYPE=image/png:https://cliftoninstitute.org/wp-content/uploads/2022/04/nature-school.png
GEO:38.7751537;-77.7981971
X-APPLE-STRUCTURED-LOCATION;VALUE=URI;X-ADDRESS=The Clifton Institute 6712 Blantyre Road Warrenton VA 20187 United States;X-APPLE-RADIUS=500;X-TITLE=6712 Blantyre Road:geo:-77.7981971,38.7751537
END:VEVENT
BEGIN:VEVENT
DTSTART;TZID=America/New_York:20220908T100000
DTEND;TZID=America/New_York:20220908T113000
DTSTAMP:20260422T093248
CREATED:20220419T195135Z
LAST-MODIFIED:20220520T221103Z
UID:9785-1662631200-1662636600@cliftoninstitute.org
SUMMARY:Piedmont Polliwogs
DESCRIPTION:Piedmont Polliwogs is a monthly program for pre-K children that includes a lesson on a different topic every month\, story time and short nature walk. As of fall 2022\, we are changing registration for Polliwogs: instead of signing up month to month\, you can sign up for a whole series of monthly programs. This will help us keep better track of registrations and plan appropriately for each session. The series will take place on the second Thursday of each month from 10 to 11:30 on the following dates: September 8\, October 13\, November 10\, December 8\, January 12\, February 9\, March 9\, April 13\, and May 11. \nWe understand that you may have children outside the 2-5-year-old range that need to come along with you to Polliwogs. You are welcome to keep them with you or for them to entertain themselves during the class. It is also fine with us if slightly older children participate. When you register below\, please register and pay for the number of children you expect to participate in the class each month. \nRegistration Notes: *If you are purchasing tickets for multiple students\, please write all of their names together in the same box\, i.e. “Sam\, Martie\, and Alex Bradshaw” when registering.  The form does not give you separate spaces to enter different names for each ticket.* Please also note that we are changing the age range for Nature School from K-5 to Grades 1-5. Thank you for your understanding! \nCost: $90 per child ($75 for Friends of the Clifton Institute) \nAge: Children ages 2-5\, accompanied by a caregiver \nBring: Please bring a snack and drink. There will be a snack break. \nWeather policy: Rain or shine except in case of extreme weather (e.g. thunderstorm or significant snow fall). \nCOVID-19 Information: This program will be entirely outdoors (an outside porta potty will be available). Please do not attend if you are experiencing or have experienced in the last two weeks any symptoms associated with COVID-19 (fever\, cough\, shortness of breath\, etc.). \nRegistration is REQUIRED. \nCancellation policy: If you register and can no longer attend this series\, please let us know as soon as possible so that we can open your spot to someone else. No refunds will be given upon registrant cancellation. No refunds will be given for any missed programs. \nBy registering for this event\, you are affirming that you have read and agree to our liability release policy. \nWe look forward to seeing you at the Clifton Institute!
URL:https://cliftoninstitute.org/event/piedmont-polliwogs-2022/2022-09-08/
LOCATION:The Clifton Institute\, 6712 Blantyre Road\, Warrenton\, VA\, 20187\, United States
CATEGORIES:Family programs,Youth programs
ATTACH;FMTTYPE=image/png:https://cliftoninstitute.org/wp-content/uploads/2021/09/piedmont-polliwogs-2.5-1-1.png
GEO:38.7751537;-77.7981971
X-APPLE-STRUCTURED-LOCATION;VALUE=URI;X-ADDRESS=The Clifton Institute 6712 Blantyre Road Warrenton VA 20187 United States;X-APPLE-RADIUS=500;X-TITLE=6712 Blantyre Road:geo:-77.7981971,38.7751537
END:VEVENT
END:VCALENDAR