BEGIN:VCALENDAR
VERSION:2.0
PRODID:-//The Clifton Institute - ECPv6.15.15//NONSGML v1.0//EN
CALSCALE:GREGORIAN
METHOD:PUBLISH
X-ORIGINAL-URL:https://cliftoninstitute.org
X-WR-CALDESC:Events for The Clifton Institute
REFRESH-INTERVAL;VALUE=DURATION:PT1H
X-Robots-Tag:noindex
X-PUBLISHED-TTL:PT1H
BEGIN:VTIMEZONE
TZID:America/New_York
BEGIN:DAYLIGHT
TZOFFSETFROM:-0500
TZOFFSETTO:-0400
TZNAME:EDT
DTSTART:20200308T070000
END:DAYLIGHT
BEGIN:STANDARD
TZOFFSETFROM:-0400
TZOFFSETTO:-0500
TZNAME:EST
DTSTART:20201101T060000
END:STANDARD
BEGIN:DAYLIGHT
TZOFFSETFROM:-0500
TZOFFSETTO:-0400
TZNAME:EDT
DTSTART:20210314T070000
END:DAYLIGHT
BEGIN:STANDARD
TZOFFSETFROM:-0400
TZOFFSETTO:-0500
TZNAME:EST
DTSTART:20211107T060000
END:STANDARD
BEGIN:DAYLIGHT
TZOFFSETFROM:-0500
TZOFFSETTO:-0400
TZNAME:EDT
DTSTART:20220313T070000
END:DAYLIGHT
BEGIN:STANDARD
TZOFFSETFROM:-0400
TZOFFSETTO:-0500
TZNAME:EST
DTSTART:20221106T060000
END:STANDARD
END:VTIMEZONE
BEGIN:VEVENT
DTSTART;TZID=America/New_York:20210810T100000
DTEND;TZID=America/New_York:20210810T110000
DTSTAMP:20260423T053109
CREATED:20210611T164518Z
LAST-MODIFIED:20210728T193447Z
UID:5769-1628589600-1628593200@cliftoninstitute.org
SUMMARY:Piedmont Polliwogs
DESCRIPTION:Piedmont Polliwogs is a monthly pre-K program that includes an outdoor story time and short nature walk. \nCost: Free! \nAge: 2 to 5\, accompanied by a caregiver \nWeather policy: Date and time subject to change. Please check your email for updates on the morning of the event. \nCancellation policy:  If you register and can no longer attend this event\, please let us know as soon as possible. ‘No-shows’ have a significant impact on the success of our programs. \nWhat to wear: Dress for the weather and wear sturdy shoes. \nWhat to bring: Blanket to sit on \nRSVP REQUIRED. Please note\, this is a new event registration system. If you have any problems\, please contact Alison at azak@cliftoninstitute.org.\n \nWe look forward to seeing you at the Clifton Institute!
URL:https://cliftoninstitute.org/event/piedmont-polliwogs/
LOCATION:The Clifton Institute\, 6712 Blantyre Road\, Warrenton\, VA\, 20187\, United States
CATEGORIES:Family programs,Youth programs
GEO:38.7751537;-77.7981971
X-APPLE-STRUCTURED-LOCATION;VALUE=URI;X-ADDRESS=The Clifton Institute 6712 Blantyre Road Warrenton VA 20187 United States;X-APPLE-RADIUS=500;X-TITLE=6712 Blantyre Road:geo:-77.7981971,38.7751537
END:VEVENT
END:VCALENDAR