BEGIN:VCALENDAR
VERSION:2.0
PRODID:-//The Clifton Institute - ECPv6.15.15//NONSGML v1.0//EN
CALSCALE:GREGORIAN
METHOD:PUBLISH
X-ORIGINAL-URL:https://cliftoninstitute.org
X-WR-CALDESC:Events for The Clifton Institute
REFRESH-INTERVAL;VALUE=DURATION:PT1H
X-Robots-Tag:noindex
X-PUBLISHED-TTL:PT1H
BEGIN:VTIMEZONE
TZID:America/New_York
BEGIN:DAYLIGHT
TZOFFSETFROM:-0500
TZOFFSETTO:-0400
TZNAME:EDT
DTSTART:20230312T070000
END:DAYLIGHT
BEGIN:STANDARD
TZOFFSETFROM:-0400
TZOFFSETTO:-0500
TZNAME:EST
DTSTART:20231105T060000
END:STANDARD
BEGIN:DAYLIGHT
TZOFFSETFROM:-0500
TZOFFSETTO:-0400
TZNAME:EDT
DTSTART:20240310T070000
END:DAYLIGHT
BEGIN:STANDARD
TZOFFSETFROM:-0400
TZOFFSETTO:-0500
TZNAME:EST
DTSTART:20241103T060000
END:STANDARD
BEGIN:DAYLIGHT
TZOFFSETFROM:-0500
TZOFFSETTO:-0400
TZNAME:EDT
DTSTART:20250309T070000
END:DAYLIGHT
BEGIN:STANDARD
TZOFFSETFROM:-0400
TZOFFSETTO:-0500
TZNAME:EST
DTSTART:20251102T060000
END:STANDARD
END:VTIMEZONE
BEGIN:VEVENT
DTSTART;TZID=America/New_York:20241011T173000
DTEND;TZID=America/New_York:20241011T193000
DTSTAMP:20260421T090542
CREATED:20240912T193446Z
LAST-MODIFIED:20240912T193525Z
UID:18180-1728667800-1728675000@cliftoninstitute.org
SUMMARY:Volunteer Appreciation Barbecue
DESCRIPTION:We are so grateful for our volunteers’ help and support. We could not accomplish our mission without you! We would like to thank you by hosting you and your families for an evening at the Clifton Institute. This will be a very casual event. We will provide food and drinks. All you need to bring is yourself. You’re welcome to arrive before 5:30 and hang out on the lawn or go for a walk if that makes coming after work easier. Please RSVP and indicate any dietary restrictions below. We hope we’ll see you then!
URL:https://cliftoninstitute.org/event/volunteer-appreciation-barbecue-24/
LOCATION:The Clifton Institute\, 6712 Blantyre Road\, Warrenton\, VA\, 20187\, United States
CATEGORIES:Volunteer days
ATTACH;FMTTYPE=image/png:https://cliftoninstitute.org/wp-content/uploads/2024/09/Volunteer-Appreciation-Barbecue.png
GEO:38.7751537;-77.7981971
X-APPLE-STRUCTURED-LOCATION;VALUE=URI;X-ADDRESS=The Clifton Institute 6712 Blantyre Road Warrenton VA 20187 United States;X-APPLE-RADIUS=500;X-TITLE=6712 Blantyre Road:geo:-77.7981971,38.7751537
END:VEVENT
BEGIN:VEVENT
DTSTART;TZID=America/New_York:20241012T090000
DTEND;TZID=America/New_York:20241012T120000
DTSTAMP:20260421T090542
CREATED:20240928T141143Z
LAST-MODIFIED:20240928T141143Z
UID:18556-1728723600-1728734400@cliftoninstitute.org
SUMMARY:Volunteer day: Invasive management
DESCRIPTION:Invasive plant species crowd out native plants and provide little to no food for native animals. Come help us remove them to make the field station habitat the best it can be! Led by Habitat Specialist Andrew Eberly. All levels of experience welcome. \nCost: Free! \nAge: Adults and children ages 12 and up\, accompanied by an adult. \nBring: Please bring clothing appropriate for the weather\, gloves and/or small tools if desired. \nWeather policy: Rain or shine except in case of extreme weather (e.g. thunderstorm or significant snow fall). \nCOVID-19 Information: This program will be entirely outdoors (an outside porta potty will be available). Please do not attend if you are experiencing or have experienced in the last two weeks any symptoms associated with COVID-19 (fever\, cough\, shortness of breath\, etc.). \nRegistration is REQUIRED. \nCancellation policy: If you register and can no longer attend this event\, please let us know as soon as possible so that we can open your spot to someone else. \nBy registering for this event\, you are affirming that you have read and agree to our liability release policy. \nWe look forward to seeing you at the Clifton Institute!
URL:https://cliftoninstitute.org/event/volunteer-day-invasive-management-2/
LOCATION:The Clifton Institute\, 6712 Blantyre Road\, Warrenton\, VA\, 20187\, United States
CATEGORIES:Volunteer days
ATTACH;FMTTYPE=image/png:https://cliftoninstitute.org/wp-content/uploads/2022/04/Copy-of-volunteer-day-2.5.png
GEO:38.7751537;-77.7981971
X-APPLE-STRUCTURED-LOCATION;VALUE=URI;X-ADDRESS=The Clifton Institute 6712 Blantyre Road Warrenton VA 20187 United States;X-APPLE-RADIUS=500;X-TITLE=6712 Blantyre Road:geo:-77.7981971,38.7751537
END:VEVENT
BEGIN:VEVENT
DTSTART;TZID=America/New_York:20241019T140000
DTEND;TZID=America/New_York:20241019T160000
DTSTAMP:20260421T090542
CREATED:20240913T160352Z
LAST-MODIFIED:20240925T205510Z
UID:18187-1729346400-1729353600@cliftoninstitute.org
SUMMARY:Lawn Lab Grand Opening and Bioblitz
DESCRIPTION:This fall the Clifton Institute\, in collaboration with Fauquier County Public Schools and the Fauquier County We Need Bees Committee\, is beginning an exciting new project: Lawn Lab. This experiment is all about studying what happens to life in lawns that only get mowed once a year instead of every week. Clifton staff along with students from Grace Miller Elementary School and Liberty High School will be collecting data on changes in plant and animal communities that live in a 3-acre lawn on school grounds as 2 of those acres are taken out of the normal mowing schedule. The adjacent acre will get mowed once a week as per usual. This project is a rare example of a win-win-win-win: students will spend time outside learning how to identify native plants and animals and getting hands-on experience doing scientific research\, the school campus will become better habitat for pollinators\, the county will spend less money and emit less pollution by mowing less often\, and the experiment will serve as a demonstration plot to people in the community. \nWe invite you to join us for a grand opening and bioblitz on October 19. Our goal is to collect baseline data: what plants and animals already call the Lawn Lab home? Once we have this information\, we can visit each year and see what new plant and animals show up (or which ones disappear). We don’t expect high diversity this year\, but you never know what we’ll find. If you have experience identifying plants and insects\, that’s great. If not\, we will give you all the training and tools you’ll need. We’ll send participants out in small teams to survey sections of the experimental fields and we’ll keep a leader board running to see who can find the most species! We’ll also have family-friendly activities for the younger naturalists among us. \nAt 3:30 we’ll take a break to have an official opening ceremony\, with snacks\, drinks\, and brief remarks. \nThis event is a chance to get in on the ground floor of this exciting project\, contribute to science\, and join the local community of people who want to learn about and take care of native biodiversity! All ages are welcome; children must be accompanied by a caregiver. \nWe are grateful to support from the Chesapeake Bay Trust\, the Kortlandt Fund\, the Warrenton Garden Club\, and individual donors for Lawn Lab. \nPlease park in the Grace Miller Elementary School parking lot. The experimental fields are a very short walk (a couple hundred yards) southeast of the parking lot. There will be signs\, but you should be able to see our tables and staff from the parking lots and as you drive in along Catlett Road. \nDate and time subject to change dependent on weather. Please check your email for updates on the morning of the event. If we need to cancel or postpone\, we will also post any updates on our Facebook page. \nBy registering for this event\, you are affirming that you have read and agree to our liability release policy.
URL:https://cliftoninstitute.org/event/lawn-lab-grand-opening-and-bioblitz/
LOCATION:Grace Miller Elementary School\, 6248 Catlett Rd\, Bealeton\, 22712
CATEGORIES:Adult programs,Community science,Family programs,Volunteer days
ATTACH;FMTTYPE=image/png:https://cliftoninstitute.org/wp-content/uploads/2024/09/Lawn-Lab-opening-ceremony1.png
GEO:38.5869421;-77.7627395
X-APPLE-STRUCTURED-LOCATION;VALUE=URI;X-ADDRESS=Grace Miller Elementary School 6248 Catlett Rd Bealeton 22712;X-APPLE-RADIUS=500;X-TITLE=6248 Catlett Rd:geo:-77.7627395,38.5869421
END:VEVENT
BEGIN:VEVENT
DTSTART;TZID=America/New_York:20241026T090000
DTEND;TZID=America/New_York:20241026T120000
DTSTAMP:20260421T090542
CREATED:20240928T141449Z
LAST-MODIFIED:20241024T163738Z
UID:18559-1729933200-1729944000@cliftoninstitute.org
SUMMARY:**Cancelled** Volunteer Day: Invasive Management
DESCRIPTION:Invasive plant species crowd out native plants and provide little to no food for native animals. Come help us remove them to make the field station habitat the best it can be! Led by Habitat Specialist Andrew Eberly. All levels of experience welcome. \nCost: Free! \nAge: Adults and children ages 12 and up\, accompanied by an adult. \nBring: Please bring clothing appropriate for the weather\, gloves and/or small tools if desired. \nWeather policy: Rain or shine except in case of extreme weather (e.g. thunderstorm or significant snow fall). \nCOVID-19 Information: This program will be entirely outdoors (an outside porta potty will be available). Please do not attend if you are experiencing or have experienced in the last two weeks any symptoms associated with COVID-19 (fever\, cough\, shortness of breath\, etc.). \nRegistration is REQUIRED. \nCancellation policy: If you register and can no longer attend this event\, please let us know as soon as possible so that we can open your spot to someone else. \nBy registering for this event\, you are affirming that you have read and agree to our liability release policy. \nWe look forward to seeing you at the Clifton Institute!
URL:https://cliftoninstitute.org/event/volunteer-day-invasive-management-3/
LOCATION:The Clifton Institute\, 6712 Blantyre Road\, Warrenton\, VA\, 20187\, United States
CATEGORIES:Volunteer days
ATTACH;FMTTYPE=image/png:https://cliftoninstitute.org/wp-content/uploads/2022/04/Copy-of-volunteer-day-2.5.png
GEO:38.7751537;-77.7981971
X-APPLE-STRUCTURED-LOCATION;VALUE=URI;X-ADDRESS=The Clifton Institute 6712 Blantyre Road Warrenton VA 20187 United States;X-APPLE-RADIUS=500;X-TITLE=6712 Blantyre Road:geo:-77.7981971,38.7751537
END:VEVENT
END:VCALENDAR