BEGIN:VCALENDAR
VERSION:2.0
PRODID:-//The Clifton Institute - ECPv6.15.15//NONSGML v1.0//EN
CALSCALE:GREGORIAN
METHOD:PUBLISH
X-ORIGINAL-URL:https://cliftoninstitute.org
X-WR-CALDESC:Events for The Clifton Institute
REFRESH-INTERVAL;VALUE=DURATION:PT1H
X-Robots-Tag:noindex
X-PUBLISHED-TTL:PT1H
BEGIN:VTIMEZONE
TZID:America/New_York
BEGIN:DAYLIGHT
TZOFFSETFROM:-0500
TZOFFSETTO:-0400
TZNAME:EDT
DTSTART:20230312T070000
END:DAYLIGHT
BEGIN:STANDARD
TZOFFSETFROM:-0400
TZOFFSETTO:-0500
TZNAME:EST
DTSTART:20231105T060000
END:STANDARD
BEGIN:DAYLIGHT
TZOFFSETFROM:-0500
TZOFFSETTO:-0400
TZNAME:EDT
DTSTART:20240310T070000
END:DAYLIGHT
BEGIN:STANDARD
TZOFFSETFROM:-0400
TZOFFSETTO:-0500
TZNAME:EST
DTSTART:20241103T060000
END:STANDARD
BEGIN:DAYLIGHT
TZOFFSETFROM:-0500
TZOFFSETTO:-0400
TZNAME:EDT
DTSTART:20250309T070000
END:DAYLIGHT
BEGIN:STANDARD
TZOFFSETFROM:-0400
TZOFFSETTO:-0500
TZNAME:EST
DTSTART:20251102T060000
END:STANDARD
END:VTIMEZONE
BEGIN:VEVENT
DTSTART;TZID=America/New_York:20240912T190000
DTEND;TZID=America/New_York:20240912T200000
DTSTAMP:20260421T104432
CREATED:20240724T173655Z
LAST-MODIFIED:20240724T173655Z
UID:17824-1726167600-1726171200@cliftoninstitute.org
SUMMARY:Education Volunteer Information Session *Virtual*
DESCRIPTION:***THIS IS A VIRTUAL EVENT*** \nThe Clifton Institute provides around 40 field trips per year to around 1\,200 pre-K-12th students from Fauquier County and beyond. During the field trips\, students learn about the natural history of the Northern Virginia piedmont and participate in some of our ongoing research projects\, such as our Native Grassland Restoration or Vernal Pool Monitoring! \nWe rely on an excellent team of volunteers to help run large field trips (sometimes 90 students at a time) alongside Clifton’s small education staff. This virtual program will be an introduction to Clifton’s educational mission\, an overview of what field trips look like\, and an opportunity for curious folks to hear about the volunteer positions available and ask questions. \nIf\, after the online session you feel like you’d be willing to help with our field trip program\, you can attend the in-person training on Friday\, September 20th. All volunteers hoping to help with the education programs must attend the in-person training. Returning volunteers from previous years are encouraged but not required to attend the in-person training and do not need to attend this virtual session. \nA Zoom link will be sent to registered participants the day of the event. \nCost: Free! \nAge: Adults only. \n  \n 
URL:https://cliftoninstitute.org/event/education-volunteer-information-session-virtual/
LOCATION:The Clifton Institute\, 6712 Blantyre Road\, Warrenton\, VA\, 20187\, United States
CATEGORIES:Volunteer days
ATTACH;FMTTYPE=image/jpeg:https://cliftoninstitute.org/wp-content/uploads/2024/07/ED-volunteer-info.jpg
GEO:38.7751537;-77.7981971
X-APPLE-STRUCTURED-LOCATION;VALUE=URI;X-ADDRESS=The Clifton Institute 6712 Blantyre Road Warrenton VA 20187 United States;X-APPLE-RADIUS=500;X-TITLE=6712 Blantyre Road:geo:-77.7981971,38.7751537
END:VEVENT
BEGIN:VEVENT
DTSTART;TZID=America/New_York:20240914T090000
DTEND;TZID=America/New_York:20240914T120000
DTSTAMP:20260421T104432
CREATED:20240824T181221Z
LAST-MODIFIED:20240824T181221Z
UID:18092-1726304400-1726315200@cliftoninstitute.org
SUMMARY:Volunteer Day: Invasive Species Removal
DESCRIPTION:Invasive plant species crowd out native plants and provide little to no food for native animals. Come help us remove them to make the field station habitat the best it can be! Led by Habitat Specialist Andrew Eberly. All levels of experience welcome. \nCost: Free! \nAge: Adults and children ages 12 and up\, accompanied by an adult. \nBring: Please bring clothing appropriate for the weather\, gloves and/or small tools if desired. \nWeather policy: Rain or shine except in case of extreme weather (e.g. thunderstorm or significant snow fall). \nCOVID-19 Information: This program will be entirely outdoors (an outside porta potty will be available). Please do not attend if you are experiencing or have experienced in the last two weeks any symptoms associated with COVID-19 (fever\, cough\, shortness of breath\, etc.). \nRegistration is REQUIRED. \nCancellation policy: If you register and can no longer attend this event\, please let us know as soon as possible so that we can open your spot to someone else. \nBy registering for this event\, you are affirming that you have read and agree to our liability release policy. \nWe look forward to seeing you at the Clifton Institute!
URL:https://cliftoninstitute.org/event/volunteer-day-invasive-species-removal-16/
LOCATION:The Clifton Institute\, 6712 Blantyre Road\, Warrenton\, VA\, 20187\, United States
CATEGORIES:Volunteer days
ATTACH;FMTTYPE=image/png:https://cliftoninstitute.org/wp-content/uploads/2022/04/Copy-of-volunteer-day-2.5.png
GEO:38.7751537;-77.7981971
X-APPLE-STRUCTURED-LOCATION;VALUE=URI;X-ADDRESS=The Clifton Institute 6712 Blantyre Road Warrenton VA 20187 United States;X-APPLE-RADIUS=500;X-TITLE=6712 Blantyre Road:geo:-77.7981971,38.7751537
END:VEVENT
BEGIN:VEVENT
DTSTART;TZID=America/New_York:20240920T090000
DTEND;TZID=America/New_York:20240920T120000
DTSTAMP:20260421T104432
CREATED:20240724T175229Z
LAST-MODIFIED:20240724T175229Z
UID:17829-1726822800-1726833600@cliftoninstitute.org
SUMMARY:Education Volunteer Training - Fall Field Trips
DESCRIPTION:*This program is for returning Education Volunteers and/or those who attended the September 12th Zoom program.* \nWe will spend the morning going over the procedures for setting up for field trips\, collecting data with children\, and spend time practicing identifications for our two fall field trips: Insect Investigation and Grassland Restoration. Volunteers should be prepared to spend the morning out in the field (a literal field in this instance) and moving up to 1 mile over uneven terrain. This is a chance for new folks to get a feel for what to expect on a field trip (sans kids) and for returners to brush up and help teach those trying it out for the first time! \nCost: Free! \nAge: Adults only. \nWeather policy: Date and time subject to change dependent on weather. Please check your email for updates on the morning of the event. \nCOVID-19 Information: This program will be entirely outdoors (an outside porta potty will be available). Please do not attend if you are experiencing or have experienced in the last two weeks any symptoms associated with COVID-19 (fever\, cough\, shortness of breath\, etc.). \nRegistration is REQUIRED. \nCancellation policy: If you register and can no longer attend this event\, please let us know as soon as possible so that we can open your spot to someone else. \nBy registering for this event\, you are affirming that you have read and agree to our liability release policy. \nWe look forward to seeing you at the Clifton Institute!
URL:https://cliftoninstitute.org/event/education-volunteer-training-fall-field-trips/
LOCATION:The Clifton Institute\, 6712 Blantyre Road\, Warrenton\, VA\, 20187\, United States
CATEGORIES:Volunteer days
ATTACH;FMTTYPE=image/jpeg:https://cliftoninstitute.org/wp-content/uploads/2024/07/Copy-of-ED-volunteer-info.jpg
GEO:38.7751537;-77.7981971
X-APPLE-STRUCTURED-LOCATION;VALUE=URI;X-ADDRESS=The Clifton Institute 6712 Blantyre Road Warrenton VA 20187 United States;X-APPLE-RADIUS=500;X-TITLE=6712 Blantyre Road:geo:-77.7981971,38.7751537
END:VEVENT
BEGIN:VEVENT
DTSTART;TZID=America/New_York:20240928T090000
DTEND;TZID=America/New_York:20240928T120000
DTSTAMP:20260421T104432
CREATED:20240824T181408Z
LAST-MODIFIED:20240824T181408Z
UID:18095-1727514000-1727524800@cliftoninstitute.org
SUMMARY:Volunteer Day: Invasive Species Removal
DESCRIPTION:Invasive plant species crowd out native plants and provide little to no food for native animals. Come help us remove them to make the field station habitat the best it can be! Led by Habitat Specialist Andrew Eberly. All levels of experience welcome. \nCost: Free! \nAge: Adults and children ages 12 and up\, accompanied by an adult. \nBring: Please bring clothing appropriate for the weather\, gloves and/or small tools if desired. \nWeather policy: Rain or shine except in case of extreme weather (e.g. thunderstorm or significant snow fall). \nCOVID-19 Information: This program will be entirely outdoors (an outside porta potty will be available). Please do not attend if you are experiencing or have experienced in the last two weeks any symptoms associated with COVID-19 (fever\, cough\, shortness of breath\, etc.). \nRegistration is REQUIRED. \nCancellation policy: If you register and can no longer attend this event\, please let us know as soon as possible so that we can open your spot to someone else. \nBy registering for this event\, you are affirming that you have read and agree to our liability release policy. \nWe look forward to seeing you at the Clifton Institute!
URL:https://cliftoninstitute.org/event/volunteer-day-invasive-species-removal-17/
LOCATION:The Clifton Institute\, 6712 Blantyre Road\, Warrenton\, VA\, 20187\, United States
CATEGORIES:Volunteer days
ATTACH;FMTTYPE=image/png:https://cliftoninstitute.org/wp-content/uploads/2022/04/Copy-of-volunteer-day-2.5.png
GEO:38.7751537;-77.7981971
X-APPLE-STRUCTURED-LOCATION;VALUE=URI;X-ADDRESS=The Clifton Institute 6712 Blantyre Road Warrenton VA 20187 United States;X-APPLE-RADIUS=500;X-TITLE=6712 Blantyre Road:geo:-77.7981971,38.7751537
END:VEVENT
END:VCALENDAR