BEGIN:VCALENDAR
VERSION:2.0
PRODID:-//The Clifton Institute - ECPv6.15.15//NONSGML v1.0//EN
CALSCALE:GREGORIAN
METHOD:PUBLISH
X-ORIGINAL-URL:https://cliftoninstitute.org
X-WR-CALDESC:Events for The Clifton Institute
REFRESH-INTERVAL;VALUE=DURATION:PT1H
X-Robots-Tag:noindex
X-PUBLISHED-TTL:PT1H
BEGIN:VTIMEZONE
TZID:America/New_York
BEGIN:DAYLIGHT
TZOFFSETFROM:-0500
TZOFFSETTO:-0400
TZNAME:EDT
DTSTART:20230312T070000
END:DAYLIGHT
BEGIN:STANDARD
TZOFFSETFROM:-0400
TZOFFSETTO:-0500
TZNAME:EST
DTSTART:20231105T060000
END:STANDARD
BEGIN:DAYLIGHT
TZOFFSETFROM:-0500
TZOFFSETTO:-0400
TZNAME:EDT
DTSTART:20240310T070000
END:DAYLIGHT
BEGIN:STANDARD
TZOFFSETFROM:-0400
TZOFFSETTO:-0500
TZNAME:EST
DTSTART:20241103T060000
END:STANDARD
BEGIN:DAYLIGHT
TZOFFSETFROM:-0500
TZOFFSETTO:-0400
TZNAME:EDT
DTSTART:20250309T070000
END:DAYLIGHT
BEGIN:STANDARD
TZOFFSETFROM:-0400
TZOFFSETTO:-0500
TZNAME:EST
DTSTART:20251102T060000
END:STANDARD
END:VTIMEZONE
BEGIN:VEVENT
DTSTART;TZID=America/New_York:20240223T090000
DTEND;TZID=America/New_York:20240223T120000
DTSTAMP:20260421T210825
CREATED:20231227T193104Z
LAST-MODIFIED:20231227T193104Z
UID:15741-1708678800-1708689600@cliftoninstitute.org
SUMMARY:Education Volunteer Training - Spring Field Trips
DESCRIPTION:More than a thousand K-12 students visit the Clifton Institute on field trips each year. Our goal is to get students outside\, engaging with plants and animals\, and learning that anyone can participate in research–including kids! On these trips\, students help collect data for one of our on-going research projects. They spend anywhere between 2 and 5 hours exploring Clifton’s 900 acres\, learning to identify local species\, practicing field techniques\, analyzing data\, and discussing their results. \nFor some students\, this is their first experience in a semi-wild space. Having enthusiastic\, engaged adults at their side makes a huge difference in the quality of their trip. Clifton’s education team is very small and we need help to give these students the best experience possible! This training will focus on our spring Vernal Pool and BudOut Phenology field trips. If you are returning from the fall\, this training will get you up to speed on data collection techniques and background on these two new subjects. For those who are new\, you can check out our Field Trips page to learn a bit more about our trips! \nBy attending the training\, you are not automatically beholden to volunteer. This is simply a way for you to learn more about what the field trips look like\, what a volunteer’s role would be\, and hone your own identification and field work skills. At the end of the training\, there will be further instructions for how to sign up to volunteer. \nAvailability Requirements: Volunteers must be able to volunteer on Thursdays or Fridays\, as those are our big field trip days. Typically the trips go from around 9AM – 1:30PM (but vary by trip). Our busiest months are March – May. \nWe ask that volunteers help with a minimum of 3 trips per season. \nWe appreciate your interest in helping us get Fauquier County kids outside and engaged with science! If you have questions about this training or our education programs\, email Bridget Bradshaw (bbradshaw@cliftoninstitute.org).
URL:https://cliftoninstitute.org/event/education-volunteer-training-spring-field-trips/
LOCATION:The Clifton Institute\, 6712 Blantyre Road\, Warrenton\, VA\, 20187\, United States
CATEGORIES:Volunteer days
ATTACH;FMTTYPE=image/jpeg:https://cliftoninstitute.org/wp-content/uploads/2023/12/Education-Volunteer-training-.jpg
GEO:38.7751537;-77.7981971
X-APPLE-STRUCTURED-LOCATION;VALUE=URI;X-ADDRESS=The Clifton Institute 6712 Blantyre Road Warrenton VA 20187 United States;X-APPLE-RADIUS=500;X-TITLE=6712 Blantyre Road:geo:-77.7981971,38.7751537
END:VEVENT
BEGIN:VEVENT
DTSTART;TZID=America/New_York:20240224T090000
DTEND;TZID=America/New_York:20240224T120000
DTSTAMP:20260421T210825
CREATED:20231227T183707Z
LAST-MODIFIED:20231227T183707Z
UID:15729-1708765200-1708776000@cliftoninstitute.org
SUMMARY:Volunteer Day: Phenology Trail
DESCRIPTION:Help us get our phenology trail ready for spring! Please bring water\, gardening gloves if desired\, and appropriate dress for the weather. \nCost: Free! \nAge: Adults and children ages 12 and up\, accompanied by an adult. \nWeather policy: Date and time subject to change dependent on weather. Please check your email for updates on the morning of the event. \nCOVID-19 Information: This program will be entirely outdoors (an outside porta potty will be available). Please do not attend if you are experiencing or have experienced in the last two weeks any symptoms associated with COVID-19 (fever\, cough\, shortness of breath\, etc.). \nRegistration is REQUIRED. \nCancellation policy: If you register and can no longer attend this event\, please let us know as soon as possible so that we can open your spot to someone else. \nBy registering for this event\, you are affirming that you have read and agree to our liability release policy. \nWe look forward to seeing you at the Clifton Institute!
URL:https://cliftoninstitute.org/event/volunteer-day-phenology-trail/
LOCATION:The Clifton Institute\, 6712 Blantyre Road\, Warrenton\, VA\, 20187\, United States
CATEGORIES:Volunteer days
ATTACH;FMTTYPE=image/png:https://cliftoninstitute.org/wp-content/uploads/2022/04/Copy-of-volunteer-day-2.5.png
GEO:38.7751537;-77.7981971
X-APPLE-STRUCTURED-LOCATION;VALUE=URI;X-ADDRESS=The Clifton Institute 6712 Blantyre Road Warrenton VA 20187 United States;X-APPLE-RADIUS=500;X-TITLE=6712 Blantyre Road:geo:-77.7981971,38.7751537
END:VEVENT
END:VCALENDAR