BEGIN:VCALENDAR
VERSION:2.0
PRODID:-//The Clifton Institute - ECPv6.15.15//NONSGML v1.0//EN
CALSCALE:GREGORIAN
METHOD:PUBLISH
X-ORIGINAL-URL:https://cliftoninstitute.org
X-WR-CALDESC:Events for The Clifton Institute
REFRESH-INTERVAL;VALUE=DURATION:PT1H
X-Robots-Tag:noindex
X-PUBLISHED-TTL:PT1H
BEGIN:VTIMEZONE
TZID:America/New_York
BEGIN:DAYLIGHT
TZOFFSETFROM:-0500
TZOFFSETTO:-0400
TZNAME:EDT
DTSTART:20210314T070000
END:DAYLIGHT
BEGIN:STANDARD
TZOFFSETFROM:-0400
TZOFFSETTO:-0500
TZNAME:EST
DTSTART:20211107T060000
END:STANDARD
BEGIN:DAYLIGHT
TZOFFSETFROM:-0500
TZOFFSETTO:-0400
TZNAME:EDT
DTSTART:20220313T070000
END:DAYLIGHT
BEGIN:STANDARD
TZOFFSETFROM:-0400
TZOFFSETTO:-0500
TZNAME:EST
DTSTART:20221106T060000
END:STANDARD
BEGIN:DAYLIGHT
TZOFFSETFROM:-0500
TZOFFSETTO:-0400
TZNAME:EDT
DTSTART:20230312T070000
END:DAYLIGHT
BEGIN:STANDARD
TZOFFSETFROM:-0400
TZOFFSETTO:-0500
TZNAME:EST
DTSTART:20231105T060000
END:STANDARD
END:VTIMEZONE
BEGIN:VEVENT
DTSTART;TZID=America/New_York:20220507T100000
DTEND;TZID=America/New_York:20220507T120000
DTSTAMP:20260423T065731
CREATED:20220328T205942Z
LAST-MODIFIED:20220328T205942Z
UID:9408-1651917600-1651924800@cliftoninstitute.org
SUMMARY:Tree Wrapping for Beavers: Workshop and Volunteer Day
DESCRIPTION:During this workshop and volunteer day\, join Alison Zak\, M.A.\, founder of the Human-Beaver Coexistence Fund\, to learn about the importance of coexisting with beavers and how to protect your favorite trees from being chewed down. After a brief talk\, you’ll get hands-on experience wrapping trees using HBCF’s recommended methods. \n\nCost: Free! \n\n\nAge: Adults and children ages 12 and up\, accompanied by an adult. \n\n\nBring: Please bring your own work gloves if you have them. \n\n\nWeather policy: Date and time subject to change dependent on weather. Please check your email for updates on the morning of the event. \n\n\nCOVID-19 Information: This program will be entirely outdoors (an outside porta potty will be available). We require that everyone have a mask with them in case we need to go inside during inclement weather\, to administer first aid\, or for other reasons. Please do not attend if you are experiencing or have experienced in the last two weeks any symptoms associated with COVID-19 (fever\, cough\, shortness of breath\, etc.). \n\n\nRegistration is REQUIRED. \n\n\nCancellation policy: If you register and can no longer attend this event\, please let us know as soon as possible so that we can open your spot to someone else. \n\n\nBy registering for this event\, you are affirming that you have read and agree to our liability release policy. \n\n\nWe look forward to seeing you at the Clifton Institute! \n\n 
URL:https://cliftoninstitute.org/event/tree-wrapping-for-beavers/
LOCATION:The Clifton Institute\, 6712 Blantyre Road\, Warrenton\, VA\, 20187\, United States
CATEGORIES:Adult programs,Family programs,Volunteer days
ATTACH;FMTTYPE=image/png:https://cliftoninstitute.org/wp-content/uploads/2022/03/Copy-of-Spotted-Salamander-Walk.png
GEO:38.7751537;-77.7981971
X-APPLE-STRUCTURED-LOCATION;VALUE=URI;X-ADDRESS=The Clifton Institute 6712 Blantyre Road Warrenton VA 20187 United States;X-APPLE-RADIUS=500;X-TITLE=6712 Blantyre Road:geo:-77.7981971,38.7751537
END:VEVENT
BEGIN:VEVENT
DTSTART;TZID=America/New_York:20220518T090000
DTEND;TZID=America/New_York:20220518T150000
DTSTAMP:20260423T065731
CREATED:20220329T190817Z
LAST-MODIFIED:20220329T190817Z
UID:9424-1652864400-1652886000@cliftoninstitute.org
SUMMARY:Box Turtle Community Science Survey
DESCRIPTION:We are starting a research project study box turtles. We want to know what habitats they use\, what time of year they’re most active\, how big their territories are and how much overlap neighboring territories have\, and most importantly what we can do to help conserve this long-lived species. To start\, we need to have a better idea of how many box turtles there are on our property and where we can find them. And we need your help! In late May or early June\, we are going to wait for rainy weather and spend a day walking all of our trails looking for box turtles. We’ll divide into teams to cover more ground and the more eyes the better! No experience needed\, but we will be walking on uneven and potentially steep trails. \nWe put May 18 as the date as we expect that will be the earliest possible survey date\, but we will wait for the right weather and email registrants with more information. \n\nCost: Free! \n\n\nAge: Adults and children accompanied by an adult. \n\n\nBring: Please bring lunch\, snacks\, and water. We recommend wearing sturdy shoes and a hat. \n\n\nCOVID-19 Information: This program will be entirely outdoors (an outside porta potty will be available). Please do not attend if you are experiencing or have experienced in the last two weeks any symptoms associated with COVID-19 (fever\, cough\, shortness of breath\, etc.). \n\n\nRegistration is REQUIRED. \n\n\nBy registering for this event\, you are affirming that you have read and agree to our liability release policy. \n\n\nWe look forward to seeing you at the Clifton Institute! \n\n 
URL:https://cliftoninstitute.org/event/box-turtle-community-science-survey/
LOCATION:The Clifton Institute\, 6712 Blantyre Road\, Warrenton\, VA\, 20187\, United States
CATEGORIES:Adult programs,Community science,Family programs,Volunteer days
ATTACH;FMTTYPE=image/png:https://cliftoninstitute.org/wp-content/uploads/2022/03/Box-Turtle-Survey.png
GEO:38.7751537;-77.7981971
X-APPLE-STRUCTURED-LOCATION;VALUE=URI;X-ADDRESS=The Clifton Institute 6712 Blantyre Road Warrenton VA 20187 United States;X-APPLE-RADIUS=500;X-TITLE=6712 Blantyre Road:geo:-77.7981971,38.7751537
END:VEVENT
BEGIN:VEVENT
DTSTART;TZID=America/New_York:20220521T090000
DTEND;TZID=America/New_York:20220521T120000
DTSTAMP:20260423T065731
CREATED:20220507T200818Z
LAST-MODIFIED:20220514T220756Z
UID:10003-1653123600-1653134400@cliftoninstitute.org
SUMMARY:Volunteer Day: Trail Sign Installation
DESCRIPTION:Help us finish installing our trail signs! We may also do some light trail maintenance. Please wear good sturdy shoes\, and bring shovels and work gloves if you have them. \n  \nAge: Adults only and children ages 12 and up\, accompanied by an adult. \nWeather policy: Date and time subject to change dependent on weather. Please check your email for updates on the morning of the event.\n\nCOVID-19 Information: This program will be entirely outdoors (an outside port-o-potty will be available). We require that everyone have a mask with them in case we need to go inside during inclement weather\, to administer first aid\, or for other reasons. Please do not attend if you are experiencing or have experienced in the last two weeks any symptoms associated with COVID-19 (fever\, cough\, shortness of breath\, etc.). \nRegistration is REQUIRED so that we can communicate with you in case of changes. \nBefore attending this event\, please read the information included on our liability release form (click here).
URL:https://cliftoninstitute.org/event/volunteer-day-trail-sign-installation-3/
LOCATION:The Clifton Institute\, 6712 Blantyre Road\, Warrenton\, VA\, 20187\, United States
CATEGORIES:Adult programs,Volunteer days
ATTACH;FMTTYPE=image/png:https://cliftoninstitute.org/wp-content/uploads/2022/04/Copy-of-volunteer-day-2.5.png
GEO:38.7751537;-77.7981971
X-APPLE-STRUCTURED-LOCATION;VALUE=URI;X-ADDRESS=The Clifton Institute 6712 Blantyre Road Warrenton VA 20187 United States;X-APPLE-RADIUS=500;X-TITLE=6712 Blantyre Road:geo:-77.7981971,38.7751537
END:VEVENT
BEGIN:VEVENT
DTSTART;TZID=America/New_York:20220528T093000
DTEND;TZID=America/New_York:20220528T123000
DTSTAMP:20260423T065731
CREATED:20220507T202343Z
LAST-MODIFIED:20220514T220729Z
UID:10006-1653730200-1653741000@cliftoninstitute.org
SUMMARY:Volunteer Day: Plant Propagation
DESCRIPTION:It’s officially spring\, and that means there is a lot to do in our gardens and greenhouse. Help us weed\, re-pot\, plant\, and organize our native plants. All you need to bring is sunscreen\, bug spray\, and good working gloves. \n  \nAge: Adults only and children ages 12 and up\, accompanied by an adult. \nWeather policy: Date and time subject to change dependent on weather. Please check your email for updates on the morning of the event.\n\nCOVID-19 Information: This program will be entirely outdoors (an outside port-o-potty will be available). We require that everyone have a mask with them in case we need to go inside during inclement weather\, to administer first aid\, or for other reasons. Please do not attend if you are experiencing or have experienced in the last two weeks any symptoms associated with COVID-19 (fever\, cough\, shortness of breath\, etc.). \nRegistration is REQUIRED so that we can communicate with you in case of changes. \nBefore attending this event\, please read the information included on our liability release form (click here).
URL:https://cliftoninstitute.org/event/volunteer-day-plant-propagation/
LOCATION:The Clifton Institute\, 6712 Blantyre Road\, Warrenton\, VA\, 20187\, United States
CATEGORIES:Adult programs,Volunteer days
ATTACH;FMTTYPE=image/png:https://cliftoninstitute.org/wp-content/uploads/2022/04/Copy-of-volunteer-day-2.5.png
GEO:38.7751537;-77.7981971
X-APPLE-STRUCTURED-LOCATION;VALUE=URI;X-ADDRESS=The Clifton Institute 6712 Blantyre Road Warrenton VA 20187 United States;X-APPLE-RADIUS=500;X-TITLE=6712 Blantyre Road:geo:-77.7981971,38.7751537
END:VEVENT
END:VCALENDAR