BEGIN:VCALENDAR
VERSION:2.0
PRODID:-//The Clifton Institute - ECPv6.15.15//NONSGML v1.0//EN
CALSCALE:GREGORIAN
METHOD:PUBLISH
X-WR-CALNAME:The Clifton Institute
X-ORIGINAL-URL:https://cliftoninstitute.org
X-WR-CALDESC:Events for The Clifton Institute
REFRESH-INTERVAL;VALUE=DURATION:PT1H
X-Robots-Tag:noindex
X-PUBLISHED-TTL:PT1H
BEGIN:VTIMEZONE
TZID:America/New_York
BEGIN:DAYLIGHT
TZOFFSETFROM:-0500
TZOFFSETTO:-0400
TZNAME:EDT
DTSTART:20210314T070000
END:DAYLIGHT
BEGIN:STANDARD
TZOFFSETFROM:-0400
TZOFFSETTO:-0500
TZNAME:EST
DTSTART:20211107T060000
END:STANDARD
BEGIN:DAYLIGHT
TZOFFSETFROM:-0500
TZOFFSETTO:-0400
TZNAME:EDT
DTSTART:20220313T070000
END:DAYLIGHT
BEGIN:STANDARD
TZOFFSETFROM:-0400
TZOFFSETTO:-0500
TZNAME:EST
DTSTART:20221106T060000
END:STANDARD
BEGIN:DAYLIGHT
TZOFFSETFROM:-0500
TZOFFSETTO:-0400
TZNAME:EDT
DTSTART:20230312T070000
END:DAYLIGHT
BEGIN:STANDARD
TZOFFSETFROM:-0400
TZOFFSETTO:-0500
TZNAME:EST
DTSTART:20231105T060000
END:STANDARD
END:VTIMEZONE
BEGIN:VEVENT
DTSTART;TZID=America/New_York:20220402T090000
DTEND;TZID=America/New_York:20220402T120000
DTSTAMP:20260423T081951
CREATED:20220205T175018Z
LAST-MODIFIED:20220205T175018Z
UID:8692-1648890000-1648900800@cliftoninstitute.org
SUMMARY:Volunteer Day: Tree Planting
DESCRIPTION:Come help us plant trees for a riparian buffer in our pasture! If you have any of the following items\, please bring them with you: pick ax\, shovel\, gardening gloves\, watering can\, mallet. \nAge: Adults only and children ages 12 and up\, accompanied by an adult. \nWeather policy: Date and time subject to change dependent on weather. Please check your email for updates on the morning of the event.\n\nCOVID-19 Information: This program will be entirely outdoors (an outside port-o-potty will be available). We require that everyone have a mask with them in case we need to go inside during inclement weather\, to administer first aid\, or for other reasons. Please do not attend if you are experiencing or have experienced in the last two weeks any symptoms associated with COVID-19 (fever\, cough\, shortness of breath\, etc.). \nRegistration is REQUIRED so that we can communicate with you in case of changes. \nBefore attending this event\, please read the information included on our liability release form (click here).
URL:https://cliftoninstitute.org/event/volunteer-day-tree-planting-2/
LOCATION:The Clifton Institute\, 6712 Blantyre Road\, Warrenton\, VA\, 20187\, United States
CATEGORIES:Volunteer days
ATTACH;FMTTYPE=image/png:https://cliftoninstitute.org/wp-content/uploads/2021/10/volunteer-day-2.52.png
GEO:38.7751537;-77.7981971
X-APPLE-STRUCTURED-LOCATION;VALUE=URI;X-ADDRESS=The Clifton Institute 6712 Blantyre Road Warrenton VA 20187 United States;X-APPLE-RADIUS=500;X-TITLE=6712 Blantyre Road:geo:-77.7981971,38.7751537
END:VEVENT
BEGIN:VEVENT
DTSTART;TZID=America/New_York:20220408T090000
DTEND;TZID=America/New_York:20220408T120000
DTSTAMP:20260423T081951
CREATED:20220205T175533Z
LAST-MODIFIED:20220205T175533Z
UID:8697-1649408400-1649419200@cliftoninstitute.org
SUMMARY:Volunteer Day: Tree Planting
DESCRIPTION:Come help us plant trees for a riparian buffer in our pasture! If you have any of the following items\, please bring them with you: pick ax\, shovel\, gardening gloves\, watering can\, mallet. \nAge: Adults only and children ages 12 and up\, accompanied by an adult. \nWeather policy: Date and time subject to change dependent on weather. Please check your email for updates on the morning of the event.\n\nCOVID-19 Information: This program will be entirely outdoors (an outside port-o-potty will be available). We require that everyone have a mask with them in case we need to go inside during inclement weather\, to administer first aid\, or for other reasons. Please do not attend if you are experiencing or have experienced in the last two weeks any symptoms associated with COVID-19 (fever\, cough\, shortness of breath\, etc.). \nRegistration is REQUIRED so that we can communicate with you in case of changes. \nBefore attending this event\, please read the information included on our liability release form (click here).
URL:https://cliftoninstitute.org/event/volunteer-day-tree-planting-3/
LOCATION:The Clifton Institute\, 6712 Blantyre Road\, Warrenton\, VA\, 20187\, United States
CATEGORIES:Volunteer days
ATTACH;FMTTYPE=image/png:https://cliftoninstitute.org/wp-content/uploads/2021/10/volunteer-day-2.52.png
GEO:38.7751537;-77.7981971
X-APPLE-STRUCTURED-LOCATION;VALUE=URI;X-ADDRESS=The Clifton Institute 6712 Blantyre Road Warrenton VA 20187 United States;X-APPLE-RADIUS=500;X-TITLE=6712 Blantyre Road:geo:-77.7981971,38.7751537
END:VEVENT
BEGIN:VEVENT
DTSTART;TZID=America/New_York:20220409T090000
DTEND;TZID=America/New_York:20220409T120000
DTSTAMP:20260423T081951
CREATED:20220205T175942Z
LAST-MODIFIED:20220205T175942Z
UID:8700-1649494800-1649505600@cliftoninstitute.org
SUMMARY:Volunteer Day: Tree Planting
DESCRIPTION:Come help us plant trees for a riparian buffer in our pasture! If you have any of the following items\, please bring them with you: pick ax\, shovel\, gardening gloves\, watering can\, mallet. \nAge: Adults only and children ages 12 and up\, accompanied by an adult. \nWeather policy: Date and time subject to change dependent on weather. Please check your email for updates on the morning of the event.\n\nCOVID-19 Information: This program will be entirely outdoors (an outside port-o-potty will be available). We require that everyone have a mask with them in case we need to go inside during inclement weather\, to administer first aid\, or for other reasons. Please do not attend if you are experiencing or have experienced in the last two weeks any symptoms associated with COVID-19 (fever\, cough\, shortness of breath\, etc.). \nRegistration is REQUIRED so that we can communicate with you in case of changes. \nBefore attending this event\, please read the information included on our liability release form (click here).
URL:https://cliftoninstitute.org/event/volunteer-day-tree-planting-4/
LOCATION:The Clifton Institute\, 6712 Blantyre Road\, Warrenton\, VA\, 20187\, United States
CATEGORIES:Volunteer days
ATTACH;FMTTYPE=image/png:https://cliftoninstitute.org/wp-content/uploads/2021/10/volunteer-day-2.52.png
GEO:38.7751537;-77.7981971
X-APPLE-STRUCTURED-LOCATION;VALUE=URI;X-ADDRESS=The Clifton Institute 6712 Blantyre Road Warrenton VA 20187 United States;X-APPLE-RADIUS=500;X-TITLE=6712 Blantyre Road:geo:-77.7981971,38.7751537
END:VEVENT
BEGIN:VEVENT
DTSTART;TZID=America/New_York:20220415T090000
DTEND;TZID=America/New_York:20220415T120000
DTSTAMP:20260423T081951
CREATED:20220205T180524Z
LAST-MODIFIED:20220205T180524Z
UID:8703-1650013200-1650024000@cliftoninstitute.org
SUMMARY:Volunteer Day: Tree Planting
DESCRIPTION:Come help us plant trees for a riparian buffer in our pasture! If you have any of the following items\, please bring them with you: pick ax\, shovel\, gardening gloves\, watering can\, mallet. \nAge: Adults only and children ages 12 and up\, accompanied by an adult. \nWeather policy: Date and time subject to change dependent on weather. Please check your email for updates on the morning of the event.\n\nCOVID-19 Information: This program will be entirely outdoors (an outside port-o-potty will be available). We require that everyone have a mask with them in case we need to go inside during inclement weather\, to administer first aid\, or for other reasons. Please do not attend if you are experiencing or have experienced in the last two weeks any symptoms associated with COVID-19 (fever\, cough\, shortness of breath\, etc.). \nRegistration is REQUIRED so that we can communicate with you in case of changes. \nBefore attending this event\, please read the information included on our liability release form (click here).
URL:https://cliftoninstitute.org/event/volunteer-day-tree-planting-5/
LOCATION:The Clifton Institute\, 6712 Blantyre Road\, Warrenton\, VA\, 20187\, United States
CATEGORIES:Volunteer days
ATTACH;FMTTYPE=image/png:https://cliftoninstitute.org/wp-content/uploads/2021/10/volunteer-day-2.52.png
GEO:38.7751537;-77.7981971
X-APPLE-STRUCTURED-LOCATION;VALUE=URI;X-ADDRESS=The Clifton Institute 6712 Blantyre Road Warrenton VA 20187 United States;X-APPLE-RADIUS=500;X-TITLE=6712 Blantyre Road:geo:-77.7981971,38.7751537
END:VEVENT
BEGIN:VEVENT
DTSTART;TZID=America/New_York:20220423T090000
DTEND;TZID=America/New_York:20220423T120000
DTSTAMP:20260423T081951
CREATED:20220205T181115Z
LAST-MODIFIED:20220422T195035Z
UID:8706-1650704400-1650715200@cliftoninstitute.org
SUMMARY:Volunteer Day: Tree Planting
DESCRIPTION:Come help us plant trees for a riparian buffer in our pasture! If you have any of the following items\, please bring them with you: pick ax\, shovel\, gardening gloves\, watering can\, mallet. \nAge: Adults only and children ages 12 and up\, accompanied by an adult. \nWeather policy: Date and time subject to change dependent on weather. Please check your email for updates on the morning of the event.\n\nCOVID-19 Information: This program will be entirely outdoors (an outside port-o-potty will be available). We require that everyone have a mask with them in case we need to go inside during inclement weather\, to administer first aid\, or for other reasons. Please do not attend if you are experiencing or have experienced in the last two weeks any symptoms associated with COVID-19 (fever\, cough\, shortness of breath\, etc.). \nRegistration is REQUIRED so that we can communicate with you in case of changes. \nBefore attending this event\, please read the information included on our liability release form (click here).
URL:https://cliftoninstitute.org/event/volunteer-day-tree-planting-6/
LOCATION:The Clifton Institute\, 6712 Blantyre Road\, Warrenton\, VA\, 20187\, United States
CATEGORIES:Volunteer days
ATTACH;FMTTYPE=image/png:https://cliftoninstitute.org/wp-content/uploads/2021/10/volunteer-day-2.52.png
GEO:38.7751537;-77.7981971
X-APPLE-STRUCTURED-LOCATION;VALUE=URI;X-ADDRESS=The Clifton Institute 6712 Blantyre Road Warrenton VA 20187 United States;X-APPLE-RADIUS=500;X-TITLE=6712 Blantyre Road:geo:-77.7981971,38.7751537
END:VEVENT
BEGIN:VEVENT
DTSTART;TZID=America/New_York:20220430T090000
DTEND;TZID=America/New_York:20220430T120000
DTSTAMP:20260423T081951
CREATED:20220426T143517Z
LAST-MODIFIED:20220426T143700Z
UID:9844-1651309200-1651320000@cliftoninstitute.org
SUMMARY:Volunteer Day: Tree Planting
DESCRIPTION:Come help us plant trees for a riparian buffer in our pasture! If you have any of the following items\, please bring them with you: pick ax\, shovel\, gardening gloves\, watering can\, mallet. \nAge: Adults only and children ages 12 and up\, accompanied by an adult. \nWeather policy: Date and time subject to change dependent on weather. Please check your email for updates on the morning of the event.\n\nCOVID-19 Information: This program will be entirely outdoors (an outside port-o-potty will be available). We require that everyone have a mask with them in case we need to go inside during inclement weather\, to administer first aid\, or for other reasons. Please do not attend if you are experiencing or have experienced in the last two weeks any symptoms associated with COVID-19 (fever\, cough\, shortness of breath\, etc.). \nRegistration is REQUIRED so that we can communicate with you in case of changes. \nBefore attending this event\, please read the information included on our liability release form (click here).
URL:https://cliftoninstitute.org/event/volunteer-day-tree-planting-7/
LOCATION:The Clifton Institute\, 6712 Blantyre Road\, Warrenton\, VA\, 20187\, United States
CATEGORIES:Adult programs,Volunteer days
GEO:38.7751537;-77.7981971
X-APPLE-STRUCTURED-LOCATION;VALUE=URI;X-ADDRESS=The Clifton Institute 6712 Blantyre Road Warrenton VA 20187 United States;X-APPLE-RADIUS=500;X-TITLE=6712 Blantyre Road:geo:-77.7981971,38.7751537
END:VEVENT
END:VCALENDAR