BEGIN:VCALENDAR
VERSION:2.0
PRODID:-//The Clifton Institute - ECPv6.15.15//NONSGML v1.0//EN
CALSCALE:GREGORIAN
METHOD:PUBLISH
X-WR-CALNAME:The Clifton Institute
X-ORIGINAL-URL:https://cliftoninstitute.org
X-WR-CALDESC:Events for The Clifton Institute
REFRESH-INTERVAL;VALUE=DURATION:PT1H
X-Robots-Tag:noindex
X-PUBLISHED-TTL:PT1H
BEGIN:VTIMEZONE
TZID:America/New_York
BEGIN:DAYLIGHT
TZOFFSETFROM:-0500
TZOFFSETTO:-0400
TZNAME:EDT
DTSTART:20210314T070000
END:DAYLIGHT
BEGIN:STANDARD
TZOFFSETFROM:-0400
TZOFFSETTO:-0500
TZNAME:EST
DTSTART:20211107T060000
END:STANDARD
BEGIN:DAYLIGHT
TZOFFSETFROM:-0500
TZOFFSETTO:-0400
TZNAME:EDT
DTSTART:20220313T070000
END:DAYLIGHT
BEGIN:STANDARD
TZOFFSETFROM:-0400
TZOFFSETTO:-0500
TZNAME:EST
DTSTART:20221106T060000
END:STANDARD
BEGIN:DAYLIGHT
TZOFFSETFROM:-0500
TZOFFSETTO:-0400
TZNAME:EDT
DTSTART:20230312T070000
END:DAYLIGHT
BEGIN:STANDARD
TZOFFSETFROM:-0400
TZOFFSETTO:-0500
TZNAME:EST
DTSTART:20231105T060000
END:STANDARD
END:VTIMEZONE
BEGIN:VEVENT
DTSTART;TZID=America/New_York:20220108T090000
DTEND;TZID=America/New_York:20220108T120000
DTSTAMP:20260423T123514
CREATED:20211217T183530Z
LAST-MODIFIED:20211217T183530Z
UID:8108-1641632400-1641643200@cliftoninstitute.org
SUMMARY:Volunteer Day: Seed Cleaning
DESCRIPTION:We have been collecting seeds from native plants in the area and we need your help separating the seeds from the other plant material and getting them ready to plant! \n\nAge: Adults only and children ages 12 and up\, accompanied by an adult. \n\n\nWeather policy: Date and time subject to change dependent on weather. Please check your email for updates on the morning of the event. \n\n\nCOVID-19 Information: This program will be entirely outdoors (an outside port-o-potty will be available). We require that everyone have a mask with them in case we need to go inside during inclement weather\, to administer first aid\, or for other reasons. Please do not attend if you are experiencing or have experienced in the last two weeks any symptoms associated with COVID-19 (fever\, cough\, shortness of breath\, etc.). \n\n\nRegistration is REQUIRED so that we can communicate with you in case of changes.\n \n\n\nBefore attending this event\, please read the information included on our liability release form (click here). \n\n\nWe look forward to seeing you at the Clifton Institute!
URL:https://cliftoninstitute.org/event/volunteer-day-seed-cleaning-2/
LOCATION:The Clifton Institute\, 6712 Blantyre Road\, Warrenton\, VA\, 20187\, United States
CATEGORIES:Volunteer days
GEO:38.7751537;-77.7981971
X-APPLE-STRUCTURED-LOCATION;VALUE=URI;X-ADDRESS=The Clifton Institute 6712 Blantyre Road Warrenton VA 20187 United States;X-APPLE-RADIUS=500;X-TITLE=6712 Blantyre Road:geo:-77.7981971,38.7751537
END:VEVENT
BEGIN:VEVENT
DTSTART;TZID=America/New_York:20220115T090000
DTEND;TZID=America/New_York:20220115T120000
DTSTAMP:20260423T123514
CREATED:20211217T183902Z
LAST-MODIFIED:20211217T185730Z
UID:8112-1642237200-1642248000@cliftoninstitute.org
SUMMARY:Volunteer Day: Seed Sowing
DESCRIPTION:We have been collecting seeds from native plants in the area and we need your help planting the seeds in trays! \n\nAge: Adults only and children ages 12 and up\, accompanied by an adult. \n\n\nWeather policy: Date and time subject to change dependent on weather. Please check your email for updates on the morning of the event. \n\n\nCOVID-19 Information: This program will be entirely outdoors (an outside port-o-potty will be available). We require that everyone have a mask with them in case we need to go inside during inclement weather\, to administer first aid\, or for other reasons. Please do not attend if you are experiencing or have experienced in the last two weeks any symptoms associated with COVID-19 (fever\, cough\, shortness of breath\, etc.). \n\n\nRegistration is REQUIRED so that we can communicate with you in case of changes.\n \n\n\nBefore attending this event\, please read the information included on our liability release form (click here). \n\n\nWe look forward to seeing you at the Clifton Institute!
URL:https://cliftoninstitute.org/event/volunteer-day-seed-cleaning-3/
LOCATION:The Clifton Institute\, 6712 Blantyre Road\, Warrenton\, VA\, 20187\, United States
CATEGORIES:Volunteer days
ATTACH;FMTTYPE=image/png:https://cliftoninstitute.org/wp-content/uploads/2021/10/volunteer-day-2.52.png
GEO:38.7751537;-77.7981971
X-APPLE-STRUCTURED-LOCATION;VALUE=URI;X-ADDRESS=The Clifton Institute 6712 Blantyre Road Warrenton VA 20187 United States;X-APPLE-RADIUS=500;X-TITLE=6712 Blantyre Road:geo:-77.7981971,38.7751537
END:VEVENT
BEGIN:VEVENT
DTSTART;TZID=America/New_York:20220122T090000
DTEND;TZID=America/New_York:20220122T120000
DTSTAMP:20260423T123514
CREATED:20211217T184529Z
LAST-MODIFIED:20211217T185830Z
UID:8115-1642842000-1642852800@cliftoninstitute.org
SUMMARY:Volunteer Day: Invasive Species Removal
DESCRIPTION:Invasive plant species crowd out native plants and provide little to no food for native animals. Every winter we work to remove invasive Autumn Olive and other invasive plants from around our property and over the last few years we have made a lot of progress\, thanks to all of our amazing volunteers! \n\nAge: Adults only and children ages 12 and up\, accompanied by an adult. \n\n\nWeather policy: Date and time subject to change dependent on weather. Please check your email for updates on the morning of the event. \n\n\nCOVID-19 Information: This program will be entirely outdoors (an outside port-o-potty will be available). We require that everyone have a mask with them in case we need to go inside during inclement weather\, to administer first aid\, or for other reasons. Please do not attend if you are experiencing or have experienced in the last two weeks any symptoms associated with COVID-19 (fever\, cough\, shortness of breath\, etc.). \n\n\nRegistration is REQUIRED so that we can communicate with you in case of changes.\n \n\n\nBefore attending this event\, please read the information included on our liability release form (click here). \n\n\nWe look forward to seeing you at the Clifton Institute!
URL:https://cliftoninstitute.org/event/volunteer-day-seed-cleaning-4/
LOCATION:The Clifton Institute\, 6712 Blantyre Road\, Warrenton\, VA\, 20187\, United States
CATEGORIES:Volunteer days
ATTACH;FMTTYPE=image/png:https://cliftoninstitute.org/wp-content/uploads/2021/10/volunteer-day-2.52.png
GEO:38.7751537;-77.7981971
X-APPLE-STRUCTURED-LOCATION;VALUE=URI;X-ADDRESS=The Clifton Institute 6712 Blantyre Road Warrenton VA 20187 United States;X-APPLE-RADIUS=500;X-TITLE=6712 Blantyre Road:geo:-77.7981971,38.7751537
END:VEVENT
BEGIN:VEVENT
DTSTART;TZID=America/New_York:20220129T090000
DTEND;TZID=America/New_York:20220129T120000
DTSTAMP:20260423T123514
CREATED:20211217T184652Z
LAST-MODIFIED:20211217T190013Z
UID:8118-1643446800-1643457600@cliftoninstitute.org
SUMMARY:Volunteer Day: Invasive Species Removal
DESCRIPTION:Invasive plant species crowd out native plants and provide little to no food for native animals. Every winter we work to remove invasive Autumn Olive and other invasive plants from around our property and over the last few years we have made a lot of progress\, thanks to all of our amazing volunteers! \n\nAge: Adults only and children ages 12 and up\, accompanied by an adult. \n\n\nWeather policy: Date and time subject to change dependent on weather. Please check your email for updates on the morning of the event. \n\n\nCOVID-19 Information: This program will be entirely outdoors (an outside port-o-potty will be available). We require that everyone have a mask with them in case we need to go inside during inclement weather\, to administer first aid\, or for other reasons. Please do not attend if you are experiencing or have experienced in the last two weeks any symptoms associated with COVID-19 (fever\, cough\, shortness of breath\, etc.). \n\n\nRegistration is REQUIRED so that we can communicate with you in case of changes.\n \n\n\nBefore attending this event\, please read the information included on our liability release form (click here). \n\n\nWe look forward to seeing you at the Clifton Institute!
URL:https://cliftoninstitute.org/event/volunteer-day-seed-cleaning-5/
LOCATION:The Clifton Institute\, 6712 Blantyre Road\, Warrenton\, VA\, 20187\, United States
CATEGORIES:Volunteer days
ATTACH;FMTTYPE=image/png:https://cliftoninstitute.org/wp-content/uploads/2021/10/volunteer-day-2.52.png
GEO:38.7751537;-77.7981971
X-APPLE-STRUCTURED-LOCATION;VALUE=URI;X-ADDRESS=The Clifton Institute 6712 Blantyre Road Warrenton VA 20187 United States;X-APPLE-RADIUS=500;X-TITLE=6712 Blantyre Road:geo:-77.7981971,38.7751537
END:VEVENT
END:VCALENDAR