BEGIN:VCALENDAR
VERSION:2.0
PRODID:-//The Clifton Institute - ECPv6.15.15//NONSGML v1.0//EN
CALSCALE:GREGORIAN
METHOD:PUBLISH
X-ORIGINAL-URL:https://cliftoninstitute.org
X-WR-CALDESC:Events for The Clifton Institute
REFRESH-INTERVAL;VALUE=DURATION:PT1H
X-Robots-Tag:noindex
X-PUBLISHED-TTL:PT1H
BEGIN:VTIMEZONE
TZID:America/New_York
BEGIN:DAYLIGHT
TZOFFSETFROM:-0500
TZOFFSETTO:-0400
TZNAME:EDT
DTSTART:20230312T070000
END:DAYLIGHT
BEGIN:STANDARD
TZOFFSETFROM:-0400
TZOFFSETTO:-0500
TZNAME:EST
DTSTART:20231105T060000
END:STANDARD
BEGIN:DAYLIGHT
TZOFFSETFROM:-0500
TZOFFSETTO:-0400
TZNAME:EDT
DTSTART:20240310T070000
END:DAYLIGHT
BEGIN:STANDARD
TZOFFSETFROM:-0400
TZOFFSETTO:-0500
TZNAME:EST
DTSTART:20241103T060000
END:STANDARD
BEGIN:DAYLIGHT
TZOFFSETFROM:-0500
TZOFFSETTO:-0400
TZNAME:EDT
DTSTART:20250309T070000
END:DAYLIGHT
BEGIN:STANDARD
TZOFFSETFROM:-0400
TZOFFSETTO:-0500
TZNAME:EST
DTSTART:20251102T060000
END:STANDARD
END:VTIMEZONE
BEGIN:VEVENT
DTSTART;TZID=America/New_York:20241102T130000
DTEND;TZID=America/New_York:20241102T153000
DTSTAMP:20260421T060614
CREATED:20240918T205035Z
LAST-MODIFIED:20240918T205035Z
UID:18155-1730552400-1730561400@cliftoninstitute.org
SUMMARY:Nature Journaling Meetup
DESCRIPTION:Nature journaling is a powerful tool for learning about plants and animals\, a mindful practice for connecting to nature\, and just a great way to spend time outside. Managing Director and passionate nature journaler Eleanor Harris runs quarterly nature journaling meetups to help people develop their nature journaling skills and meet other nature journalers in the area. Whether you have been nature journaling for years or have never nature journaled before but want to try it out\, this event is for you!  \nIn November\, we’ll be focusing on nuts and fruits! Eleanor will give a brief introduction to the biology of nuts and some ideas for how to include them in your nature journal. Then we’ll go out on the trail and sketch what we find.  \nCost: Free! \nAge:  Adults and children accompanied by an adult. \nBring: Please bring a journal and art supplies. Just a piece of paper and pencil will be enough. Eleanor will have a limited number of John Muir Laws’ nature journals for sale. \nWeather policy: Date and time subject to change dependent on weather. Please check your email for updates on the morning of the event. \nCancellation policy: If you register and can no longer attend this event\, please let us know as soon as possible so that we can open your spot to someone else. \nBy registering for this event\, you are affirming that you have read and agree to our liability release policy. \nWe look forward to seeing you at the Clifton Institute!
URL:https://cliftoninstitute.org/event/nature-journaling-meetup-3/
LOCATION:The Clifton Institute\, 6712 Blantyre Road\, Warrenton\, VA\, 20187\, United States
CATEGORIES:Adult programs,Nature journaling
ATTACH;FMTTYPE=image/png:https://cliftoninstitute.org/wp-content/uploads/2024/09/Nature-Journal-Meet-up.png
GEO:38.7751537;-77.7981971
X-APPLE-STRUCTURED-LOCATION;VALUE=URI;X-ADDRESS=The Clifton Institute 6712 Blantyre Road Warrenton VA 20187 United States;X-APPLE-RADIUS=500;X-TITLE=6712 Blantyre Road:geo:-77.7981971,38.7751537
END:VEVENT
BEGIN:VEVENT
DTSTART;TZID=America/New_York:20241109T100000
DTEND;TZID=America/New_York:20241109T120000
DTSTAMP:20260421T060614
CREATED:20240925T171458Z
LAST-MODIFIED:20240925T171458Z
UID:18483-1731146400-1731153600@cliftoninstitute.org
SUMMARY:Invasive Species Management Workshop
DESCRIPTION:We get questions all the time about how to manage invasive plants and we want to help you rid your property of unwanted invaders! In this program\, Landowner Outreach Associate Kadiera Ingram and Habitat Specialist Andrew Eberly will give a talk and demonstration on their recommended methods for dealing with various species of invasive plants. Together\, Kadiera and Andrew are responsible for managing the invasives here at Clifton and for giving advice to landowners about invasives and they have a wealth of experience and knowledge to share. Come with your thorniest questions and we’ll look forward to tackling this important issue together! \nCost:  \nChildren 18 and under – Free \nAdults – $15 ($10 for Friends of Clifton.)  All proceeds from our programs go directly to funding our education programs\, restoration work\, and research projects. Thank you for your support! \nAge: Adults and children accompanied by an adult. \nWeather policy: Date and time subject to change dependent on weather. Please check your email for updates on the morning of the event. \nCOVID-19 Information: This program will be partially indoors\, partially outdoors (an outside porta potty will be available). Please do not attend if you are experiencing or have experienced in the last two weeks any symptoms associated with COVID-19 (fever\, cough\, shortness of breath\, etc.) \nRegistration is REQUIRED. \nCancellation policy: If you register and can no longer attend this event\, please let us know as soon as possible so that we can open your spot to someone else. \nBy registering for this event\, you are affirming that you have read and agree to our liability release policy. \nWe look forward to seeing you at the Clifton Institute! \n  \n 
URL:https://cliftoninstitute.org/event/invasive-species-management-workshop/
LOCATION:The Clifton Institute\, 6712 Blantyre Road\, Warrenton\, VA\, 20187\, United States
CATEGORIES:Adult programs
ATTACH;FMTTYPE=image/jpeg:https://cliftoninstitute.org/wp-content/uploads/2024/09/Invasives-management.jpg
GEO:38.7751537;-77.7981971
X-APPLE-STRUCTURED-LOCATION;VALUE=URI;X-ADDRESS=The Clifton Institute 6712 Blantyre Road Warrenton VA 20187 United States;X-APPLE-RADIUS=500;X-TITLE=6712 Blantyre Road:geo:-77.7981971,38.7751537
END:VEVENT
BEGIN:VEVENT
DTSTART;TZID=America/New_York:20241109T140000
DTEND;TZID=America/New_York:20241109T160000
DTSTAMP:20260421T060614
CREATED:20240925T173832Z
LAST-MODIFIED:20241026T134743Z
UID:18491-1731160800-1731168000@cliftoninstitute.org
SUMMARY:Lichens for Beginners
DESCRIPTION:In this program Co-Director and amateur lichenologist Bert Harris will teach participants the basics of lichen biology and identification. He’ll then lead participants on a lichen tour of the rocky outcrops and mature forests of the Clifton Institute. We have some exciting lichens here\, but we are just starting to study our lichen community\, so with a group of lichen-likers looking closely we may even find a new species! \nWe recommend bringing a hand lens if you have one\, but we will have some to share if not.\n \nCost:  \nChildren 18 and under – Free \nAdults – $15 ($10 for Friends of Clifton.)  All proceeds from our programs go directly to funding our education programs\, restoration work\, and research projects. Thank you for your support! \nAge: Adults and children accompanied by an adult. \nWeather policy: Date and time subject to change dependent on weather. Please check your email for updates on day before the event. \nCOVID-19 Information: This program will be partially indoors\, partially outdoors (an outside porta potty will be available). Please do not attend if you are experiencing or have experienced in the last week any symptoms associated with COVID-19 (fever\, cough\, shortness of breath\, etc.) \nRegistration is REQUIRED. \nCancellation policy: If you register and can no longer attend this event\, please let us know as soon as possible so that we can open your spot to someone else. No refunds given for participant cancellation. Refunds will be issued in the event of Clifton cancelling. \nBy registering for this event\, you are affirming that you have read and agree to our liability release policy. \nWe look forward to seeing you at the Clifton Institute!
URL:https://cliftoninstitute.org/event/lichens-of-the-clifton-institute/
LOCATION:The Clifton Institute\, 6712 Blantyre Road\, Warrenton\, VA\, 20187\, United States
CATEGORIES:Adult programs
ATTACH;FMTTYPE=image/jpeg:https://cliftoninstitute.org/wp-content/uploads/2024/09/Lichens-20241.jpg
GEO:38.7751537;-77.7981971
X-APPLE-STRUCTURED-LOCATION;VALUE=URI;X-ADDRESS=The Clifton Institute 6712 Blantyre Road Warrenton VA 20187 United States;X-APPLE-RADIUS=500;X-TITLE=6712 Blantyre Road:geo:-77.7981971,38.7751537
END:VEVENT
BEGIN:VEVENT
DTSTART;TZID=America/New_York:20241113T080000
DTEND;TZID=America/New_York:20241113T100000
DTSTAMP:20260421T060614
CREATED:20240925T174307Z
LAST-MODIFIED:20240925T174307Z
UID:18499-1731484800-1731492000@cliftoninstitute.org
SUMMARY:Bird Walk
DESCRIPTION:Join us for a bird walk around the field station! Led by an expert birder. All levels welcome! \nCost: Free! \nAge: Adults and children ages 12 and up\, accompanied by an adult. \nWeather policy: Date and time subject to change dependent on weather. Please check your email for updates on the morning of the event. \nCOVID-19 Information: This program will be entirely outdoors (an outside porta potty will be available). Please do not attend if you are experiencing or have experienced in the last two weeks any symptoms associated with COVID-19 (fever\, cough\, shortness of breath\, etc.). \nRegistration is REQUIRED. \nCancellation policy: If you register and can no longer attend this event\, please let us know as soon as possible so that we can open your spot to someone else. \nBy registering for this event\, you are affirming that you have read and agree to our liability release policy. \nWe look forward to seeing you at the Clifton Institute!
URL:https://cliftoninstitute.org/event/bird-walk-69/
LOCATION:The Clifton Institute\, 6712 Blantyre Road\, Warrenton\, VA\, 20187\, United States
CATEGORIES:Adult programs
ATTACH;FMTTYPE=image/png:https://cliftoninstitute.org/wp-content/uploads/2021/09/monthly-bird-walks-2.5-1.png
GEO:38.7751537;-77.7981971
X-APPLE-STRUCTURED-LOCATION;VALUE=URI;X-ADDRESS=The Clifton Institute 6712 Blantyre Road Warrenton VA 20187 United States;X-APPLE-RADIUS=500;X-TITLE=6712 Blantyre Road:geo:-77.7981971,38.7751537
END:VEVENT
BEGIN:VEVENT
DTSTART;TZID=America/New_York:20241114T180000
DTEND;TZID=America/New_York:20241114T190000
DTSTAMP:20260421T060614
CREATED:20240925T174645Z
LAST-MODIFIED:20241113T164846Z
UID:18502-1731607200-1731610800@cliftoninstitute.org
SUMMARY:Winter Sparrow Identification *VIRTUAL*
DESCRIPTION:**THIS IS A VIRTUAL EVENT** \nGet ready for winter by brushing up on sparrow identification! Every season brings its own challenges for birdwatching. In winter\, similar-looking sparrows can be hard to tell apart and birding by ear becomes more difficult as birds sing less and call more. Join Executive Director and expert birder Bert Harris to learn some tips for identifying winter sparrows. Bert will walk you through the field marks of each species and use his years of birding experience to help you learn how to identify sparrows. Then in the second section of the program Bert will show sparrow photos to help you practice and test your new skills. \nThis program is intended for beginning and intermediate birders. We will send a Zoom link closer to the date. \nCost:  \nChildren 18 and under – Free \nAdults – $15 ($10 for Friends of Clifton.)  All proceeds from our programs go directly to funding our education programs\, restoration work\, and research projects. Thank you for your support! \nAge: Adults and children accompanied by an adult. \nWeather policy: Date and time subject to change dependent on weather. Please check your email for updates on the morning of the event. \nCOVID-19 Information: This program will be partially indoors\, partially outdoors (an outside porta potty will be available). Please do not attend if you are experiencing or have experienced in the last two weeks any symptoms associated with COVID-19 (fever\, cough\, shortness of breath\, etc.) \nRegistration is REQUIRED. \nCancellation policy: If you register and can no longer attend this event\, please let us know as soon as possible so that we can open your spot to someone else. No refunds given for participant cancellation. Refunds will be issued in the event of Clifton cancelling. \nBy registering for this event\, you are affirming that you have read and agree to our liability release policy. \nWe look forward to seeing you at the Clifton Institute! \n 
URL:https://cliftoninstitute.org/event/winter-sparrow-identification-virtual/
LOCATION:The Clifton Institute\, 6712 Blantyre Road\, Warrenton\, VA\, 20187\, United States
CATEGORIES:Adult programs
ATTACH;FMTTYPE=image/png:https://cliftoninstitute.org/wp-content/uploads/2022/08/Winter-sparrow-ID-workshop.png
GEO:38.7751537;-77.7981971
X-APPLE-STRUCTURED-LOCATION;VALUE=URI;X-ADDRESS=The Clifton Institute 6712 Blantyre Road Warrenton VA 20187 United States;X-APPLE-RADIUS=500;X-TITLE=6712 Blantyre Road:geo:-77.7981971,38.7751537
END:VEVENT
BEGIN:VEVENT
DTSTART;TZID=America/New_York:20241116T130000
DTEND;TZID=America/New_York:20241116T150000
DTSTAMP:20260421T060614
CREATED:20240925T175224Z
LAST-MODIFIED:20240925T175224Z
UID:18509-1731762000-1731769200@cliftoninstitute.org
SUMMARY:Walk with a Naturalist
DESCRIPTION:Join us for a walk on our trails with one our naturalists. \nCost: Free! \nAge: Adults and children accompanied by an adult. \nWeather policy: Date and time subject to change dependent on weather. Please check your email for updates on the morning of the event. \nCOVID-19 Information: This program will be entirely outdoors (an outside porta potty will be available). Please do not attend if you are experiencing or have experienced in the last two weeks any symptoms associated with COVID-19 (fever\, cough\, shortness of breath\, etc.). \nRegistration is REQUIRED. \nCancellation policy: If you register and can no longer attend this event\, please let us know as soon as possible so that we can open your spot to someone else. \nBy registering for this event\, you are affirming that you have read and agree to our liability release policy. \nWe look forward to seeing you at the Clifton Institute!
URL:https://cliftoninstitute.org/event/walk-with-a-naturalist-32/
LOCATION:The Clifton Institute\, 6712 Blantyre Road\, Warrenton\, VA\, 20187\, United States
CATEGORIES:Adult programs
ATTACH;FMTTYPE=image/png:https://cliftoninstitute.org/wp-content/uploads/2023/01/walk-with-a-naturalist-1.png
GEO:38.7751537;-77.7981971
X-APPLE-STRUCTURED-LOCATION;VALUE=URI;X-ADDRESS=The Clifton Institute 6712 Blantyre Road Warrenton VA 20187 United States;X-APPLE-RADIUS=500;X-TITLE=6712 Blantyre Road:geo:-77.7981971,38.7751537
END:VEVENT
BEGIN:VEVENT
DTSTART;TZID=America/New_York:20241123T100000
DTEND;TZID=America/New_York:20241123T120000
DTSTAMP:20260421T060614
CREATED:20240925T181151Z
LAST-MODIFIED:20240925T181151Z
UID:18513-1732356000-1732363200@cliftoninstitute.org
SUMMARY:Grass Identification Workshop
DESCRIPTION:Grasses have a reputation for being really challenging to identify\, but with a little practice and expert guidance it’s not too hard to learn to recognize the most common grasses in our fields. In this workshop we will give a brief introduction to biology and identification of common grass species. Then we’ll walk a loop that’s about a mile long to various fields where we can practice our grass identification skills. Grasses are so beautiful at this time of year and we’re excited to explore our grasslands with you! \nCost:  \nChildren 18 and under – Free \nAdults – $15 ($10 for Friends of Clifton.)  All proceeds from our programs go directly to funding our education programs\, restoration work\, and research projects. Thank you for your support! \nAge: Adults and children accompanied by an adult. \nWeather policy: Date and time subject to change dependent on weather. Please check your email for updates on the morning of the event. \nCOVID-19 Information: This program will be partially indoors\, partially outdoors (an outside porta potty will be available). Please do not attend if you are experiencing or have experienced in the last two weeks any symptoms associated with COVID-19 (fever\, cough\, shortness of breath\, etc.) \nRegistration is REQUIRED. \nCancellation policy: If you register and can no longer attend this event\, please let us know as soon as possible so that we can open your spot to someone else. Refunds not given for participant cancellation. Refunds will be given if Clifton cancels. \nBy registering for this event\, you are affirming that you have read and agree to our liability release policy. \nWe look forward to seeing you at the Clifton Institute!
URL:https://cliftoninstitute.org/event/grass-identification-workshop/
LOCATION:The Clifton Institute\, 6712 Blantyre Road\, Warrenton\, VA\, 20187\, United States
CATEGORIES:Adult programs
ATTACH;FMTTYPE=image/jpeg:https://cliftoninstitute.org/wp-content/uploads/2024/09/Grass-Identification-scaled.jpg
GEO:38.7751537;-77.7981971
X-APPLE-STRUCTURED-LOCATION;VALUE=URI;X-ADDRESS=The Clifton Institute 6712 Blantyre Road Warrenton VA 20187 United States;X-APPLE-RADIUS=500;X-TITLE=6712 Blantyre Road:geo:-77.7981971,38.7751537
END:VEVENT
END:VCALENDAR