BEGIN:VCALENDAR
VERSION:2.0
PRODID:-//The Clifton Institute - ECPv6.15.15//NONSGML v1.0//EN
CALSCALE:GREGORIAN
METHOD:PUBLISH
X-WR-CALNAME:The Clifton Institute
X-ORIGINAL-URL:https://cliftoninstitute.org
X-WR-CALDESC:Events for The Clifton Institute
REFRESH-INTERVAL;VALUE=DURATION:PT1H
X-Robots-Tag:noindex
X-PUBLISHED-TTL:PT1H
BEGIN:VTIMEZONE
TZID:America/New_York
BEGIN:DAYLIGHT
TZOFFSETFROM:-0500
TZOFFSETTO:-0400
TZNAME:EDT
DTSTART:20230312T070000
END:DAYLIGHT
BEGIN:STANDARD
TZOFFSETFROM:-0400
TZOFFSETTO:-0500
TZNAME:EST
DTSTART:20231105T060000
END:STANDARD
BEGIN:DAYLIGHT
TZOFFSETFROM:-0500
TZOFFSETTO:-0400
TZNAME:EDT
DTSTART:20240310T070000
END:DAYLIGHT
BEGIN:STANDARD
TZOFFSETFROM:-0400
TZOFFSETTO:-0500
TZNAME:EST
DTSTART:20241103T060000
END:STANDARD
BEGIN:DAYLIGHT
TZOFFSETFROM:-0500
TZOFFSETTO:-0400
TZNAME:EDT
DTSTART:20250309T070000
END:DAYLIGHT
BEGIN:STANDARD
TZOFFSETFROM:-0400
TZOFFSETTO:-0500
TZNAME:EST
DTSTART:20251102T060000
END:STANDARD
END:VTIMEZONE
BEGIN:VEVENT
DTSTART;TZID=America/New_York:20241005T130000
DTEND;TZID=America/New_York:20241005T150000
DTSTAMP:20260421T073726
CREATED:20240730T161215Z
LAST-MODIFIED:20240820T205350Z
UID:17900-1728133200-1728140400@cliftoninstitute.org
SUMMARY:The Splendor of Spiders: Talk and Walk with Joe Lapp
DESCRIPTION:Love them\, fear them\, or somewhere in-between\, spiders are some of the most magical animals on the planet that are everywhere around us quietly keeping ecosystems running! \nSpend the afternoon with self-taught spider taxonomist and science communicator\, Joe Lapp\, learning about the strange and endearing real-life spider-verse that surrounds us. \nThis program will begin with a short presentation indoors and be followed by a meandering exploration of the grounds near Clifton’s peach house in search of our charismatic arach-neighbors. Warning: this program may lead to new feelings of endearment to that spider that lives in your shower. \nCost:  \nChildren 18 and under – Free \nAdults – $15 ($10 for Friends of Clifton.)  All proceeds from our programs go directly to funding our education programs\, restoration work\, and research projects. Thank you for your support! \nAge: Adults and children accompanied by an adult. \nWeather policy: Date and time subject to change dependent on weather. Please check your email for updates on the morning of the event. \nCOVID-19 Information: This program will be partially indoors\, partially outdoors (an outside porta potty will be available). Please do not attend if you are experiencing or have experienced in the last two weeks any symptoms associated with COVID-19 (fever\, cough\, shortness of breath\, etc.) \nRegistration is REQUIRED. \nCancellation policy: If you register and can no longer attend this event\, please let us know as soon as possible so that we can open your spot to someone else. \nBy registering for this event\, you are affirming that you have read and agree to our liability release policy. \nWe look forward to seeing you at the Clifton Institute!
URL:https://cliftoninstitute.org/event/the-splendor-of-spiders-talk-and-walk-with-joe-lapp/
LOCATION:The Clifton Institute\, 6712 Blantyre Road\, Warrenton\, VA\, 20187\, United States
CATEGORIES:Adult programs
ATTACH;FMTTYPE=image/png:https://cliftoninstitute.org/wp-content/uploads/2024/07/Spider-walk.png
GEO:38.7751537;-77.7981971
X-APPLE-STRUCTURED-LOCATION;VALUE=URI;X-ADDRESS=The Clifton Institute 6712 Blantyre Road Warrenton VA 20187 United States;X-APPLE-RADIUS=500;X-TITLE=6712 Blantyre Road:geo:-77.7981971,38.7751537
END:VEVENT
BEGIN:VEVENT
DTSTART;TZID=America/New_York:20241009T080000
DTEND;TZID=America/New_York:20241009T103000
DTSTAMP:20260421T073726
CREATED:20240821T192202Z
LAST-MODIFIED:20240821T192202Z
UID:18059-1728460800-1728469800@cliftoninstitute.org
SUMMARY:Bird Walk
DESCRIPTION:Join us for a bird walk around the field station! Led by an expert birder. All levels welcome! \nCost: Free! \nAge: Adults and children ages 12 and up\, accompanied by an adult. \nWeather policy: Date and time subject to change dependent on weather. Please check your email for updates on the morning of the event. \nCOVID-19 Information: This program will be entirely outdoors (an outside porta potty will be available). Please do not attend if you are experiencing or have experienced in the last two weeks any symptoms associated with COVID-19 (fever\, cough\, shortness of breath\, etc.). \nRegistration is REQUIRED. \nCancellation policy: If you register and can no longer attend this event\, please let us know as soon as possible so that we can open your spot to someone else. \nBy registering for this event\, you are affirming that you have read and agree to our liability release policy. \nWe look forward to seeing you at the Clifton Institute!
URL:https://cliftoninstitute.org/event/bird-walk-67/
LOCATION:The Clifton Institute\, 6712 Blantyre Road\, Warrenton\, VA\, 20187\, United States
CATEGORIES:Adult programs
ATTACH;FMTTYPE=image/png:https://cliftoninstitute.org/wp-content/uploads/2021/09/monthly-bird-walks-2.5-1.png
GEO:38.7751537;-77.7981971
X-APPLE-STRUCTURED-LOCATION;VALUE=URI;X-ADDRESS=The Clifton Institute 6712 Blantyre Road Warrenton VA 20187 United States;X-APPLE-RADIUS=500;X-TITLE=6712 Blantyre Road:geo:-77.7981971,38.7751537
END:VEVENT
BEGIN:VEVENT
DTSTART;TZID=America/New_York:20241012T130000
DTEND;TZID=America/New_York:20241012T150000
DTSTAMP:20260421T073726
CREATED:20240821T192617Z
LAST-MODIFIED:20240821T192617Z
UID:18065-1728738000-1728745200@cliftoninstitute.org
SUMMARY:Walk With A Naturalist
DESCRIPTION:Join us for a walk on our trails with one our naturalists! \nCost: Free! \nAge: Adults and children ages 12 and up\, accompanied by an adult. \nWeather policy: Date and time subject to change dependent on weather. Please check your email for updates on the morning of the event. \nCOVID-19 Information: This program will be entirely outdoors (an outside porta potty will be available). Please do not attend if you are experiencing or have experienced in the last two weeks any symptoms associated with COVID-19 (fever\, cough\, shortness of breath\, etc.). \nRegistration is REQUIRED. \nCancellation policy: If you register and can no longer attend this event\, please let us know as soon as possible so that we can open your spot to someone else. \nBy registering for this event\, you are affirming that you have read and agree to our liability release policy. \nWe look forward to seeing you at the Clifton Institute! \n\n+ Add to Google Calendar+ Add to iCalendar
URL:https://cliftoninstitute.org/event/walk-with-a-naturalist-31/
LOCATION:The Clifton Institute\, 6712 Blantyre Road\, Warrenton\, VA\, 20187\, United States
CATEGORIES:Adult programs
ATTACH;FMTTYPE=image/png:https://cliftoninstitute.org/wp-content/uploads/2023/01/walk-with-a-naturalist-1.png
GEO:38.7751537;-77.7981971
X-APPLE-STRUCTURED-LOCATION;VALUE=URI;X-ADDRESS=The Clifton Institute 6712 Blantyre Road Warrenton VA 20187 United States;X-APPLE-RADIUS=500;X-TITLE=6712 Blantyre Road:geo:-77.7981971,38.7751537
END:VEVENT
BEGIN:VEVENT
DTSTART;TZID=America/New_York:20241019T100000
DTEND;TZID=America/New_York:20241019T120000
DTSTAMP:20260421T073726
CREATED:20240821T193139Z
LAST-MODIFIED:20240910T151835Z
UID:18068-1729332000-1729339200@cliftoninstitute.org
SUMMARY:Native Seed Collection And Propagation Workshop
DESCRIPTION:Collecting and propagating native seeds is a great way to help spread native plant populations\, add 100% native species to your gardens\, and learn about the native plants in your backyard. Although it may seem daunting\, learning a few simple guidelines will get you well on your way to collecting and sowing your own seeds. \nCost: \nChildren 18 and under – Free! \nAdults – $15 ($10 for Friends of Clifton.)  All proceeds from our programs go directly to funding our education programs\, restoration work\, and research projects. Thank you for your support! \nAge: Adults and children ages 12 and up\, accompanied by an adult. \nWeather policy: Date and time subject to change dependent on weather. Please check your email for updates on the morning of the event. \nCOVID-19 Information: This program will be entirely outdoors (an outside porta potty will be available). Please do not attend if you are experiencing or have experienced in the last two weeks any symptoms associated with COVID-19 (fever\, cough\, shortness of breath\, etc.). \nRegistration is REQUIRED. \nCancellation policy: If you register and can no longer attend this event\, please let us know as soon as possible so that we can open your spot to someone else. \nBy registering for this event\, you are affirming that you have read and agree to our liability release policy. \nWe look forward to seeing you at the Clifton Institute!
URL:https://cliftoninstitute.org/event/native-seed-collection-and-propagation-workshop-3/
LOCATION:The Clifton Institute\, 6712 Blantyre Road\, Warrenton\, VA\, 20187\, United States
CATEGORIES:Adult programs
ATTACH;FMTTYPE=image/png:https://cliftoninstitute.org/wp-content/uploads/2022/08/Seed-collection-workshop.png
GEO:38.7751537;-77.7981971
X-APPLE-STRUCTURED-LOCATION;VALUE=URI;X-ADDRESS=The Clifton Institute 6712 Blantyre Road Warrenton VA 20187 United States;X-APPLE-RADIUS=500;X-TITLE=6712 Blantyre Road:geo:-77.7981971,38.7751537
END:VEVENT
BEGIN:VEVENT
DTSTART;TZID=America/New_York:20241019T140000
DTEND;TZID=America/New_York:20241019T160000
DTSTAMP:20260421T073726
CREATED:20240913T160352Z
LAST-MODIFIED:20240925T205510Z
UID:18187-1729346400-1729353600@cliftoninstitute.org
SUMMARY:Lawn Lab Grand Opening and Bioblitz
DESCRIPTION:This fall the Clifton Institute\, in collaboration with Fauquier County Public Schools and the Fauquier County We Need Bees Committee\, is beginning an exciting new project: Lawn Lab. This experiment is all about studying what happens to life in lawns that only get mowed once a year instead of every week. Clifton staff along with students from Grace Miller Elementary School and Liberty High School will be collecting data on changes in plant and animal communities that live in a 3-acre lawn on school grounds as 2 of those acres are taken out of the normal mowing schedule. The adjacent acre will get mowed once a week as per usual. This project is a rare example of a win-win-win-win: students will spend time outside learning how to identify native plants and animals and getting hands-on experience doing scientific research\, the school campus will become better habitat for pollinators\, the county will spend less money and emit less pollution by mowing less often\, and the experiment will serve as a demonstration plot to people in the community. \nWe invite you to join us for a grand opening and bioblitz on October 19. Our goal is to collect baseline data: what plants and animals already call the Lawn Lab home? Once we have this information\, we can visit each year and see what new plant and animals show up (or which ones disappear). We don’t expect high diversity this year\, but you never know what we’ll find. If you have experience identifying plants and insects\, that’s great. If not\, we will give you all the training and tools you’ll need. We’ll send participants out in small teams to survey sections of the experimental fields and we’ll keep a leader board running to see who can find the most species! We’ll also have family-friendly activities for the younger naturalists among us. \nAt 3:30 we’ll take a break to have an official opening ceremony\, with snacks\, drinks\, and brief remarks. \nThis event is a chance to get in on the ground floor of this exciting project\, contribute to science\, and join the local community of people who want to learn about and take care of native biodiversity! All ages are welcome; children must be accompanied by a caregiver. \nWe are grateful to support from the Chesapeake Bay Trust\, the Kortlandt Fund\, the Warrenton Garden Club\, and individual donors for Lawn Lab. \nPlease park in the Grace Miller Elementary School parking lot. The experimental fields are a very short walk (a couple hundred yards) southeast of the parking lot. There will be signs\, but you should be able to see our tables and staff from the parking lots and as you drive in along Catlett Road. \nDate and time subject to change dependent on weather. Please check your email for updates on the morning of the event. If we need to cancel or postpone\, we will also post any updates on our Facebook page. \nBy registering for this event\, you are affirming that you have read and agree to our liability release policy.
URL:https://cliftoninstitute.org/event/lawn-lab-grand-opening-and-bioblitz/
LOCATION:Grace Miller Elementary School\, 6248 Catlett Rd\, Bealeton\, 22712
CATEGORIES:Adult programs,Community science,Family programs,Volunteer days
ATTACH;FMTTYPE=image/png:https://cliftoninstitute.org/wp-content/uploads/2024/09/Lawn-Lab-opening-ceremony1.png
GEO:38.5869421;-77.7627395
X-APPLE-STRUCTURED-LOCATION;VALUE=URI;X-ADDRESS=Grace Miller Elementary School 6248 Catlett Rd Bealeton 22712;X-APPLE-RADIUS=500;X-TITLE=6248 Catlett Rd:geo:-77.7627395,38.5869421
END:VEVENT
BEGIN:VEVENT
DTSTART;TZID=America/New_York:20241025T190000
DTEND;TZID=America/New_York:20241025T203000
DTSTAMP:20260421T073726
CREATED:20240821T191916Z
LAST-MODIFIED:20241023T205713Z
UID:18053-1729882800-1729888200@cliftoninstitute.org
SUMMARY:Spooky Blacklight Walk
DESCRIPTION:Did you know that flying squirrels glow pink? Or that some lichens fluoresce chartreuse or orange? We are still discovering the hidden world of fluorescence—plants\, animals\, fungi\, and minerals that glow under UV light. During this program\, we will wander slowly through fields and forests with UV flashlights turning over rocks and logs\, inspecting leaves and trunks\, and preparing to make a great discovery! Flashlights and Halloween costumes encouraged. Bonus points if your costume fluoresces. \nCost:  \nChildren 18 and under – Free \nAdults – $15 ($10 for Friends of Clifton.)  All proceeds from our programs go directly to funding our education programs\, restoration work\, and research projects. Thank you for your support! \nAge:  Adults and children accompanied by an adult. \nBring: Please bring a flashlight. \nWeather policy: Date and time subject to change dependent on weather. Please check your email for updates on the morning of the event. \nCOVID-19 Information: This program will be entirely outdoors (an outside porta potty will be available). Please do not attend if you are experiencing or have experienced in the last two weeks any symptoms associated with COVID-19 (fever\, cough\, shortness of breath\, etc.). \nRegistration is REQUIRED. \nCancellation policy: If you register and can no longer attend this event\, please let us know as soon as possible so that we can open your spot to someone else. \nBy registering for this event\, you are affirming that you have read and agree to our liability release policy. \nWe look forward to seeing you at the Clifton Institute!
URL:https://cliftoninstitute.org/event/spooky-blacklight-walk-3/
LOCATION:The Clifton Institute\, 6712 Blantyre Road\, Warrenton\, VA\, 20187\, United States
CATEGORIES:Adult programs
ATTACH;FMTTYPE=image/png:https://cliftoninstitute.org/wp-content/uploads/2022/08/Spooky-Blackight-Walk1.png
GEO:38.7751537;-77.7981971
X-APPLE-STRUCTURED-LOCATION;VALUE=URI;X-ADDRESS=The Clifton Institute 6712 Blantyre Road Warrenton VA 20187 United States;X-APPLE-RADIUS=500;X-TITLE=6712 Blantyre Road:geo:-77.7981971,38.7751537
END:VEVENT
BEGIN:VEVENT
DTSTART;TZID=America/New_York:20241026T080000
DTEND;TZID=America/New_York:20241026T100000
DTSTAMP:20260421T073726
CREATED:20240821T192351Z
LAST-MODIFIED:20240821T192351Z
UID:18062-1729929600-1729936800@cliftoninstitute.org
SUMMARY:Bird Walk
DESCRIPTION:Join us for a bird walk around the field station! Led by an expert birder. All levels welcome! \nCost: Free! \nAge: Adults and children ages 12 and up\, accompanied by an adult. \nWeather policy: Date and time subject to change dependent on weather. Please check your email for updates on the morning of the event. \nCOVID-19 Information: This program will be entirely outdoors (an outside porta potty will be available). Please do not attend if you are experiencing or have experienced in the last two weeks any symptoms associated with COVID-19 (fever\, cough\, shortness of breath\, etc.). \nRegistration is REQUIRED. \nCancellation policy: If you register and can no longer attend this event\, please let us know as soon as possible so that we can open your spot to someone else. \nBy registering for this event\, you are affirming that you have read and agree to our liability release policy. \nWe look forward to seeing you at the Clifton Institute!
URL:https://cliftoninstitute.org/event/bird-walk-68/
LOCATION:The Clifton Institute\, 6712 Blantyre Road\, Warrenton\, VA\, 20187\, United States
CATEGORIES:Adult programs
ATTACH;FMTTYPE=image/png:https://cliftoninstitute.org/wp-content/uploads/2021/09/monthly-bird-walks-2.5-1.png
GEO:38.7751537;-77.7981971
X-APPLE-STRUCTURED-LOCATION;VALUE=URI;X-ADDRESS=The Clifton Institute 6712 Blantyre Road Warrenton VA 20187 United States;X-APPLE-RADIUS=500;X-TITLE=6712 Blantyre Road:geo:-77.7981971,38.7751537
END:VEVENT
END:VCALENDAR