BEGIN:VCALENDAR
VERSION:2.0
PRODID:-//The Clifton Institute - ECPv6.15.15//NONSGML v1.0//EN
CALSCALE:GREGORIAN
METHOD:PUBLISH
X-ORIGINAL-URL:https://cliftoninstitute.org
X-WR-CALDESC:Events for The Clifton Institute
REFRESH-INTERVAL;VALUE=DURATION:PT1H
X-Robots-Tag:noindex
X-PUBLISHED-TTL:PT1H
BEGIN:VTIMEZONE
TZID:America/New_York
BEGIN:DAYLIGHT
TZOFFSETFROM:-0500
TZOFFSETTO:-0400
TZNAME:EDT
DTSTART:20230312T070000
END:DAYLIGHT
BEGIN:STANDARD
TZOFFSETFROM:-0400
TZOFFSETTO:-0500
TZNAME:EST
DTSTART:20231105T060000
END:STANDARD
BEGIN:DAYLIGHT
TZOFFSETFROM:-0500
TZOFFSETTO:-0400
TZNAME:EDT
DTSTART:20240310T070000
END:DAYLIGHT
BEGIN:STANDARD
TZOFFSETFROM:-0400
TZOFFSETTO:-0500
TZNAME:EST
DTSTART:20241103T060000
END:STANDARD
BEGIN:DAYLIGHT
TZOFFSETFROM:-0500
TZOFFSETTO:-0400
TZNAME:EDT
DTSTART:20250309T070000
END:DAYLIGHT
BEGIN:STANDARD
TZOFFSETFROM:-0400
TZOFFSETTO:-0500
TZNAME:EST
DTSTART:20251102T060000
END:STANDARD
END:VTIMEZONE
BEGIN:VEVENT
DTSTART;TZID=America/New_York:20240831T100000
DTEND;TZID=America/New_York:20240901T153000
DTSTAMP:20260421T090613
CREATED:20240120T170223Z
LAST-MODIFIED:20240301T153551Z
UID:16114-1725098400-1725204600@cliftoninstitute.org
SUMMARY:Nature Camp for Grownups
DESCRIPTION:Hey grownups! Have you ever wished you could go to summer camp? Well\, now you can! \nCamp will start on the morning of August 31 and conclude on the afternoon of September 1. Activities will include short workshops (for example on insect orders or plant families)\, nature walks\, nature journaling\, crafts\, campfires\, and more. And of course we’ll be making friends and having fun the whole time! \nThere will be the opportunity for campers to…well…camp!  For those who don’t have camping equipment\, we have plenty to loan.  Campers will have access to a bathroom in the farmhouse but not a shower. If folks prefer to go home on Saturday night\, they can meet back up with us for or after breakfast on Sunday morning. We will provide simple lunches\, dinner\, and breakfast. All materials for crafts and other projects will be included. \nTimes: 10:00AM on August 31 to to 3:30PM on September 1 \n\nCost: $150 ($125 for Friends of the Clifton Institute). \n\n\nAge: Adults only. \n\n\nBring: Snacks\, water bottle\, a nature journal if you have one. If you will be camping\, please bring a tent\, sleeping bag\, sleeping pad\, and any other equipment you need to be comfortable. We have a small number of tents and sleeping bags we can loan out\, but not enough for everyone. \n\n\nWeather policy: Rain or shine except in case of extreme weather. \n\n\nCOVID-19 Information: This program will be mostly outdoors\, but we will be inside while preparing meals. Please do not attend if you are experiencing or have experienced in the last two weeks any symptoms associated with COVID-19 (fever\, cough\, shortness of breath\, etc.). \n\n\nRegistration is REQUIRED. \n\n\nCancellation policy: If you register and can no longer attend this event\, please let us know as soon as possible so that we can open your spot to someone else. No refunds will be given upon registrant cancellation. \n\n\nBefore attending this event\, please read the information included on our liability release form (click here). \n\n\nWe look forward to seeing you at the Clifton Institute!
URL:https://cliftoninstitute.org/event/nature-camp-for-grownups-2/
LOCATION:The Clifton Institute\, 6712 Blantyre Road\, Warrenton\, VA\, 20187\, United States
CATEGORIES:Adult programs,Summer Camps
ATTACH;FMTTYPE=image/png:https://cliftoninstitute.org/wp-content/uploads/2023/02/Nature-Camp-for-Grownups.png
GEO:38.7751537;-77.7981971
X-APPLE-STRUCTURED-LOCATION;VALUE=URI;X-ADDRESS=The Clifton Institute 6712 Blantyre Road Warrenton VA 20187 United States;X-APPLE-RADIUS=500;X-TITLE=6712 Blantyre Road:geo:-77.7981971,38.7751537
END:VEVENT
BEGIN:VEVENT
DTSTART;TZID=America/New_York:20240906T193000
DTEND;TZID=America/New_York:20240906T213000
DTSTAMP:20260421T090613
CREATED:20240710T164342Z
LAST-MODIFIED:20240904T173531Z
UID:17753-1725651000-1725658200@cliftoninstitute.org
SUMMARY:**Cancelled** Creatures of The Night
DESCRIPTION:**Cancelled** \nJoin us to look and listen for creatures of the night! Summer is an ideal time to observe several species of katydids\, crickets\, cicadas and birds. We will also look for beavers\, reptiles and amphibians\, and other animals! Back at the farm house we will see what kinds of moths and beetles we can attract with black lights. We hope to see you there! \nCost:  \nChildren 18 and under – Free \nAdults – $15 ($10 for Friends of Clifton.)  All proceeds from our programs go directly to funding our education programs\, restoration work\, and research projects. Thank you for your support! \nAge:  Adults and children accompanied by an adult. \nBring: Please bring a flashlight. \nWeather policy: Date and time subject to change dependent on weather. Please check your email for updates on the morning of the event. \nCOVID-19 Information: This program will be entirely outdoors (an outside porta potty will be available). Please do not attend if you are experiencing or have experienced in the last two weeks any symptoms associated with COVID-19 (fever\, cough\, shortness of breath\, etc.). \nRegistration is REQUIRED. \nCancellation policy: If you register and can no longer attend this event\, please let us know as soon as possible so that we can open your spot to someone else. \nBy registering for this event\, you are affirming that you have read and agree to our liability release policy. \nWe look forward to seeing you at the Clifton Institute!
URL:https://cliftoninstitute.org/event/creatures-of-the-night-5/
LOCATION:The Clifton Institute\, 6712 Blantyre Road\, Warrenton\, VA\, 20187\, United States
CATEGORIES:Adult programs
ATTACH;FMTTYPE=image/png:https://cliftoninstitute.org/wp-content/uploads/2022/06/Creatures-of-the-Night.png
GEO:38.7751537;-77.7981971
X-APPLE-STRUCTURED-LOCATION;VALUE=URI;X-ADDRESS=The Clifton Institute 6712 Blantyre Road Warrenton VA 20187 United States;X-APPLE-RADIUS=500;X-TITLE=6712 Blantyre Road:geo:-77.7981971,38.7751537
END:VEVENT
BEGIN:VEVENT
DTSTART;TZID=America/New_York:20240907T100000
DTEND;TZID=America/New_York:20240907T120000
DTSTAMP:20260421T090613
CREATED:20240710T190232Z
LAST-MODIFIED:20240904T131310Z
UID:17784-1725703200-1725710400@cliftoninstitute.org
SUMMARY:Bird Hill Grassland Field Trip
DESCRIPTION:Online registration is now closed. Please email Bert bharris@cliftoninstitute.org if you’d like to attend.\n\nJoin us at the residence of our co-directors to experience a remnant prairie\, a planted meadow\, and a native plant garden. The remnant prairie on the property hosts a remarkable assemblage of native wildflowers and grasses over sandstone bedrock. Bert and Eleanor are managing the prairie with mowing\, burning\, and invasive plant control. They have also planted a one-acre meadow on an old lawn and they’ve worked with Hill House Nursery to establish a native plant garden. \nThis program is a case study of how landowners can manage their land to benefit native plants and animals on a relatively small property. \nLocation: Near Orlean\, VA. Registered attendees will be emailed the address and directions.\nCost:  \nChildren 18 and under – Free \nAdults – $15 ($10 for Friends of Clifton.)  All proceeds from our programs go directly to funding our education programs\, restoration work\, and research projects. Thank you for your support! \nAge: Adults and children accompanied by an adult \nWeather policy: Date and time subject to change dependent on weather. Please check your email for updates on the morning of the event. \nCOVID-19 Information: This program will be entirely outdoors. Please do not attend if you are experiencing or have experienced in the last two weeks any symptoms associated with COVID-19 (fever\, cough\, shortness of breath\, etc.). \nRegistration is REQUIRED. \nCancellation policy: If you register and can no longer attend this event\, please let us know as soon as possible so that we can open your spot to someone else. \nBy registering for this event\, you are affirming that you have read and agree to our liability release policy.
URL:https://cliftoninstitute.org/event/bird-hill-grassland-field-trip/
LOCATION:The Clifton Institute\, 6712 Blantyre Road\, Warrenton\, VA\, 20187\, United States
CATEGORIES:Adult programs
ATTACH;FMTTYPE=image/png:https://cliftoninstitute.org/wp-content/uploads/2023/07/BirdHill-1.png
GEO:38.7751537;-77.7981971
X-APPLE-STRUCTURED-LOCATION;VALUE=URI;X-ADDRESS=The Clifton Institute 6712 Blantyre Road Warrenton VA 20187 United States;X-APPLE-RADIUS=500;X-TITLE=6712 Blantyre Road:geo:-77.7981971,38.7751537
END:VEVENT
BEGIN:VEVENT
DTSTART;TZID=America/New_York:20240907T130000
DTEND;TZID=America/New_York:20240907T153000
DTSTAMP:20260421T090613
CREATED:20240710T183239Z
LAST-MODIFIED:20240904T150436Z
UID:17772-1725714000-1725723000@cliftoninstitute.org
SUMMARY:Nature Journaling Meetup
DESCRIPTION:Nature journaling is a powerful tool for learning about plants and animals\, a mindful practice for connecting to nature\, and just a great way to spend time outside. Managing Director and passionate nature journaler Eleanor Harris runs quarterly nature journaling meetups to help people develop their nature journaling skills and meet other nature journalers in the area. Whether you have been nature journaling for years or have never nature journaled before but want to try it out\, this event is for you! In September\, we’ll be focusing on trees! Eleanor will give a brief introduction to the biology of trees and some ideas for how to include them in your nature journal. \nCost: Free! \nAge:  Adults and children accompanied by an adult. \nBring: Please bring a journal and art supplies. Just a piece of paper and pencil will be enough. Eleanor will have a limited number of John Muir Laws’ nature journals for sale. \nWeather policy: Date and time subject to change dependent on weather. Please check your email for updates on the morning of the event. \nCOVID-19 Information: This program will be entirely outdoors (an outside porta potty will be available). Please do not attend if you are experiencing or have experienced in the last two weeks any symptoms associated with COVID-19 (fever\, cough\, shortness of breath\, etc.). \nRegistration is REQUIRED. \nCancellation policy: If you register and can no longer attend this event\, please let us know as soon as possible so that we can open your spot to someone else. \nBy registering for this event\, you are affirming that you have read and agree to our liability release policy. \nWe look forward to seeing you at the Clifton Institute!
URL:https://cliftoninstitute.org/event/nature-journaling-meetup-2/
LOCATION:The Clifton Institute\, 6712 Blantyre Road\, Warrenton\, VA\, 20187\, United States
CATEGORIES:Adult programs,Nature journaling
ATTACH;FMTTYPE=image/png:https://cliftoninstitute.org/wp-content/uploads/2022/04/Nature-Journal-Meet-up.png
GEO:38.7751537;-77.7981971
X-APPLE-STRUCTURED-LOCATION;VALUE=URI;X-ADDRESS=The Clifton Institute 6712 Blantyre Road Warrenton VA 20187 United States;X-APPLE-RADIUS=500;X-TITLE=6712 Blantyre Road:geo:-77.7981971,38.7751537
END:VEVENT
BEGIN:VEVENT
DTSTART;TZID=America/New_York:20240911T070000
DTEND;TZID=America/New_York:20240911T093000
DTSTAMP:20260421T090613
CREATED:20240710T184215Z
LAST-MODIFIED:20240710T184215Z
UID:17775-1726038000-1726047000@cliftoninstitute.org
SUMMARY:Bird Walk
DESCRIPTION:Join us for a bird walk around the field station! Led by an expert birder. All levels welcome! \nCost: Free! \nAge: Adults and children ages 12 and up\, accompanied by an adult. \nWeather policy: Date and time subject to change dependent on weather. Please check your email for updates on the morning of the event. \nCOVID-19 Information: This program will be entirely outdoors (an outside porta potty will be available). Please do not attend if you are experiencing or have experienced in the last two weeks any symptoms associated with COVID-19 (fever\, cough\, shortness of breath\, etc.). \nRegistration is REQUIRED. \nCancellation policy: If you register and can no longer attend this event\, please let us know as soon as possible so that we can open your spot to someone else. \nBy registering for this event\, you are affirming that you have read and agree to our liability release policy. \nWe look forward to seeing you at the Clifton Institute!
URL:https://cliftoninstitute.org/event/bird-walk-65/
LOCATION:The Clifton Institute\, 6712 Blantyre Road\, Warrenton\, VA\, 20187\, United States
CATEGORIES:Adult programs
ATTACH;FMTTYPE=image/png:https://cliftoninstitute.org/wp-content/uploads/2021/09/monthly-bird-walks-2.5-1.png
GEO:38.7751537;-77.7981971
X-APPLE-STRUCTURED-LOCATION;VALUE=URI;X-ADDRESS=The Clifton Institute 6712 Blantyre Road Warrenton VA 20187 United States;X-APPLE-RADIUS=500;X-TITLE=6712 Blantyre Road:geo:-77.7981971,38.7751537
END:VEVENT
BEGIN:VEVENT
DTSTART;TZID=America/New_York:20240920T180000
DTEND;TZID=America/New_York:20240920T193000
DTSTAMP:20260421T090613
CREATED:20240710T165715Z
LAST-MODIFIED:20240820T205253Z
UID:17759-1726855200-1726860600@cliftoninstitute.org
SUMMARY:Party in the PawPaw Patch
DESCRIPTION:Join us way down yonder for a Pawpaw party! We are excited to host this celebration of our only native tropical fruit tree! With many colorful nicknames such as the hillbilly mango\, the pawpaw’s cultural flavor is as intriguing as its taste. We will give a brief talk on the ecology and cultural history of the species before we meander on over to the pawpaw patch to pick fruits to sample. Warning: You MIGHT be encouraged to participate in a sing-along. \nCost:  \nChildren 18 and under – Free \nAdults – $15 ($10 for Friends of Clifton.)  All proceeds from our programs go directly to funding our education programs\, restoration work\, and research projects. Thank you for your support! \nAge:  Adults and children accompanied by an adult. \nWeather policy: Date and time subject to change dependent on weather. Please check your email for updates on the morning of the event. \nCOVID-19 Information: This program will be entirely outdoors (an outside porta potty will be available). Please do not attend if you are experiencing or have experienced in the last two weeks any symptoms associated with COVID-19 (fever\, cough\, shortness of breath\, etc.). \nRegistration is REQUIRED. \nCancellation policy: If you register and can no longer attend this event\, please let us know as soon as possible so that we can open your spot to someone else. \nBy registering for this event\, you are affirming that you have read and agree to our liability release policy. \nWe look forward to seeing you at the Clifton Institute!
URL:https://cliftoninstitute.org/event/party-in-the-pawpaw-patch-4/
LOCATION:The Clifton Institute\, 6712 Blantyre Road\, Warrenton\, VA\, 20187\, United States
CATEGORIES:Adult programs
ATTACH;FMTTYPE=image/png:https://cliftoninstitute.org/wp-content/uploads/2022/06/Party-in-the-Pawpaw-Patch.png
GEO:38.7751537;-77.7981971
X-APPLE-STRUCTURED-LOCATION;VALUE=URI;X-ADDRESS=The Clifton Institute 6712 Blantyre Road Warrenton VA 20187 United States;X-APPLE-RADIUS=500;X-TITLE=6712 Blantyre Road:geo:-77.7981971,38.7751537
END:VEVENT
BEGIN:VEVENT
DTSTART;TZID=America/New_York:20240921T130000
DTEND;TZID=America/New_York:20240921T160000
DTSTAMP:20260421T090613
CREATED:20240710T172010Z
LAST-MODIFIED:20240820T205333Z
UID:17765-1726923600-1726934400@cliftoninstitute.org
SUMMARY:Science Saturday: Grassland Insects
DESCRIPTION:Since 2019 we have been working to restore a 100-acre cattle pasture into a diverse native grassland\, using eight different methods to compare different ways of establishing and maintaining grassland plants. Graduate students have been studying the plants in the grassland since 2019\, but we’ve just started studying the insects and we need your help! On this installment of Science Saturdays\, we will give a brief introduction to the grassland experiment and teach participants how to collect insects and identify them to order\, before setting you loose to look for insects. This is a special opportunity to tag along with our staff researchers and see how field science is done and to explore a native grassland\, a habitat unique to the Piedmont region of Virginia. \nCost:  \nChildren 18 and under – Free \nAdults – $15 ($10 for Friends of Clifton.)  All proceeds from our programs go directly to funding our education programs\, restoration work\, and research projects. Thank you for your support! \nAge:  Adults and children accompanied by an adult. \nWeather policy: Date and time subject to change dependent on weather. Please check your email for updates on the morning of the event. \nCOVID-19 Information: This program will be entirely outdoors (an outside porta potty will be available). Please do not attend if you are experiencing or have experienced in the last two weeks any symptoms associated with COVID-19 (fever\, cough\, shortness of breath\, etc.). \nRegistration is REQUIRED. \nCancellation policy: If you register and can no longer attend this event\, please let us know as soon as possible so that we can open your spot to someone else. \nBy registering for this event\, you are affirming that you have read and agree to our liability release policy. \nWe look forward to seeing you at the Clifton Institute!
URL:https://cliftoninstitute.org/event/science-saturday-grassland-insects/
LOCATION:The Clifton Institute\, 6712 Blantyre Road\, Warrenton\, VA\, 20187\, United States
CATEGORIES:Adult programs
ATTACH;FMTTYPE=image/png:https://cliftoninstitute.org/wp-content/uploads/2024/07/SSInsects.png
GEO:38.7751537;-77.7981971
X-APPLE-STRUCTURED-LOCATION;VALUE=URI;X-ADDRESS=The Clifton Institute 6712 Blantyre Road Warrenton VA 20187 United States;X-APPLE-RADIUS=500;X-TITLE=6712 Blantyre Road:geo:-77.7981971,38.7751537
END:VEVENT
BEGIN:VEVENT
DTSTART;TZID=America/New_York:20240928T073000
DTEND;TZID=America/New_York:20240928T093000
DTSTAMP:20260421T090613
CREATED:20240710T184858Z
LAST-MODIFIED:20240710T184858Z
UID:17778-1727508600-1727515800@cliftoninstitute.org
SUMMARY:Bird Walk
DESCRIPTION:Join us for a bird walk around the field station! Led by an expert birder. All levels welcome! \nCost: Free! \nAge: Adults and children ages 12 and up\, accompanied by an adult. \nWeather policy: Date and time subject to change dependent on weather. Please check your email for updates on the morning of the event. \nCOVID-19 Information: This program will be entirely outdoors (an outside porta potty will be available). Please do not attend if you are experiencing or have experienced in the last two weeks any symptoms associated with COVID-19 (fever\, cough\, shortness of breath\, etc.). \nRegistration is REQUIRED. \nCancellation policy: If you register and can no longer attend this event\, please let us know as soon as possible so that we can open your spot to someone else. \nBy registering for this event\, you are affirming that you have read and agree to our liability release policy. \nWe look forward to seeing you at the Clifton Institute!
URL:https://cliftoninstitute.org/event/bird-walk-66/
LOCATION:The Clifton Institute\, 6712 Blantyre Road\, Warrenton\, VA\, 20187\, United States
CATEGORIES:Adult programs
ATTACH;FMTTYPE=image/png:https://cliftoninstitute.org/wp-content/uploads/2021/09/monthly-bird-walks-2.5-1.png
GEO:38.7751537;-77.7981971
X-APPLE-STRUCTURED-LOCATION;VALUE=URI;X-ADDRESS=The Clifton Institute 6712 Blantyre Road Warrenton VA 20187 United States;X-APPLE-RADIUS=500;X-TITLE=6712 Blantyre Road:geo:-77.7981971,38.7751537
END:VEVENT
BEGIN:VEVENT
DTSTART;TZID=America/New_York:20240928T130000
DTEND;TZID=America/New_York:20240928T150000
DTSTAMP:20260421T090613
CREATED:20240710T185816Z
LAST-MODIFIED:20240710T185816Z
UID:17781-1727528400-1727535600@cliftoninstitute.org
SUMMARY:Walk With a Naturalist
DESCRIPTION:Join us for a walk on our trails with one our naturalists. \nCost: Free! \nAge: Adults and children ages 12 and up\, accompanied by an adult. \nWeather policy: Date and time subject to change dependent on weather. Please check your email for updates on the morning of the event. \nCOVID-19 Information: This program will be entirely outdoors (an outside porta potty will be available). Please do not attend if you are experiencing or have experienced in the last two weeks any symptoms associated with COVID-19 (fever\, cough\, shortness of breath\, etc.). \nRegistration is REQUIRED. \nCancellation policy: If you register and can no longer attend this event\, please let us know as soon as possible so that we can open your spot to someone else. \nBy registering for this event\, you are affirming that you have read and agree to our liability release policy. \nWe look forward to seeing you at the Clifton Institute!
URL:https://cliftoninstitute.org/event/walk-with-a-naturalist-30/
LOCATION:The Clifton Institute\, 6712 Blantyre Road\, Warrenton\, VA\, 20187\, United States
CATEGORIES:Adult programs
ATTACH;FMTTYPE=image/png:https://cliftoninstitute.org/wp-content/uploads/2023/01/walk-with-a-naturalist-1.png
GEO:38.7751537;-77.7981971
X-APPLE-STRUCTURED-LOCATION;VALUE=URI;X-ADDRESS=The Clifton Institute 6712 Blantyre Road Warrenton VA 20187 United States;X-APPLE-RADIUS=500;X-TITLE=6712 Blantyre Road:geo:-77.7981971,38.7751537
END:VEVENT
END:VCALENDAR