BEGIN:VCALENDAR
VERSION:2.0
PRODID:-//The Clifton Institute - ECPv6.15.15//NONSGML v1.0//EN
CALSCALE:GREGORIAN
METHOD:PUBLISH
X-ORIGINAL-URL:https://cliftoninstitute.org
X-WR-CALDESC:Events for The Clifton Institute
REFRESH-INTERVAL;VALUE=DURATION:PT1H
X-Robots-Tag:noindex
X-PUBLISHED-TTL:PT1H
BEGIN:VTIMEZONE
TZID:America/New_York
BEGIN:DAYLIGHT
TZOFFSETFROM:-0500
TZOFFSETTO:-0400
TZNAME:EDT
DTSTART:20230312T070000
END:DAYLIGHT
BEGIN:STANDARD
TZOFFSETFROM:-0400
TZOFFSETTO:-0500
TZNAME:EST
DTSTART:20231105T060000
END:STANDARD
BEGIN:DAYLIGHT
TZOFFSETFROM:-0500
TZOFFSETTO:-0400
TZNAME:EDT
DTSTART:20240310T070000
END:DAYLIGHT
BEGIN:STANDARD
TZOFFSETFROM:-0400
TZOFFSETTO:-0500
TZNAME:EST
DTSTART:20241103T060000
END:STANDARD
BEGIN:DAYLIGHT
TZOFFSETFROM:-0500
TZOFFSETTO:-0400
TZNAME:EDT
DTSTART:20250309T070000
END:DAYLIGHT
BEGIN:STANDARD
TZOFFSETFROM:-0400
TZOFFSETTO:-0500
TZNAME:EST
DTSTART:20251102T060000
END:STANDARD
END:VTIMEZONE
BEGIN:VEVENT
DTSTART;TZID=America/New_York:20240508T070000
DTEND;TZID=America/New_York:20240508T093000
DTSTAMP:20260421T152550
CREATED:20240228T144505Z
LAST-MODIFIED:20240228T144505Z
UID:16657-1715151600-1715160600@cliftoninstitute.org
SUMMARY:Bird Walk
DESCRIPTION:Join us for a bird walk around the field station! \nCost: Free! \nAge: Adults and children accompanied by an adult. \nWeather policy: Rain or shine except in case of extreme weather (e.g. thunderstorm or significant snow fall). / \nCOVID-19 Information: This program will be entirely outdoors (an outside porta potty will be available). Please do not attend if you are experiencing or have experienced in the last two weeks any symptoms associated with COVID-19 (fever\, cough\, shortness of breath\, etc.). \nRegistration is REQUIRED. \nCancellation policy: If you register and can no longer attend this event\, please let us know as soon as possible so that we can open your spot to someone else. \nBy registering for this event\, you are affirming that you have read and agree to our liability release policy. \nWe look forward to seeing you at the Clifton Institute!
URL:https://cliftoninstitute.org/event/bird-walk-59/
LOCATION:The Clifton Institute\, 6712 Blantyre Road\, Warrenton\, VA\, 20187\, United States
CATEGORIES:Adult programs
ATTACH;FMTTYPE=image/png:https://cliftoninstitute.org/wp-content/uploads/2021/09/monthly-bird-walks-2.5-1.png
GEO:38.7751537;-77.7981971
X-APPLE-STRUCTURED-LOCATION;VALUE=URI;X-ADDRESS=The Clifton Institute 6712 Blantyre Road Warrenton VA 20187 United States;X-APPLE-RADIUS=500;X-TITLE=6712 Blantyre Road:geo:-77.7981971,38.7751537
END:VEVENT
BEGIN:VEVENT
DTSTART;TZID=America/New_York:20240511T093000
DTEND;TZID=America/New_York:20240511T120000
DTSTAMP:20260421T152550
CREATED:20240220T211208Z
LAST-MODIFIED:20240504T151131Z
UID:16577-1715419800-1715428800@cliftoninstitute.org
SUMMARY:Nature Journaling Meetup and Walk
DESCRIPTION:*POSTPONED FROM MAY 4 DUE TO RAIN* \nNature journaling is a powerful tool for learning about plants and animals\, a mindful practice for connecting to nature\, and just a great way to spend time outside. Managing Director and passionate nature journaler Eleanor Harris runs quarterly nature journaling meetups to help people develop their nature journaling skills and meet other nature journalers in the area. Whether you have been nature journaling for years or have never nature journaled before but want to try it out\, this event is for you! In May\, we’ll be focusing on flowers! Eleanor will give a brief introduction to the biology of flowers and some ideas for how to include them in your nature journal. \nCost: Free! \nAge: Adults and children accompanied by an adult. \nBring: Please bring a journal and art supplies. Just a piece of paper and pencil will be enough. Eleanor will have a limited number of John Muir Laws’ nature journals for sale. \nWeather policy: Date and time subject to change dependent on weather. Please check your email for updates on the morning of the event. \nCOVID-19 Information: This program will be entirely outdoors (an outside porta potty will be available). Please do not attend if you are experiencing or have experienced in the last two weeks any symptoms associated with COVID-19 (fever\, cough\, shortness of breath\, etc.). \nRegistration is REQUIRED. \nBy registering for this event\, you are affirming that you have read and agree to our liability release policy. \nWe look forward to seeing you at the Clifton Institute!
URL:https://cliftoninstitute.org/event/nature-journaling-meetup-and-walk-7/
LOCATION:The Clifton Institute\, 6712 Blantyre Road\, Warrenton\, VA\, 20187\, United States
CATEGORIES:Adult programs
ATTACH;FMTTYPE=image/png:https://cliftoninstitute.org/wp-content/uploads/2022/04/Nature-Journal-Meet-up.png
GEO:38.7751537;-77.7981971
X-APPLE-STRUCTURED-LOCATION;VALUE=URI;X-ADDRESS=The Clifton Institute 6712 Blantyre Road Warrenton VA 20187 United States;X-APPLE-RADIUS=500;X-TITLE=6712 Blantyre Road:geo:-77.7981971,38.7751537
END:VEVENT
BEGIN:VEVENT
DTSTART;TZID=America/New_York:20240511T100000
DTEND;TZID=America/New_York:20240511T120000
DTSTAMP:20260421T152550
CREATED:20240411T212940Z
LAST-MODIFIED:20240412T173615Z
UID:17002-1715421600-1715428800@cliftoninstitute.org
SUMMARY:Intro to Sedges
DESCRIPTION:Sedges are one of the most diverse and ecologically important plant groups in Virginia. There are 201 species just in the genus Carex in the state! But what are sedges and how can they be identified? Join sedge expert Greg Chapman to get answers to these questions and more\, as we partner with Virginia Working Landscapes to get more familiar with these plants! \nThere will be a short lecture followed by a walk to practice finding and identifying sedges in the wild. The walk may be up to a mile over variable terrain. Please wear appropriate clothing for the weather and bring drinking water. \nCost: Free! \nAge: This program is intended for an adult audience. Interested children accompanied by an adult are welcome to attend. \nWeather policy: Rain or shine except in case of extreme weather (e.g. thunderstorm). Please check your email for updates on the morning of the event. \nCOVID-19 Information: This program will be mainly outdoors (an outside porta potty will be available). Please do not attend if you are experiencing or have experienced in the last two weeks any symptoms associated with COVID-19 (fever\, cough\, shortness of breath\, etc.) We will have masks available for those who want them for the indoor portion. \nRegistration is REQUIRED. \nCancellation policy: If you register and can no longer attend this event\, please let us know as soon as possible so that we can open your spot to someone else. \nBy registering for this event\, you are affirming that you have read and agree to our liability release policy. \nWe look forward to seeing you at the Clifton Institute!
URL:https://cliftoninstitute.org/event/intro-to-sedges/
LOCATION:The Clifton Institute\, 6712 Blantyre Road\, Warrenton\, VA\, 20187\, United States
CATEGORIES:Adult programs
ATTACH;FMTTYPE=image/png:https://cliftoninstitute.org/wp-content/uploads/2024/04/Sedges.png
GEO:38.7751537;-77.7981971
X-APPLE-STRUCTURED-LOCATION;VALUE=URI;X-ADDRESS=The Clifton Institute 6712 Blantyre Road Warrenton VA 20187 United States;X-APPLE-RADIUS=500;X-TITLE=6712 Blantyre Road:geo:-77.7981971,38.7751537
END:VEVENT
BEGIN:VEVENT
DTSTART;TZID=America/New_York:20240517T200000
DTEND;TZID=America/New_York:20240517T213000
DTSTAMP:20260421T152550
CREATED:20240228T144804Z
LAST-MODIFIED:20240228T144804Z
UID:16660-1715976000-1715981400@cliftoninstitute.org
SUMMARY:Spring Creatures of The Night
DESCRIPTION:Join us for an night-time exploration of our trails and vernal pools while we listen for frog calls\, look for insects\, and see what animals are swimming on the ponds. \nCost: Free! \nAge: All ages welcome. Children must be accompanied by an adult. \nBring: Please bring a flashlight. \nWeather policy: Date and time subject to change dependent on weather. Please check your email for updates on the morning of the event. \nCOVID-19 Information: This program will be entirely outdoors (an outside porta potty will be available). Please do not attend if you are experiencing or have experienced in the last two weeks any symptoms associated with COVID-19 (fever\, cough\, shortness of breath\, etc.). \nRegistration is REQUIRED. \nCancellation policy: If you register and can no longer attend this event\, please let us know as soon as possible so that we can open your spot to someone else. \nBy registering for this event\, you are affirming that you have read and agree to our liability release policy. \nWe look forward to seeing you at the Clifton Institute!
URL:https://cliftoninstitute.org/event/spring-creatures-of-the-night-2/
LOCATION:The Clifton Institute\, 6712 Blantyre Road\, Warrenton\, VA\, 20187\, United States
CATEGORIES:Adult programs
ATTACH;FMTTYPE=image/png:https://cliftoninstitute.org/wp-content/uploads/2023/03/Creatures-of-the-Night-132.08-×-50.8-cm2.png
GEO:38.7751537;-77.7981971
X-APPLE-STRUCTURED-LOCATION;VALUE=URI;X-ADDRESS=The Clifton Institute 6712 Blantyre Road Warrenton VA 20187 United States;X-APPLE-RADIUS=500;X-TITLE=6712 Blantyre Road:geo:-77.7981971,38.7751537
END:VEVENT
BEGIN:VEVENT
DTSTART;TZID=America/New_York:20240518T130000
DTEND;TZID=America/New_York:20240518T150000
DTSTAMP:20260421T152550
CREATED:20240228T145050Z
LAST-MODIFIED:20240228T145050Z
UID:16663-1716037200-1716044400@cliftoninstitute.org
SUMMARY:Walk With A Naturalist
DESCRIPTION:Join us for a walk on our trails with one our naturalists! May include a mile or two of slow to moderate hiking over varied terrain. Please bring water/snacks as needed and dress for the weather. \n\nCost: Free! \n\n\nAge: Adults and children ages 12 and up\, accompanied by an adult. \n\n\nWeather policy: Rain or shine except in case of extreme weather (e.g. thunderstorm or significant snow fall). \n\n\nCOVID-19 Information: This program will be entirely outdoors (an outside porta potty will be available). Please do not attend if you are experiencing or have experienced in the last two weeks any symptoms associated with COVID-19 (fever\, cough\, shortness of breath\, etc.). \n\n\nRegistration is REQUIRED. \n\n\nCancellation policy: If you register and can no longer attend this event\, please let us know as soon as possible so that we can open your spot to someone else. \n\n\nBy registering for this event\, you are affirming that you have read and agree to our liability release policy. \n\n\nWe look forward to seeing you at the Clifton Institute!
URL:https://cliftoninstitute.org/event/walk-with-a-naturalist-28/
LOCATION:The Clifton Institute\, 6712 Blantyre Road\, Warrenton\, VA\, 20187\, United States
CATEGORIES:Adult programs
ATTACH;FMTTYPE=image/png:https://cliftoninstitute.org/wp-content/uploads/2023/01/walk-with-a-naturalist-1.png
GEO:38.7751537;-77.7981971
X-APPLE-STRUCTURED-LOCATION;VALUE=URI;X-ADDRESS=The Clifton Institute 6712 Blantyre Road Warrenton VA 20187 United States;X-APPLE-RADIUS=500;X-TITLE=6712 Blantyre Road:geo:-77.7981971,38.7751537
END:VEVENT
BEGIN:VEVENT
DTSTART;TZID=America/New_York:20240525T070000
DTEND;TZID=America/New_York:20240525T090000
DTSTAMP:20260421T152550
CREATED:20240228T145322Z
LAST-MODIFIED:20240228T145403Z
UID:16667-1716620400-1716627600@cliftoninstitute.org
SUMMARY:Bird Walk
DESCRIPTION:Join us for a bird walk around the field station! \nCost: Free! \nAge: Adults and children accompanied by an adult. \nWeather policy: Rain or shine except in case of extreme weather (e.g. thunderstorm or significant snow fall). / \nCOVID-19 Information: This program will be entirely outdoors (an outside porta potty will be available). Please do not attend if you are experiencing or have experienced in the last two weeks any symptoms associated with COVID-19 (fever\, cough\, shortness of breath\, etc.). \nRegistration is REQUIRED. \nCancellation policy: If you register and can no longer attend this event\, please let us know as soon as possible so that we can open your spot to someone else. \nBy registering for this event\, you are affirming that you have read and agree to our liability release policy. \nWe look forward to seeing you at the Clifton Institute!
URL:https://cliftoninstitute.org/event/bird-walk-60/
LOCATION:The Clifton Institute\, 6712 Blantyre Road\, Warrenton\, VA\, 20187\, United States
CATEGORIES:Adult programs
ATTACH;FMTTYPE=image/png:https://cliftoninstitute.org/wp-content/uploads/2021/09/monthly-bird-walks-2.5-1.png
GEO:38.7751537;-77.7981971
X-APPLE-STRUCTURED-LOCATION;VALUE=URI;X-ADDRESS=The Clifton Institute 6712 Blantyre Road Warrenton VA 20187 United States;X-APPLE-RADIUS=500;X-TITLE=6712 Blantyre Road:geo:-77.7981971,38.7751537
END:VEVENT
END:VCALENDAR