BEGIN:VCALENDAR
VERSION:2.0
PRODID:-//The Clifton Institute - ECPv6.15.15//NONSGML v1.0//EN
CALSCALE:GREGORIAN
METHOD:PUBLISH
X-WR-CALNAME:The Clifton Institute
X-ORIGINAL-URL:https://cliftoninstitute.org
X-WR-CALDESC:Events for The Clifton Institute
REFRESH-INTERVAL;VALUE=DURATION:PT1H
X-Robots-Tag:noindex
X-PUBLISHED-TTL:PT1H
BEGIN:VTIMEZONE
TZID:America/New_York
BEGIN:DAYLIGHT
TZOFFSETFROM:-0500
TZOFFSETTO:-0400
TZNAME:EDT
DTSTART:20230312T070000
END:DAYLIGHT
BEGIN:STANDARD
TZOFFSETFROM:-0400
TZOFFSETTO:-0500
TZNAME:EST
DTSTART:20231105T060000
END:STANDARD
BEGIN:DAYLIGHT
TZOFFSETFROM:-0500
TZOFFSETTO:-0400
TZNAME:EDT
DTSTART:20240310T070000
END:DAYLIGHT
BEGIN:STANDARD
TZOFFSETFROM:-0400
TZOFFSETTO:-0500
TZNAME:EST
DTSTART:20241103T060000
END:STANDARD
BEGIN:DAYLIGHT
TZOFFSETFROM:-0500
TZOFFSETTO:-0400
TZNAME:EDT
DTSTART:20250309T070000
END:DAYLIGHT
BEGIN:STANDARD
TZOFFSETFROM:-0400
TZOFFSETTO:-0500
TZNAME:EST
DTSTART:20251102T060000
END:STANDARD
END:VTIMEZONE
BEGIN:VEVENT
DTSTART;TZID=America/New_York:20240203T140000
DTEND;TZID=America/New_York:20240203T160000
DTSTAMP:20260421T193621
CREATED:20231220T164008Z
LAST-MODIFIED:20231220T164008Z
UID:15677-1706968800-1706976000@cliftoninstitute.org
SUMMARY:How to iNaturalist
DESCRIPTION:iNaturalist is a powerful tool for people to learn about nature and to contribute to science\, but we’ve heard from lots of people that they aren’t sure how to use it. In this program\, Co-Directors Bert and Eleanor Harris will give a brief introduction to the iNaturalist app and website and some background and why we love it so much. Then we’ll go outside and practice how to take pictures and upload them to have the best chance at having your observation identified. Please download the iNaturalist app onto your phone before you arrive. \nCost: Free! \nAge: Adults and children accompanied by an adult. \nWeather policy: Rain or shine except in case of extreme weather (e.g. thunderstorm or significant snow fall). \nCOVID-19 Information: This program will be entirely outdoors (an outside porta potty will be available). Please do not attend if you are experiencing or have experienced in the last two weeks any symptoms associated with COVID-19 (fever\, cough\, shortness of breath\, etc.). \nRegistration is REQUIRED. \nCancellation policy: If you register and can no longer attend this event\, please let us know as soon as possible so that we can open your spot to someone else. \nBy registering for this event\, you are affirming that you have read and agree to our liability release policy. \nWe look forward to seeing you at the Clifton Institute!
URL:https://cliftoninstitute.org/event/how-to-inaturalist/
LOCATION:The Clifton Institute\, 6712 Blantyre Road\, Warrenton\, VA\, 20187\, United States
CATEGORIES:Adult programs
ATTACH;FMTTYPE=image/jpeg:https://cliftoninstitute.org/wp-content/uploads/2023/12/iNat.jpg
GEO:38.7751537;-77.7981971
X-APPLE-STRUCTURED-LOCATION;VALUE=URI;X-ADDRESS=The Clifton Institute 6712 Blantyre Road Warrenton VA 20187 United States;X-APPLE-RADIUS=500;X-TITLE=6712 Blantyre Road:geo:-77.7981971,38.7751537
END:VEVENT
BEGIN:VEVENT
DTSTART;TZID=America/New_York:20240209T190000
DTEND;TZID=America/New_York:20240209T200000
DTSTAMP:20260421T193621
CREATED:20231129T161206Z
LAST-MODIFIED:20240208T161634Z
UID:15485-1707505200-1707508800@cliftoninstitute.org
SUMMARY:American Kestrel Research Update (Virtual)
DESCRIPTION:**This is a virtual event. We will close registration at noon on February 9 to make sure everyone gets the Zoom link. If you have registered and have not yet received a Zoom link please email Eleanor at eharris@cliftoninstitute.org. If you would like to register after noon on February 9 you can email Eleanor\, but she may not see your message in time.** \nJoin Executive Director Bert Harris to hear the latest on our American Kestrel research. We have been studying these declining falcons for three years in collaboration with Joe Kolowski from the Smithsonian Conservation Biology Institute and Alan Williams. Dr. Harris will present on our results from the 2023 field season and what they tell us about how to manage land for these charismatic animals. The work is funded by the Raines Family Fund\, BAND Foundation\, Nick Lapham\, the Virginia Society of Ornithology\, the Washington Biologists Field Club\, and Janine Moseley. We will send a link to the Zoom meeting a few days prior to the talk. Please make sure your email address is up to date! \nCost: Free! \n  \n 
URL:https://cliftoninstitute.org/event/american-kestrel-research-update-virtual/
LOCATION:The Clifton Institute\, 6712 Blantyre Road\, Warrenton\, VA\, 20187\, United States
CATEGORIES:Adult programs
ATTACH;FMTTYPE=image/png:https://cliftoninstitute.org/wp-content/uploads/2023/11/Kestrel-Talk-1.png
GEO:38.7751537;-77.7981971
X-APPLE-STRUCTURED-LOCATION;VALUE=URI;X-ADDRESS=The Clifton Institute 6712 Blantyre Road Warrenton VA 20187 United States;X-APPLE-RADIUS=500;X-TITLE=6712 Blantyre Road:geo:-77.7981971,38.7751537
END:VEVENT
BEGIN:VEVENT
DTSTART;TZID=America/New_York:20240210T130000
DTEND;TZID=America/New_York:20240210T153000
DTSTAMP:20260421T193621
CREATED:20231014T183813Z
LAST-MODIFIED:20240112T212115Z
UID:15057-1707570000-1707579000@cliftoninstitute.org
SUMMARY:Nature Journaling Meetup and Walk
DESCRIPTION:Nature journaling is a powerful tool for learning about plants and animals\, a mindful practice for connecting to nature\, and just a great way to spend time outside. Managing Director and passionate nature journaler Eleanor Harris runs quarterly nature journaling meetups to help people develop their nature journaling skills and meet other nature journalers in the area. Whether you have been nature journaling for years or have never nature journaled before but want to try it out\, this event is for you! In February\, we will be focusing on ducks! Eleanor will give a brief introduction to the biology and identification of the ducks that spend the winter on our ponds and some tips about journaling ducks. Then we’ll spend most of the program out on the trail drawing and writing about our discoveries. \nCost: Free! \nAge: Adults and children accompanied by an adult. \nBring: Please bring a journal and art supplies. Just a piece of paper and pencil will be enough. Eleanor will have a limited number of John Muir Laws’ nature journals for sale. \nWeather policy: Date and time subject to change dependent on weather. If the weather is too cold or otherwise uncooperative we will postpone to February 24 at the same time. \nRegistration is REQUIRED. \nBy registering for this event\, you are affirming that you have read and agree to our liability release policy. \nWe look forward to seeing you at the Clifton Institute!
URL:https://cliftoninstitute.org/event/nature-journaling-meetup-and-walk-6/
LOCATION:The Clifton Institute\, 6712 Blantyre Road\, Warrenton\, VA\, 20187\, United States
CATEGORIES:Adult programs,Family programs
ATTACH;FMTTYPE=image/png:https://cliftoninstitute.org/wp-content/uploads/2022/04/Nature-Journal-Meet-up.png
GEO:38.7751537;-77.7981971
X-APPLE-STRUCTURED-LOCATION;VALUE=URI;X-ADDRESS=The Clifton Institute 6712 Blantyre Road Warrenton VA 20187 United States;X-APPLE-RADIUS=500;X-TITLE=6712 Blantyre Road:geo:-77.7981971,38.7751537
END:VEVENT
BEGIN:VEVENT
DTSTART;TZID=America/New_York:20240210T153000
DTEND;TZID=America/New_York:20240210T173000
DTSTAMP:20260421T193621
CREATED:20231220T170942Z
LAST-MODIFIED:20231220T170942Z
UID:15681-1707579000-1707586200@cliftoninstitute.org
SUMMARY:Nature Crafternoon
DESCRIPTION:Join us in the farmhouse for an afternoon making nature-inspired crafts\, just in time to make something for your valentines. We will provide instructions and materials for participants to make linocut prints. If you would like to bring your own materials or crafts to work on (knitting projects! whittling projects! Coloring books!) please do. We will also provide warm drinks and light snacks. \nCost: Free! \nAge: Adults only. \nBring: Any craft materials you wish to use besides what we provide for linocut prints. \nWeather policy: Rain or shine except in case of extreme weather (e.g. thunderstorm or significant snow fall). / Date and time subject to change dependent on weather. Please check your email for updates on the morning of the event. \nCOVID-19 Information: This program will include an indoor component. Proof of vaccination against COVID-19 will be required. Masks are encouraged and can be provided. By attending\, you are affirming that you are not experiencing nor have experienced in the last two weeks any symptoms associated with COVID-19 (fever\, cough\, shortness of breath\, etc.). \nRegistration is REQUIRED. \nCancellation policy: If you register and can no longer attend this event\, please let us know as soon as possible so that we can open your spot to someone else. \nBy registering for this event\, you are affirming that you have read and agree to our liability release policy. \nWe look forward to seeing you at the Clifton Institute!
URL:https://cliftoninstitute.org/event/nature-crafternoon/
LOCATION:The Clifton Institute\, 6712 Blantyre Road\, Warrenton\, VA\, 20187\, United States
CATEGORIES:Adult programs
ATTACH;FMTTYPE=image/png:https://cliftoninstitute.org/wp-content/uploads/2023/12/Copy-of-iNat.png
GEO:38.7751537;-77.7981971
X-APPLE-STRUCTURED-LOCATION;VALUE=URI;X-ADDRESS=The Clifton Institute 6712 Blantyre Road Warrenton VA 20187 United States;X-APPLE-RADIUS=500;X-TITLE=6712 Blantyre Road:geo:-77.7981971,38.7751537
END:VEVENT
BEGIN:VEVENT
DTSTART;TZID=America/New_York:20240213T190000
DTEND;TZID=America/New_York:20240213T210000
DTSTAMP:20260421T193621
CREATED:20231220T142705Z
LAST-MODIFIED:20240120T144430Z
UID:15661-1707850800-1707858000@cliftoninstitute.org
SUMMARY:Spotted Salamander Walk
DESCRIPTION:Once a year\, salamanders leave their homes in the woods and head toward vernal pools\, temporary ponds created by spring rains and melting winter snow. The conditions must be just right\, a warm night with rainy conditions. The males arrive first and lay sperm sacks around the pond. The females come later and absorb these sacks\, which causes them to lay their eggs\, about 50-100 per female. Join us on a walk to our vernal pools to witness this spectacle of nature. \nWe’ll be watching the weather closely to adjust our time and date that looks most promising for us to see this wonderful migration. For now\, this date is a best-guess placeholder for us. We will email you closer to the date with information about when to meet.\n \nPlease bring a flashlight. As we will likely go out in the rain\, we recommend wearing a raincoat and waterproof shoes. \n\n\nCost: Free! \n\n\nAge:  Adults and children ages 12 and up\, accompanied by an adult. \n\n\nCOVID-19 Information: This program will be entirely outdoors (an outside porta potty will be available). We require that everyone have a mask with them in case we need to go inside during inclement weather\, to administer first aid\, or for other reasons. Please do not attend if you are experiencing or have experienced in the last two weeks any symptoms associated with COVID-19 (fever\, cough\, shortness of breath\, etc.). \n\n\nRegistration is REQUIRED. \n\n\nCancellation policy: If you register and can no longer attend this event\, please let us know as soon as possible so that we can open your spot to someone else. \n\n\nBefore attending this event\, please read the information included on our liability release form (click here). \n\n\nWe look forward to seeing you at the Clifton Institute!
URL:https://cliftoninstitute.org/event/spotted-salamander-walk-3/
LOCATION:The Clifton Institute\, 6712 Blantyre Road\, Warrenton\, VA\, 20187\, United States
CATEGORIES:Adult programs
ATTACH;FMTTYPE=image/png:https://cliftoninstitute.org/wp-content/uploads/2022/11/Spotted-Salamander-Walk-1-845x321-1.png
GEO:38.7751537;-77.7981971
X-APPLE-STRUCTURED-LOCATION;VALUE=URI;X-ADDRESS=The Clifton Institute 6712 Blantyre Road Warrenton VA 20187 United States;X-APPLE-RADIUS=500;X-TITLE=6712 Blantyre Road:geo:-77.7981971,38.7751537
END:VEVENT
BEGIN:VEVENT
DTSTART;TZID=America/New_York:20240214T080000
DTEND;TZID=America/New_York:20240214T100000
DTSTAMP:20260421T193621
CREATED:20231220T144856Z
LAST-MODIFIED:20231220T144856Z
UID:15668-1707897600-1707904800@cliftoninstitute.org
SUMMARY:Bird Walk
DESCRIPTION:Join us for a morning of birding at the field station. Led by expert birders. Includes a mile or two of slow walking over varied terrain. Please bring water/snacks as needed and dress for the weather. All levels welcome! \nCost: Free! \nAge: Adults and children accompanied by an adult. \nWeather policy: Rain or shine except in case of extreme weather (e.g. thunderstorm or significant snow fall). / \nCOVID-19 Information: This program will be entirely outdoors (an outside porta potty will be available). Please do not attend if you are experiencing or have experienced in the last two weeks any symptoms associated with COVID-19 (fever\, cough\, shortness of breath\, etc.). \nRegistration is REQUIRED. \nCancellation policy: If you register and can no longer attend this event\, please let us know as soon as possible so that we can open your spot to someone else. \nBy registering for this event\, you are affirming that you have read and agree to our liability release policy. \nWe look forward to seeing you at the Clifton Institute!
URL:https://cliftoninstitute.org/event/bird-walk-53/
LOCATION:The Clifton Institute\, 6712 Blantyre Road\, Warrenton\, VA\, 20187\, United States
CATEGORIES:Adult programs
ATTACH;FMTTYPE=image/png:https://cliftoninstitute.org/wp-content/uploads/2021/09/monthly-bird-walks-2.5-1.png
GEO:38.7751537;-77.7981971
X-APPLE-STRUCTURED-LOCATION;VALUE=URI;X-ADDRESS=The Clifton Institute 6712 Blantyre Road Warrenton VA 20187 United States;X-APPLE-RADIUS=500;X-TITLE=6712 Blantyre Road:geo:-77.7981971,38.7751537
END:VEVENT
BEGIN:VEVENT
DTSTART;TZID=America/New_York:20240217T100000
DTEND;TZID=America/New_York:20240217T160000
DTSTAMP:20260421T193621
CREATED:20231214T214952Z
LAST-MODIFIED:20231214T221347Z
UID:15606-1708164000-1708185600@cliftoninstitute.org
SUMMARY:Mid Atlantic Lichen Identification Workshop
DESCRIPTION:Are you ready to take a casual interest in lichens to the next level? This special all-day workshop is intended for keen beginners who would like to advance their identification abilities. \nWe’ll start with a short presentation on lichen basics\, with a focus on the terminology that is used in dichotomous keys. After the presentation we’ll go and collect some lichens and have lunch (included). After lunch\, we’ll look at the specimens under dissecting microscopes and try some chemical tests. Bert will also demonstrate how to look at lichen spores. We will key things out as a group and individually. \nThanks to our partnership with our friends at the Oak Spring Garden Foundation\, we will have a dissecting microscope for each participant! We will also provide dichotomous keys\, chemicals\, and hand lenses. \nAge: Adults \nCost: $75\, which goes toward supporting programs at both Clifton and OSGF. \nMaximum enrollment: 8 people \nAbout the program leader: Bert Harris is the Executive Director of the Clifton Institute. He is an amateur lichenologist who has the goal of producing a reference to make Mid Atlantic lichen identification easier for beginners.
URL:https://cliftoninstitute.org/event/mid-atlantic-lichen-identification-workshop/
LOCATION:Oak Spring Garden Foundation\, 1776 Loughborough Ln\, Upperville\, 20184
CATEGORIES:Adult programs
ATTACH;FMTTYPE=image/png:https://cliftoninstitute.org/wp-content/uploads/2023/12/OSGF-lichen.png
GEO:38.96325;-77.852017
X-APPLE-STRUCTURED-LOCATION;VALUE=URI;X-ADDRESS=Oak Spring Garden Foundation 1776 Loughborough Ln Upperville 20184;X-APPLE-RADIUS=500;X-TITLE=1776 Loughborough Ln:geo:-77.852017,38.96325
END:VEVENT
BEGIN:VEVENT
DTSTART;TZID=America/New_York:20240217T100000
DTEND;TZID=America/New_York:20240217T160000
DTSTAMP:20260421T193621
CREATED:20231220T150209Z
LAST-MODIFIED:20240118T150615Z
UID:15671-1708164000-1708185600@cliftoninstitute.org
SUMMARY:Walk with a Naturalist: All-Day Hike
DESCRIPTION:On this special Walk with a Naturalist\, we will walk one of the longer trails on our property. We expect to walk about 5 miles on varied terrain\, some of which is steep\, but we’ll go slow as we look for plants and animals! Please bring a lunch and / or snacks to eat on the trail and dress for the weather. \n\nCost: Free! \n\n\nAge: Adults and children ages 12 and up\, accompanied by an adult. \n\n\nWeather policy: Rain or shine except in case of extreme weather (e.g. thunderstorm or significant snow fall). \n\n\nCOVID-19 Information: This program will be entirely outdoors (an outside porta potty will be available). Please do not attend if you are experiencing or have experienced in the last two weeks any symptoms associated with COVID-19 (fever\, cough\, shortness of breath\, etc.). \n\n\nRegistration is REQUIRED. \n\n\nCancellation policy: If you register and can no longer attend this event\, please let us know as soon as possible so that we can open your spot to someone else. \n\n\nBy registering for this event\, you are affirming that you have read and agree to our liability release policy. \n\n\nWe look forward to seeing you at the Clifton Institute!
URL:https://cliftoninstitute.org/event/walk-with-a-naturalist-25/
LOCATION:The Clifton Institute\, 6712 Blantyre Road\, Warrenton\, VA\, 20187\, United States
CATEGORIES:Adult programs
ATTACH;FMTTYPE=image/jpeg:https://cliftoninstitute.org/wp-content/uploads/2022/12/walk-with-a-naturalist-.jpg
GEO:38.7751537;-77.7981971
X-APPLE-STRUCTURED-LOCATION;VALUE=URI;X-ADDRESS=The Clifton Institute 6712 Blantyre Road Warrenton VA 20187 United States;X-APPLE-RADIUS=500;X-TITLE=6712 Blantyre Road:geo:-77.7981971,38.7751537
END:VEVENT
BEGIN:VEVENT
DTSTART;TZID=America/New_York:20240222T190000
DTEND;TZID=America/New_York:20240222T200000
DTSTAMP:20260421T193621
CREATED:20231220T172742Z
LAST-MODIFIED:20240222T201223Z
UID:15687-1708628400-1708632000@cliftoninstitute.org
SUMMARY:The Sounds of Nature: How Natural Sounds are Made and Why They Sound Like They Do *Virtual*
DESCRIPTION:**This is a virtual program. We will close registration at noon on February 22 to make sure everyone gets the Zoom link. If you registered and have not received a Zoom link by that time please email Eleanor at eharris@cliftoninstitute.org. If you would like to register after that time you can email Eleanor\, but she may not see your message in time.** \nAs mostly visual creatures\, we often take sound for granted\, but there is a whole incredible world of vibrations going on around us. In this Zoom program\, Co-Director Eleanor Harris\, Ph.D.\, will explain how natural sounds are made and how both human and non-human animals hear them. From why birds sing in the morning to how insects hear with their legs\, thinking about sounds in nature might change the way you see and hear the world around you. A Zoom link will be emailed to participants shortly before the program. \nCost: Free! \nRegistration is REQUIRED. \nCancellation policy: If you register and can no longer attend this event\, please let us know as soon as possible so that we can open your spot to someone else. \nBy registering for this event\, you are affirming that you have read and agree to our liability release policy. \nWe look forward to seeing you at the Clifton Institute! \n  \n 
URL:https://cliftoninstitute.org/event/the-sounds-of-nature-how-natural-sounds-are-made-and-why-they-sound-like-they-do-virtual/
LOCATION:The Clifton Institute\, 6712 Blantyre Road\, Warrenton\, VA\, 20187\, United States
CATEGORIES:Adult programs
ATTACH;FMTTYPE=image/jpeg:https://cliftoninstitute.org/wp-content/uploads/2023/12/Sounds-of-Nature.jpg
GEO:38.7751537;-77.7981971
X-APPLE-STRUCTURED-LOCATION;VALUE=URI;X-ADDRESS=The Clifton Institute 6712 Blantyre Road Warrenton VA 20187 United States;X-APPLE-RADIUS=500;X-TITLE=6712 Blantyre Road:geo:-77.7981971,38.7751537
END:VEVENT
BEGIN:VEVENT
DTSTART;TZID=America/New_York:20240224T083000
DTEND;TZID=America/New_York:20240224T103000
DTSTAMP:20260421T193621
CREATED:20231220T152741Z
LAST-MODIFIED:20231220T152741Z
UID:15674-1708763400-1708770600@cliftoninstitute.org
SUMMARY:Bird Walk
DESCRIPTION:Join us for a morning of birding at the field station. Led by expert birders. Includes a mile or two of slow walking over varied terrain. Please bring water/snacks as needed and dress for the weather. \nCost: Free! \nAge: Adults and children accompanied by an adult. \nWeather policy: Rain or shine except in case of extreme weather (e.g. thunderstorm or significant snow fall). / \nCOVID-19 Information: This program will be entirely outdoors (an outside porta potty will be available). Please do not attend if you are experiencing or have experienced in the last two weeks any symptoms associated with COVID-19 (fever\, cough\, shortness of breath\, etc.). \nRegistration is REQUIRED. \nCancellation policy: If you register and can no longer attend this event\, please let us know as soon as possible so that we can open your spot to someone else. \nBy registering for this event\, you are affirming that you have read and agree to our liability release policy. \nWe look forward to seeing you at the Clifton Institute!
URL:https://cliftoninstitute.org/event/bird-walk-54/
LOCATION:The Clifton Institute\, 6712 Blantyre Road\, Warrenton\, VA\, 20187\, United States
CATEGORIES:Adult programs
ATTACH;FMTTYPE=image/png:https://cliftoninstitute.org/wp-content/uploads/2021/09/monthly-bird-walks-2.5-1.png
GEO:38.7751537;-77.7981971
X-APPLE-STRUCTURED-LOCATION;VALUE=URI;X-ADDRESS=The Clifton Institute 6712 Blantyre Road Warrenton VA 20187 United States;X-APPLE-RADIUS=500;X-TITLE=6712 Blantyre Road:geo:-77.7981971,38.7751537
END:VEVENT
END:VCALENDAR