BEGIN:VCALENDAR
VERSION:2.0
PRODID:-//The Clifton Institute - ECPv6.15.15//NONSGML v1.0//EN
CALSCALE:GREGORIAN
METHOD:PUBLISH
X-ORIGINAL-URL:https://cliftoninstitute.org
X-WR-CALDESC:Events for The Clifton Institute
REFRESH-INTERVAL;VALUE=DURATION:PT1H
X-Robots-Tag:noindex
X-PUBLISHED-TTL:PT1H
BEGIN:VTIMEZONE
TZID:America/New_York
BEGIN:DAYLIGHT
TZOFFSETFROM:-0500
TZOFFSETTO:-0400
TZNAME:EDT
DTSTART:20220313T070000
END:DAYLIGHT
BEGIN:STANDARD
TZOFFSETFROM:-0400
TZOFFSETTO:-0500
TZNAME:EST
DTSTART:20221106T060000
END:STANDARD
BEGIN:DAYLIGHT
TZOFFSETFROM:-0500
TZOFFSETTO:-0400
TZNAME:EDT
DTSTART:20230312T070000
END:DAYLIGHT
BEGIN:STANDARD
TZOFFSETFROM:-0400
TZOFFSETTO:-0500
TZNAME:EST
DTSTART:20231105T060000
END:STANDARD
BEGIN:DAYLIGHT
TZOFFSETFROM:-0500
TZOFFSETTO:-0400
TZNAME:EDT
DTSTART:20240310T070000
END:DAYLIGHT
BEGIN:STANDARD
TZOFFSETFROM:-0400
TZOFFSETTO:-0500
TZNAME:EST
DTSTART:20241103T060000
END:STANDARD
END:VTIMEZONE
BEGIN:VEVENT
DTSTART;TZID=America/New_York:20230304T130000
DTEND;TZID=America/New_York:20230304T150000
DTSTAMP:20260422T124049
CREATED:20221208T150212Z
LAST-MODIFIED:20221208T150212Z
UID:11970-1677934800-1677942000@cliftoninstitute.org
SUMMARY:Walk with a Naturalist
DESCRIPTION:Join us for a walk on our trails with one our naturalists. \n\nCost: Free! \n\n\nAge: Adults and children ages 12 and up\, accompanied by an adult. \n\n\nWeather policy: Rain or shine except in case of extreme weather (e.g. thunderstorm or significant snow fall). \n\n\nCOVID-19 Information: This program will be entirely outdoors (an outside porta potty will be available). Please do not attend if you are experiencing or have experienced in the last two weeks any symptoms associated with COVID-19 (fever\, cough\, shortness of breath\, etc.). \n\n\nRegistration is REQUIRED. \n\n\nCancellation policy: If you register and can no longer attend this event\, please let us know as soon as possible so that we can open your spot to someone else. \n\n\nBy registering for this event\, you are affirming that you have read and agree to our liability release policy. \n\n\nWe look forward to seeing you at the Clifton Institute!
URL:https://cliftoninstitute.org/event/walk-with-a-naturalist-17/
LOCATION:The Clifton Institute\, 6712 Blantyre Road\, Warrenton\, VA\, 20187\, United States
CATEGORIES:Adult programs
ATTACH;FMTTYPE=image/jpeg:https://cliftoninstitute.org/wp-content/uploads/2022/12/walk-with-a-naturalist-.jpg
GEO:38.7751537;-77.7981971
X-APPLE-STRUCTURED-LOCATION;VALUE=URI;X-ADDRESS=The Clifton Institute 6712 Blantyre Road Warrenton VA 20187 United States;X-APPLE-RADIUS=500;X-TITLE=6712 Blantyre Road:geo:-77.7981971,38.7751537
END:VEVENT
BEGIN:VEVENT
DTSTART;TZID=America/New_York:20230304T174500
DTEND;TZID=America/New_York:20230304T191500
DTSTAMP:20260422T124049
CREATED:20221208T151050Z
LAST-MODIFIED:20230301T205143Z
UID:11974-1677951900-1677957300@cliftoninstitute.org
SUMMARY:Woodcock Watch
DESCRIPTION:**NOTE: If this event fills up we have another Woodcock Watch with the same chance of seeing woodcock on the following Saturday March 11. Sign up here!** \nThe American Woodcock is one of our stealthiest birds\, but it’s also one of the most fun to watch when they do show themselves. On early spring evenings\, the males perform their mating displays\, flying high into the air and falling back to the ground\, making calls and sounds with their wings as they do so. \nJoin us for a brief talk about these interesting birds. Then we’ll go out into our fields where we will be able to watch and hear the birds perform. \nCost: $10 for general public\, $5 for Friends of Clifton \nAge: Adults and children accompanied by an adult. \nWeather policy: Rain or shine except in case of extreme weather (e.g. thunderstorm). Please check your email for updates on the morning of the event. \nCOVID-19 Information: This program will be entirely outdoors. Please do not attend if you are experiencing or have experienced in the last two weeks any symptoms associated with COVID-19 (fever\, cough\, shortness of breath\, etc.). \nRegistration is required. \nCancellation policy: No refunds will be given upon registrant cancellation. If you register and can no longer attend this event\, please let us know as soon as possible. \nBy registering for this event you indicate that you have read our liability release form (click here). \nWe look forward to seeing you there!
URL:https://cliftoninstitute.org/event/woodcock-watch-3/
LOCATION:The Clifton Institute\, 6712 Blantyre Road\, Warrenton\, VA\, 20187\, United States
CATEGORIES:Adult programs
ATTACH;FMTTYPE=image/jpeg:https://cliftoninstitute.org/wp-content/uploads/2022/12/Woodcock-watch.jpg
GEO:38.7751537;-77.7981971
X-APPLE-STRUCTURED-LOCATION;VALUE=URI;X-ADDRESS=The Clifton Institute 6712 Blantyre Road Warrenton VA 20187 United States;X-APPLE-RADIUS=500;X-TITLE=6712 Blantyre Road:geo:-77.7981971,38.7751537
END:VEVENT
BEGIN:VEVENT
DTSTART;TZID=America/New_York:20230308T080000
DTEND;TZID=America/New_York:20230308T100000
DTSTAMP:20260422T124049
CREATED:20221208T152811Z
LAST-MODIFIED:20221208T152811Z
UID:11981-1678262400-1678269600@cliftoninstitute.org
SUMMARY:Bird Walk
DESCRIPTION:Cost: Free! \nAge: Adults and children 12 and up\, accompanied by an adult. \nWeather policy: Date and time subject to change dependent on weather. Please check your email for updates on the morning of the event. \nCOVID-19 Information: This program will be entirely outdoors (an outside porta potty will be available). Please do not attend if you are experiencing or have experienced in the last two weeks any symptoms associated with COVID-19 (fever\, cough\, shortness of breath\, etc.). \nRegistration is REQUIRED. \nCancellation policy: If you register and can no longer attend this event\, please let us know as soon as possible so that we can open your spot to someone else. \nBy registering for this event\, you are affirming that you have read and agree to our liability release policy. \nWe look forward to seeing you at the Clifton Institute!
URL:https://cliftoninstitute.org/event/bird-walk-35/
LOCATION:The Clifton Institute\, 6712 Blantyre Road\, Warrenton\, VA\, 20187\, United States
CATEGORIES:Adult programs
ATTACH;FMTTYPE=image/png:https://cliftoninstitute.org/wp-content/uploads/2021/09/monthly-bird-walks-2.5-1.png
GEO:38.7751537;-77.7981971
X-APPLE-STRUCTURED-LOCATION;VALUE=URI;X-ADDRESS=The Clifton Institute 6712 Blantyre Road Warrenton VA 20187 United States;X-APPLE-RADIUS=500;X-TITLE=6712 Blantyre Road:geo:-77.7981971,38.7751537
END:VEVENT
BEGIN:VEVENT
DTSTART;TZID=America/New_York:20230311T090000
DTEND;TZID=America/New_York:20230311T160000
DTSTAMP:20260422T124049
CREATED:20221117T215756Z
LAST-MODIFIED:20230224T213924Z
UID:11811-1678525200-1678550400@cliftoninstitute.org
SUMMARY:Geology of the Piedmont Driving Tour
DESCRIPTION:Come dig a little deeper into Fauquier County (and beyond) in our 2nd annual Geology Tour guided by our Habitat Specialist Andrew Eberly! Hitch a ride on the edge of the North American plate as it sails across the globe and watch neighboring continents come crashing in then break free again as mountains and oceans rise and fall. Visit rocks over a billion years old\, born when the continents were plantless deserts. Hear stories of buried volcanoes and look for clues written in everyday rocks about landscapes of the long distant past. The forests of Northern Virginia are hiding a rich and varied display of geologic forces. This is an opportunity to practice a new way of reading the landscape and glimpse what lies beneath the trees and soil. For those who attended last year\, we will be visiting new sites this year. We will also be travelling by individual cars (with the opportunity to carpool) instead of by van. Please bring your own picnic lunch\, but we will provide snacks\, hot drinks\, and plenty of rocks to smash open! \nCost: $30 ($25 for Friends of the Clifton Institute) \nAge: Adults only. \nBring: Please bring a lunch! We will provide snacks. \nWeather policy: Rain or shine except in case of extreme weather (e.g. thunderstorm or significant snow fall). \nCOVID-19 Information: This program will be entirely outdoors (an outside porta potty will be available). Please do not attend if you are experiencing or have experienced in the last two weeks any symptoms associated with COVID-19 (fever\, cough\, shortness of breath\, etc.). \nRegistration is REQUIRED. \nCancellation policy: If you register and can no longer attend this event\, please let us know as soon as possible so that we can open your spot to someone else. No refunds will be given upon registrant cancellation. \nBy registering for this event\, you are affirming that you have read and agree to our liability release policy. \nWe look forward to seeing you at the Clifton Institute!
URL:https://cliftoninstitute.org/event/geology-of-the-piedmont-driving-tour/
LOCATION:The Clifton Institute\, 6712 Blantyre Road\, Warrenton\, VA\, 20187\, United States
CATEGORIES:Adult programs
ATTACH;FMTTYPE=image/jpeg:https://cliftoninstitute.org/wp-content/uploads/2022/11/Geology-.jpg
GEO:38.7751537;-77.7981971
X-APPLE-STRUCTURED-LOCATION;VALUE=URI;X-ADDRESS=The Clifton Institute 6712 Blantyre Road Warrenton VA 20187 United States;X-APPLE-RADIUS=500;X-TITLE=6712 Blantyre Road:geo:-77.7981971,38.7751537
END:VEVENT
BEGIN:VEVENT
DTSTART;TZID=America/New_York:20230311T174500
DTEND;TZID=America/New_York:20230311T191500
DTSTAMP:20260422T124049
CREATED:20221208T154013Z
LAST-MODIFIED:20230303T214911Z
UID:11986-1678556700-1678562100@cliftoninstitute.org
SUMMARY:Woodcock Watch
DESCRIPTION:The American Woodcock is one of our stealthiest birds\, but it’s also one of the most fun to watch when they do show themselves. On early spring evenings\, the males perform their mating displays\, flying high into the air and falling back to the ground\, making calls and sounds with their wings as they do so. \nJoin us for a brief talk about these interesting birds. Then we’ll go out into our fields where we will be able to watch and hear the birds perform. \nCost: $10 for general public\, $5 for Friends of Clifton \nAge: Adults and children accompanied by an adult. \nWeather policy: Rain or shine except in case of extreme weather (e.g. thunderstorm). Please check your email for updates on the morning of the event. \nCOVID-19 Information: This program will be entirely outdoors. Please do not attend if you are experiencing or have experienced in the last two weeks any symptoms associated with COVID-19 (fever\, cough\, shortness of breath\, etc.). \nRegistration is required. \nCancellation policy: No refunds will be given upon registrant cancellation. If you register and can no longer attend this event\, please let us know as soon as possible. \nBy registering for this event you indicate that you have read our liability release form (click here). \nWe look forward to seeing you there!
URL:https://cliftoninstitute.org/event/woodcock-watch-4/
LOCATION:The Clifton Institute\, 6712 Blantyre Road\, Warrenton\, VA\, 20187\, United States
CATEGORIES:Adult programs
ATTACH;FMTTYPE=image/jpeg:https://cliftoninstitute.org/wp-content/uploads/2022/12/Woodcock-watch.jpg
GEO:38.7751537;-77.7981971
X-APPLE-STRUCTURED-LOCATION;VALUE=URI;X-ADDRESS=The Clifton Institute 6712 Blantyre Road Warrenton VA 20187 United States;X-APPLE-RADIUS=500;X-TITLE=6712 Blantyre Road:geo:-77.7981971,38.7751537
END:VEVENT
BEGIN:VEVENT
DTSTART;TZID=America/New_York:20230318T080000
DTEND;TZID=America/New_York:20230318T100000
DTSTAMP:20260422T124049
CREATED:20221208T155722Z
LAST-MODIFIED:20221208T155722Z
UID:11992-1679126400-1679133600@cliftoninstitute.org
SUMMARY:Bird Walk
DESCRIPTION:Cost: Free! \nAge: Adults and children 12 and up\, accompanied by an adult. \nWeather policy: Date and time subject to change dependent on weather. Please check your email for updates on the morning of the event. \nCOVID-19 Information: This program will be entirely outdoors (an outside porta potty will be available). Please do not attend if you are experiencing or have experienced in the last two weeks any symptoms associated with COVID-19 (fever\, cough\, shortness of breath\, etc.). \nRegistration is REQUIRED. \nCancellation policy: If you register and can no longer attend this event\, please let us know as soon as possible so that we can open your spot to someone else. \nBy registering for this event\, you are affirming that you have read and agree to our liability release policy. \nWe look forward to seeing you at the Clifton Institute!
URL:https://cliftoninstitute.org/event/bird-walk-36/
LOCATION:The Clifton Institute\, 6712 Blantyre Road\, Warrenton\, VA\, 20187\, United States
CATEGORIES:Adult programs
ATTACH;FMTTYPE=image/png:https://cliftoninstitute.org/wp-content/uploads/2021/09/monthly-bird-walks-2.5-1.png
GEO:38.7751537;-77.7981971
X-APPLE-STRUCTURED-LOCATION;VALUE=URI;X-ADDRESS=The Clifton Institute 6712 Blantyre Road Warrenton VA 20187 United States;X-APPLE-RADIUS=500;X-TITLE=6712 Blantyre Road:geo:-77.7981971,38.7751537
END:VEVENT
BEGIN:VEVENT
DTSTART;TZID=America/New_York:20230331T180000
DTEND;TZID=America/New_York:20230331T190000
DTSTAMP:20260422T124049
CREATED:20221220T161914Z
LAST-MODIFIED:20221220T161914Z
UID:12142-1680285600-1680289200@cliftoninstitute.org
SUMMARY:Beginner Bird Song Workshop
DESCRIPTION:Learning to bird by ear is a great skill for any birdwatcher. In this program\, co-Directors Bert and Eleanor Harris will teach the common songs and calls of Virginia’s birds and give tips to identifying birds by ear. \nCost: $10 ($5 for Friends of Clifton) \nAge: Adults and children 12 and up\, accompanied by an adult \nWeather policy: Rain or shine except in case of extreme weather (e.g. thunderstorm or significant snow fall). Please check your email for updates on the morning of the event. \nCOVID-19 Information: This program will include a presentation inside. We are requiring all participants to be fully vaccinated and to wear masks inside. We will ask to see vaccination cards. Please do not attend if you are experiencing or have experienced in the last two weeks any symptoms associated with COVID-19 (fever\, cough\, shortness of breath\, etc.).
URL:https://cliftoninstitute.org/event/beginner-bird-song-workshop-2/
LOCATION:The Clifton Institute\, 6712 Blantyre Road\, Warrenton\, VA\, 20187\, United States
CATEGORIES:Adult programs
ATTACH;FMTTYPE=image/png:https://cliftoninstitute.org/wp-content/uploads/2022/02/Winter-Tree-Identification-for-Beginners-3.png
GEO:38.7751537;-77.7981971
X-APPLE-STRUCTURED-LOCATION;VALUE=URI;X-ADDRESS=The Clifton Institute 6712 Blantyre Road Warrenton VA 20187 United States;X-APPLE-RADIUS=500;X-TITLE=6712 Blantyre Road:geo:-77.7981971,38.7751537
END:VEVENT
END:VCALENDAR