BEGIN:VCALENDAR
VERSION:2.0
PRODID:-//The Clifton Institute - ECPv6.15.15//NONSGML v1.0//EN
CALSCALE:GREGORIAN
METHOD:PUBLISH
X-WR-CALNAME:The Clifton Institute
X-ORIGINAL-URL:https://cliftoninstitute.org
X-WR-CALDESC:Events for The Clifton Institute
REFRESH-INTERVAL;VALUE=DURATION:PT1H
X-Robots-Tag:noindex
X-PUBLISHED-TTL:PT1H
BEGIN:VTIMEZONE
TZID:America/New_York
BEGIN:DAYLIGHT
TZOFFSETFROM:-0500
TZOFFSETTO:-0400
TZNAME:EDT
DTSTART:20210314T070000
END:DAYLIGHT
BEGIN:STANDARD
TZOFFSETFROM:-0400
TZOFFSETTO:-0500
TZNAME:EST
DTSTART:20211107T060000
END:STANDARD
BEGIN:DAYLIGHT
TZOFFSETFROM:-0500
TZOFFSETTO:-0400
TZNAME:EDT
DTSTART:20220313T070000
END:DAYLIGHT
BEGIN:STANDARD
TZOFFSETFROM:-0400
TZOFFSETTO:-0500
TZNAME:EST
DTSTART:20221106T060000
END:STANDARD
BEGIN:DAYLIGHT
TZOFFSETFROM:-0500
TZOFFSETTO:-0400
TZNAME:EDT
DTSTART:20230312T070000
END:DAYLIGHT
BEGIN:STANDARD
TZOFFSETFROM:-0400
TZOFFSETTO:-0500
TZNAME:EST
DTSTART:20231105T060000
END:STANDARD
END:VTIMEZONE
BEGIN:VEVENT
DTSTART;TZID=America/New_York:20220903T100000
DTEND;TZID=America/New_York:20220903T120000
DTSTAMP:20260422T220931
CREATED:20220622T153219Z
LAST-MODIFIED:20220909T184301Z
UID:10360-1662199200-1662206400@cliftoninstitute.org
SUMMARY:Mushrooms with Mayor Nevill CANCELED
DESCRIPTION:NO MUSHROOMS APPEARED THIS YEAR 🙁 \n  \nLate summer is a mushroom-y season and a great time to learn about this under-appreciated kingdom of life! Join mushroom expert Mayor Carter Nevill and Executive Director Bert Harris on a walk in the woods to find and identify as many species of mushrooms as we can. \n\nCost: Free! \n\n\nAge: This program is intended for an adult audience. Interested children accompanied by an adult are welcome to attend. \n\n\nWeather policy: Date and time subject to change dependent on weather. Please check your email for updates on the morning of the event. \n\n\nCOVID-19 Information: This program will be entirely outdoors (an outside porta potty will be available). Please do not attend if you are experiencing or have experienced in the last two weeks any symptoms associated with COVID-19 (fever\, cough\, shortness of breath\, etc.). \n\n\nRegistration is REQUIRED. \n\n\nCancellation policy: If you register and can no longer attend this event\, please let us know as soon as possible so that we can open your spot to someone else. \n\n\nBy registering for this event\, you are affirming that you have read and agree to our liability release policy. \n\n\nWe look forward to seeing you at the Clifton Institute!
URL:https://cliftoninstitute.org/event/mushrooms-with-mayor-nevill-2/
LOCATION:The Clifton Institute\, 6712 Blantyre Road\, Warrenton\, VA\, 20187\, United States
CATEGORIES:Adult programs
ATTACH;FMTTYPE=image/png:https://cliftoninstitute.org/wp-content/uploads/2022/06/Mushroom-header.png
GEO:38.7751537;-77.7981971
X-APPLE-STRUCTURED-LOCATION;VALUE=URI;X-ADDRESS=The Clifton Institute 6712 Blantyre Road Warrenton VA 20187 United States;X-APPLE-RADIUS=500;X-TITLE=6712 Blantyre Road:geo:-77.7981971,38.7751537
END:VEVENT
BEGIN:VEVENT
DTSTART;TZID=America/New_York:20220910T130000
DTEND;TZID=America/New_York:20220910T150000
DTSTAMP:20260422T220931
CREATED:20220526T151908Z
LAST-MODIFIED:20220526T151917Z
UID:10179-1662814800-1662822000@cliftoninstitute.org
SUMMARY:Late Summer Wildflower Walk
DESCRIPTION:Come and see our fields at their best! The fields we call Lower and Upper Woodcock are unplanted and naturally dominated by native plants. We will look for Gray Goldenrod\, Slender Lespedeza\, Green Milkweed\, Field Thistle\, Upland Ironweed\, Elliott’s Bluestem and Little Bluestem in the drier areas\, and Great Blue Lobelia\, New York Ironweed\, and Indiangrass in the moister areas. Executive Director Bert Harris will lead this walk through one of our most interesting habitats and teach participants about Piedmont prairies and how to identify grassland plants. \n\nCost: Free! \n\n\nAge: This program is intended for an adult audience. Interested children accompanied by an adult are welcome to attend. \n\n\nWeather policy: Date and time subject to change dependent on weather. Please check your email for updates on the morning of the event. \n\n\nCOVID-19 Information: This program will be entirely outdoors (an outside porta potty will be available). Please do not attend if you are experiencing or have experienced in the last two weeks any symptoms associated with COVID-19 (fever\, cough\, shortness of breath\, etc.). \n\n\nRegistration is REQUIRED. \n\n\nCancellation policy: If you register and can no longer attend this event\, please let us know as soon as possible so that we can open your spot to someone else. \n\n\nBy registering for this event\, you are affirming that you have read and agree to our liability release policy. \n\n\nWe look forward to seeing you at the Clifton Institute!
URL:https://cliftoninstitute.org/event/late-summer-wildflower-walk/
LOCATION:The Clifton Institute\, 6712 Blantyre Road\, Warrenton\, VA\, 20187\, United States
CATEGORIES:Adult programs
ATTACH;FMTTYPE=image/png:https://cliftoninstitute.org/wp-content/uploads/2022/05/Late-Summer-Wildflowers.png
GEO:38.7751537;-77.7981971
X-APPLE-STRUCTURED-LOCATION;VALUE=URI;X-ADDRESS=The Clifton Institute 6712 Blantyre Road Warrenton VA 20187 United States;X-APPLE-RADIUS=500;X-TITLE=6712 Blantyre Road:geo:-77.7981971,38.7751537
END:VEVENT
BEGIN:VEVENT
DTSTART;TZID=America/New_York:20220910T193000
DTEND;TZID=America/New_York:20220910T210000
DTSTAMP:20260422T220931
CREATED:20220622T161902Z
LAST-MODIFIED:20220622T164121Z
UID:10372-1662838200-1662843600@cliftoninstitute.org
SUMMARY:Creatures of the Night
DESCRIPTION:Join Clifton Institute Executive Director Bert Harris to look and listen for creatures of the night! We’ll start by listening to the evening chorus of cicadas and birds. Then we will take a gentle walk through fields and woods to look for nocturnal animals. Late summer is an ideal time to observe several species of katydids and crickets. We will also look for beavers\, reptiles and amphibians\, and other animals. Back at the farm house we will see what kinds of moths and beetles we can attract with black lights. We hope to see you there! \n\nCost: Free! \n\n\nAge:  Adults and children ages 12 and up\, accompanied by an adult. If you have younger children be sure to check out our Night-time Family Nature Walk happening at the same time! \n\n\nBring: Please bring a flashlight. \n\n\nWeather policy: Date and time subject to change dependent on weather. Please check your email for updates on the morning of the event. \n\n\nCOVID-19 Information: This program will be entirely outdoors (an outside porta potty will be available). Please do not attend if you are experiencing or have experienced in the last two weeks any symptoms associated with COVID-19 (fever\, cough\, shortness of breath\, etc.). \n\n\nRegistration is REQUIRED. \n\n\nCancellation policy: If you register and can no longer attend this event\, please let us know as soon as possible so that we can open your spot to someone else. \n\n\nBy registering for this event\, you are affirming that you have read and agree to our liability release policy. \n\n\nWe look forward to seeing you at the Clifton Institute!
URL:https://cliftoninstitute.org/event/creatures-of-the-night-2/
LOCATION:The Clifton Institute\, 6712 Blantyre Road\, Warrenton\, VA\, 20187\, United States
CATEGORIES:Adult programs
ATTACH;FMTTYPE=image/png:https://cliftoninstitute.org/wp-content/uploads/2022/06/Creatures-of-the-Night.png
GEO:38.7751537;-77.7981971
X-APPLE-STRUCTURED-LOCATION;VALUE=URI;X-ADDRESS=The Clifton Institute 6712 Blantyre Road Warrenton VA 20187 United States;X-APPLE-RADIUS=500;X-TITLE=6712 Blantyre Road:geo:-77.7981971,38.7751537
END:VEVENT
BEGIN:VEVENT
DTSTART;TZID=America/New_York:20220914T070000
DTEND;TZID=America/New_York:20220914T090000
DTSTAMP:20260422T220931
CREATED:20220622T182617Z
LAST-MODIFIED:20220622T182617Z
UID:10389-1663138800-1663146000@cliftoninstitute.org
SUMMARY:Bird Walk
DESCRIPTION:Both beginner and experienced birders will enjoy this guided 1-2 mile hike to look for the many species of birds that can be found on the field station. We will explore successional fields\, meadows\, lake edges\, and forest. Don’t forget to bring your binoculars! \n\nCost: Free! \n\n\nAge: Adults and children ages 12 and up\, accompanied by an adult. \n\n\nWeather policy: Date and time subject to change dependent on weather. Please check your email for updates on the morning of the event. \n\n\nCOVID-19 Information: This program will be entirely outdoors (an outside porta potty will be available). Please do not attend if you are experiencing or have experienced in the last two weeks any symptoms associated with COVID-19 (fever\, cough\, shortness of breath\, etc.). \n\n\nRegistration is REQUIRED. \n\n\nCancellation policy: If you register and can no longer attend this event\, please let us know as soon as possible so that we can open your spot to someone else. \n\n\nBy registering for this event\, you are affirming that you have read and agree to our liability release policy. \n\n\nWe look forward to seeing you at the Clifton Institute!
URL:https://cliftoninstitute.org/event/bird-walk-25/
LOCATION:The Clifton Institute\, 6712 Blantyre Road\, Warrenton\, VA\, 20187\, United States
CATEGORIES:Adult programs
ATTACH;FMTTYPE=image/png:https://cliftoninstitute.org/wp-content/uploads/2021/09/monthly-bird-walks-2.5-1.png
GEO:38.7751537;-77.7981971
X-APPLE-STRUCTURED-LOCATION;VALUE=URI;X-ADDRESS=The Clifton Institute 6712 Blantyre Road Warrenton VA 20187 United States;X-APPLE-RADIUS=500;X-TITLE=6712 Blantyre Road:geo:-77.7981971,38.7751537
END:VEVENT
BEGIN:VEVENT
DTSTART;TZID=America/New_York:20220917T130000
DTEND;TZID=America/New_York:20220917T150000
DTSTAMP:20260422T220931
CREATED:20220521T200109Z
LAST-MODIFIED:20220916T183531Z
UID:10145-1663419600-1663426800@cliftoninstitute.org
SUMMARY:Raptor Migration Field Trip
DESCRIPTION:Every fall raptors migrate south along the Appalachian Mountains. Several species of hawks\, eagles\, and falcons can be seen migrating\, but the biggest spectacles are the days when huge numbers of Broad-winged Hawks fly by. If we’re lucky we might see thousands! One of the expert bird-watchers on our staff will lead the group and discuss how to identify raptors in flight. We will meet at Snickers Gap\, where there’s an excellent view of migrating raptors. \n\nCost: Free! \n\n\nAge: This program is intended for an adult audience. Interested children accompanied by an adult are welcome to attend. \n\n\nBring: Please bring binoculars. It can be very cold and windy in the gap\, so we also recommend dressing for those conditions and bringing a hot drink in a thermos. \n\n\nWeather policy: Date and time subject to change dependent on weather. Please check your email for updates on the morning of the event. \n\n\nCOVID-19 Information: This program will be entirely outdoors (an outside porta potty will be available). Please do not attend if you are experiencing or have experienced in the last two weeks any symptoms associated with COVID-19 (fever\, cough\, shortness of breath\, etc.). \n\n\nRegistration is REQUIRED. \n\n\nCancellation policy: If you register and can no longer attend this event\, please let us know as soon as possible so that we can open your spot to someone else. \n\n\nBy registering for this event\, you are affirming that you have read and agree to our liability release policy. \n\n 
URL:https://cliftoninstitute.org/event/raptor-migration-field-trip/
LOCATION:Snickers Gap\, Bluemont\, VA\, 20135\, United States
CATEGORIES:Adult programs,Family programs
ATTACH;FMTTYPE=image/png:https://cliftoninstitute.org/wp-content/uploads/2022/05/Raptor-Migration-Field-Trip-@-Snickers-Gap-Hawkwatch.png
GEO:39.115697;-77.846891
END:VEVENT
BEGIN:VEVENT
DTSTART;TZID=America/New_York:20220917T130000
DTEND;TZID=America/New_York:20220917T150000
DTSTAMP:20260422T220931
CREATED:20220622T183114Z
LAST-MODIFIED:20220622T183114Z
UID:10392-1663419600-1663426800@cliftoninstitute.org
SUMMARY:Walk with a Naturalist
DESCRIPTION:Join us for a walk on our trails with one our naturalists. \n\nCost: Free! \n\n\nAge: Adults and children ages 12 and up\, accompanied by an adult. \n\n\nWeather policy: Rain or shine except in case of extreme weather (e.g. thunderstorm or significant snow fall). \n\n\nCOVID-19 Information: This program will be entirely outdoors (an outside porta potty will be available). Please do not attend if you are experiencing or have experienced in the last two weeks any symptoms associated with COVID-19 (fever\, cough\, shortness of breath\, etc.). \n\n\nRegistration is REQUIRED. \n\n\nCancellation policy: If you register and can no longer attend this event\, please let us know as soon as possible so that we can open your spot to someone else. \n\n\nBy registering for this event\, you are affirming that you have read and agree to our liability release policy. \n\n\nWe look forward to seeing you at the Clifton Institute!
URL:https://cliftoninstitute.org/event/walk-with-a-naturalist-13/
LOCATION:The Clifton Institute\, 6712 Blantyre Road\, Warrenton\, VA\, 20187\, United States
CATEGORIES:Adult programs
ATTACH;FMTTYPE=image/png:https://cliftoninstitute.org/wp-content/uploads/2021/11/walk-with-a-naturalist-2.5-1.png
GEO:38.7751537;-77.7981971
X-APPLE-STRUCTURED-LOCATION;VALUE=URI;X-ADDRESS=The Clifton Institute 6712 Blantyre Road Warrenton VA 20187 United States;X-APPLE-RADIUS=500;X-TITLE=6712 Blantyre Road:geo:-77.7981971,38.7751537
END:VEVENT
BEGIN:VEVENT
DTSTART;TZID=America/New_York:20220923T180000
DTEND;TZID=America/New_York:20220923T193000
DTSTAMP:20260422T220931
CREATED:20220622T180255Z
LAST-MODIFIED:20220921T163819Z
UID:10382-1663956000-1663961400@cliftoninstitute.org
SUMMARY:Party in the Pawpaw Patch
DESCRIPTION:Join us way down yonder for a Pawpaw party! We are excited to host this celebration of our only native tropical fruit tree! With many colorful nicknames such as the hillbilly mango\, the pawpaw’s cultural flavor is as intriguing as its taste. We will give a brief talk on the ecology and cultural history of the species before we meander on over to the pawpaw patch to pick fruits to sample. Warning: You MIGHT be encouraged to participate in a sing-along. \n\nCost: Free! \n\n\nAge: Adults and children accompanied by adults. \n\n\nWeather policy: Date and time subject to change dependent on weather. Please check your email for updates on the morning of the event. \n\n\nCOVID-19 Information: This program will be entirely outdoors (an outside porta potty will be available). Please do not attend if you are experiencing or have experienced in the last two weeks any symptoms associated with COVID-19 (fever\, cough\, shortness of breath\, etc.). \n\n\nRegistration is REQUIRED. \n\n\nCancellation policy: If you register and can no longer attend this event\, please let us know as soon as possible so that we can open your spot to someone else. \n\n\nBy registering for this event\, you are affirming that you have read and agree to our liability release policy. \n\n\nWe look forward to seeing you at the Clifton Institute!
URL:https://cliftoninstitute.org/event/party-in-the-pawpaw-patch-2/
LOCATION:The Clifton Institute\, 6712 Blantyre Road\, Warrenton\, VA\, 20187\, United States
CATEGORIES:Adult programs
ATTACH;FMTTYPE=image/png:https://cliftoninstitute.org/wp-content/uploads/2022/06/Party-in-the-Pawpaw-Patch.png
GEO:38.7751537;-77.7981971
X-APPLE-STRUCTURED-LOCATION;VALUE=URI;X-ADDRESS=The Clifton Institute 6712 Blantyre Road Warrenton VA 20187 United States;X-APPLE-RADIUS=500;X-TITLE=6712 Blantyre Road:geo:-77.7981971,38.7751537
END:VEVENT
BEGIN:VEVENT
DTSTART;TZID=America/New_York:20220924T073000
DTEND;TZID=America/New_York:20220924T093000
DTSTAMP:20260422T220931
CREATED:20220622T183521Z
LAST-MODIFIED:20220622T183521Z
UID:10395-1664004600-1664011800@cliftoninstitute.org
SUMMARY:Bird Walk
DESCRIPTION:Both beginner and experienced birders will enjoy this guided 1-2 mile hike to look for the many species of birds that can be found on the field station. We will explore successional fields\, meadows\, lake edges\, and forest. Don’t forget to bring your binoculars! \nCost: Free! \n\n\nAge: Adults and children ages 12 and up\, accompanied by an adult. \n\n\nWeather policy: Rain or shine except in case of extreme weather (e.g. thunderstorm or significant snow fall). \n\n\nCOVID-19 Information: This program will be entirely outdoors (an outside porta potty will be available). Please do not attend if you are experiencing or have experienced in the last two weeks any symptoms associated with COVID-19 (fever\, cough\, shortness of breath\, etc.). \n\n\nRegistration is REQUIRED. \n\n\nCancellation policy: If you register and can no longer attend this event\, please let us know as soon as possible so that we can open your spot to someone else. \n\n\nBy registering for this event\, you are affirming that you have read and agree to our liability release policy. \n\n\nWe look forward to seeing you at the Clifton Institute!
URL:https://cliftoninstitute.org/event/bird-walk-26/
LOCATION:The Clifton Institute\, 6712 Blantyre Road\, Warrenton\, VA\, 20187\, United States
CATEGORIES:Adult programs
ATTACH;FMTTYPE=image/png:https://cliftoninstitute.org/wp-content/uploads/2021/09/monthly-bird-walks-2.5-1.png
GEO:38.7751537;-77.7981971
X-APPLE-STRUCTURED-LOCATION;VALUE=URI;X-ADDRESS=The Clifton Institute 6712 Blantyre Road Warrenton VA 20187 United States;X-APPLE-RADIUS=500;X-TITLE=6712 Blantyre Road:geo:-77.7981971,38.7751537
END:VEVENT
BEGIN:VEVENT
DTSTART;TZID=America/New_York:20220924T110000
DTEND;TZID=America/New_York:20220924T140000
DTSTAMP:20260422T220931
CREATED:20220622T181106Z
LAST-MODIFIED:20220622T181106Z
UID:10386-1664017200-1664028000@cliftoninstitute.org
SUMMARY:Native Plant Sale
DESCRIPTION:Native plants provide better food for insects\, which in turn provide food for birds. You can make a huge difference for wildlife by planting native species on your property. Since fall 2019 we have been collecting seeds of native grassland plants from around the area\, which means in addition to being native they are of local ecotypes. At the plant sale we will sell seedlings grown from these seeds of a variety of perennial wildflowers\, native grasses\, and a few trees. Some of our favorites include butterflyweed\, upland ironweed\, scaly blazing star\, narrow-leaf mountain-mint\, and gray goldenrod. Partners from other organizations will also have plants and merchandise for sale. We will accept credit card\, cash\, or checks made out to the Clifton Institute. We hope to see you there! \n\n\nWeather policy: Rain or shine except in case of extreme weather (e.g. thunderstorm or significant snow fall). \n\n\nCOVID-19 Information: This program will be entirely outdoors (an outside porta potty will be available). Please do not attend if you are experiencing or have experienced in the last two weeks any symptoms associated with COVID-19 (fever\, cough\, shortness of breath\, etc.). \n\n\nWe look forward to seeing you at the Clifton Institute! \n\n  \n 
URL:https://cliftoninstitute.org/event/native-plant-sale-3/
LOCATION:6712 Blantyre Road\, Warrenton\, VA\, 20187\, United States
CATEGORIES:Adult programs
ATTACH;FMTTYPE=image/png:https://cliftoninstitute.org/wp-content/uploads/2022/06/Native-Plant-Sale.png
GEO:38.7751537;-77.7981971
X-APPLE-STRUCTURED-LOCATION;VALUE=URI;X-ADDRESS=6712 Blantyre Road Warrenton VA 20187 United States;X-APPLE-RADIUS=500;X-TITLE=6712 Blantyre Road:geo:-77.7981971,38.7751537
END:VEVENT
END:VCALENDAR