BEGIN:VCALENDAR
VERSION:2.0
PRODID:-//The Clifton Institute - ECPv6.15.15//NONSGML v1.0//EN
CALSCALE:GREGORIAN
METHOD:PUBLISH
X-ORIGINAL-URL:https://cliftoninstitute.org
X-WR-CALDESC:Events for The Clifton Institute
REFRESH-INTERVAL;VALUE=DURATION:PT1H
X-Robots-Tag:noindex
X-PUBLISHED-TTL:PT1H
BEGIN:VTIMEZONE
TZID:America/New_York
BEGIN:DAYLIGHT
TZOFFSETFROM:-0500
TZOFFSETTO:-0400
TZNAME:EDT
DTSTART:20210314T070000
END:DAYLIGHT
BEGIN:STANDARD
TZOFFSETFROM:-0400
TZOFFSETTO:-0500
TZNAME:EST
DTSTART:20211107T060000
END:STANDARD
BEGIN:DAYLIGHT
TZOFFSETFROM:-0500
TZOFFSETTO:-0400
TZNAME:EDT
DTSTART:20220313T070000
END:DAYLIGHT
BEGIN:STANDARD
TZOFFSETFROM:-0400
TZOFFSETTO:-0500
TZNAME:EST
DTSTART:20221106T060000
END:STANDARD
BEGIN:DAYLIGHT
TZOFFSETFROM:-0500
TZOFFSETTO:-0400
TZNAME:EDT
DTSTART:20230312T070000
END:DAYLIGHT
BEGIN:STANDARD
TZOFFSETFROM:-0400
TZOFFSETTO:-0500
TZNAME:EST
DTSTART:20231105T060000
END:STANDARD
END:VTIMEZONE
BEGIN:VEVENT
DTSTART;TZID=America/New_York:20220810T070000
DTEND;TZID=America/New_York:20220810T090000
DTSTAMP:20260422T234442
CREATED:20220521T182000Z
LAST-MODIFIED:20220521T182000Z
UID:10135-1660114800-1660122000@cliftoninstitute.org
SUMMARY:Bird Walk
DESCRIPTION:Both beginner and experienced birders will enjoy this guided 1-2 mile hike to look for the many species of birds that can be found on the field station. We will explore successional fields\, meadows\, lake edges\, and forest. Don’t forget to bring your binoculars! \nCost: Free! \nAge: Adults and children 12 and up\, accompanied by an adult \nWeather policy: Rain or shine except in case of extreme weather (e.g. thunderstorm or significant snow fall). Please check your email for updates the day before the event. \nCOVID-19 Information: This program will be entirely outdoors (an outside port-o-potty will be available). Please do not attend if you are experiencing or have experienced in the last two weeks any symptoms associated with COVID-19 (fever\, cough\, shortness of breath\, etc.). \nRegistration is REQUIRED. \nCancellation policy: If you register and can no longer attend this event\, please let us know as soon as possible so that we can open your spot to someone else. \n\nBy registering for this event\, you are affirming that you have read and agree to our liability release policy. \n\nWe look forward to seeing you at the Clifton Institute!
URL:https://cliftoninstitute.org/event/bird-walk-24/
LOCATION:The Clifton Institute\, 6712 Blantyre Road\, Warrenton\, VA\, 20187\, United States
CATEGORIES:Adult programs
ATTACH;FMTTYPE=image/png:https://cliftoninstitute.org/wp-content/uploads/2021/09/monthly-bird-walks-2.5-1.png
GEO:38.7751537;-77.7981971
X-APPLE-STRUCTURED-LOCATION;VALUE=URI;X-ADDRESS=The Clifton Institute 6712 Blantyre Road Warrenton VA 20187 United States;X-APPLE-RADIUS=500;X-TITLE=6712 Blantyre Road:geo:-77.7981971,38.7751537
END:VEVENT
BEGIN:VEVENT
DTSTART;TZID=America/New_York:20220813T090000
DTEND;TZID=America/New_York:20220813T120000
DTSTAMP:20260422T234442
CREATED:20220521T184626Z
LAST-MODIFIED:20220521T184626Z
UID:10138-1660381200-1660392000@cliftoninstitute.org
SUMMARY:Volunteer Day: Invasive Species Removal
DESCRIPTION:Invasive plant species crowd out native plants and provide little to no food for native animals. This year we are trying to tackle some of the Multiflora Rose in our forests and we need your help! Please bring work gloves and clippers if you have them. \n\nAge: Adults only and children ages 12 and up\, accompanied by an adult. \n\n\nWeather policy: Date and time subject to change dependent on weather. Please check your email for updates on the morning of the event. \n\n\nCOVID-19 Information: This program will be entirely outdoors (an outside port-o-potty will be available). Please do not attend if you are experiencing or have experienced in the last two weeks any symptoms associated with COVID-19 (fever\, cough\, shortness of breath\, etc.). \n\n\nRegistration is REQUIRED so that we can communicate with you in case of changes.\n \n\n\nBefore attending this event\, please read the information included on our liability release form (click here). \n\n\nWe look forward to seeing you at the Clifton Institute!
URL:https://cliftoninstitute.org/event/volunteer-day-invasive-species-removal-6/
LOCATION:6712 Blantyre Road\, Warrenton\, VA\, 20187\, United States
CATEGORIES:Adult programs,Volunteer days
ATTACH;FMTTYPE=image/png:https://cliftoninstitute.org/wp-content/uploads/2022/04/Copy-of-volunteer-day-2.5.png
GEO:38.7751537;-77.7981971
X-APPLE-STRUCTURED-LOCATION;VALUE=URI;X-ADDRESS=6712 Blantyre Road Warrenton VA 20187 United States;X-APPLE-RADIUS=500;X-TITLE=6712 Blantyre Road:geo:-77.7981971,38.7751537
END:VEVENT
BEGIN:VEVENT
DTSTART;TZID=America/New_York:20220820T090000
DTEND;TZID=America/New_York:20220820T120000
DTSTAMP:20260422T234442
CREATED:20220526T151615Z
LAST-MODIFIED:20220701T200335Z
UID:10173-1660986000-1660996800@cliftoninstitute.org
SUMMARY:Piedmont Prairie Field Trip
DESCRIPTION:During this field trip\, Executive Director Bert Harris will lead a walk through a mega-diverse prairie\, highlighting some of the special species that are found there and discussing the conservation and restoration of this important habitat. We will meet at Leopold’s Preserve and then carpool to the site. \n\nCost: Free! \n\n\nAge: This program is intended for an adult audience. Interested children accompanied by an adult are welcome to attend. \n\n\n\nWeather policy: Date and time subject to change dependent on weather. Please check your email for updates on the morning of the event. \n\n\nCOVID-19 Information: This program will be entirely outdoors (an outside porta potty will be available). Please do not attend if you are experiencing or have experienced in the last two weeks any symptoms associated with COVID-19 (fever\, cough\, shortness of breath\, etc.). \n\n\nRegistration is REQUIRED. \n\n\nCancellation policy: If you register and can no longer attend this event\, please let us know as soon as possible so that we can open your spot to someone else. \n\n\nBy registering for this event\, you are affirming that you have read and agree to our liability release policy. \n\n\nWe look forward to seeing you at the Clifton Institute!
URL:https://cliftoninstitute.org/event/piedmont-prairie-field-trip/
LOCATION:Leopold’s Preserve\, 16290 Thoroughfare Rd\, Broad Run\, VA\, 20137\, United States
CATEGORIES:Adult programs
ATTACH;FMTTYPE=image/png:https://cliftoninstitute.org/wp-content/uploads/2022/05/Native-Grassland-Tour1.png
END:VEVENT
BEGIN:VEVENT
DTSTART;TZID=America/New_York:20220820T093000
DTEND;TZID=America/New_York:20220820T120000
DTSTAMP:20260422T234442
CREATED:20220520T233627Z
LAST-MODIFIED:20220520T233627Z
UID:10125-1660987800-1660996800@cliftoninstitute.org
SUMMARY:Nature Journaling Meetup and Walk
DESCRIPTION:From Co-Director Eleanor Harris: Nature journaling is my favorite hobby\, a great way to spend time outside\, and a powerful tool for learning about nature. I want to help develop the community of nature journalers in our area and to encourage more people to start their own nature journals. Whether you have been nature journaling for years or have never nature journaled before but want to try it out\, this event is for you! I’ll give a very brief introduction to nature journaling before we go for a walk on our beautiful 900-acre property. On the walk we’ll stop and journal about whatever we find. \nCost: Free! \nAge: Adults and children accompanied by an adult. Adults will be responsible for monitoring their children\, but we would love to have all ages of nature lovers attend. \nBring: Please bring a journal and art supplies. Just a piece of paper and pencil will be enough. \nWeather policy: Date and time subject to change dependent on weather. Please check your email for updates on the morning of the event. \nCOVID-19 Information: This program will be entirely outdoors (an outside porta potty will be available). Please do not attend if you are experiencing or have experienced in the last two weeks any symptoms associated with COVID-19 (fever\, cough\, shortness of breath\, etc.). \nRegistration is REQUIRED. \nBy registering for this event\, you are affirming that you have read and agree to our liability release policy. \nWe look forward to seeing you at the Clifton Institute!
URL:https://cliftoninstitute.org/event/nature-journaling-meetup-and-walk/
LOCATION:The Clifton Institute\, 6712 Blantyre Road\, Warrenton\, VA\, 20187\, United States
CATEGORIES:Adult programs,Family programs
ATTACH;FMTTYPE=image/png:https://cliftoninstitute.org/wp-content/uploads/2022/04/Nature-Journal-Meet-up.png
GEO:38.7751537;-77.7981971
X-APPLE-STRUCTURED-LOCATION;VALUE=URI;X-ADDRESS=The Clifton Institute 6712 Blantyre Road Warrenton VA 20187 United States;X-APPLE-RADIUS=500;X-TITLE=6712 Blantyre Road:geo:-77.7981971,38.7751537
END:VEVENT
BEGIN:VEVENT
DTSTART;TZID=America/New_York:20220820T150000
DTEND;TZID=America/New_York:20220820T170000
DTSTAMP:20260422T234442
CREATED:20220526T145015Z
LAST-MODIFIED:20220526T145401Z
UID:10167-1661007600-1661014800@cliftoninstitute.org
SUMMARY:Walk with a Naturalist: Weather Watch
DESCRIPTION:Join us for a walk on our trails with one our naturalists. In August we will be focusing on the weather! Habitat Specialist and weather enthusiast Andrew Eberly will talk a bit about the Virginia’s summer weather and then will narrate some of the afternoon’s weather phenomena on the walk. We focus so much on plants and animals that it’s sometimes easy to forget about the weather that keeps our ecosystem going\, so this is a great opportunity to learn about an underappreciated subject. Please note that this program is from 3 to 5\, as opposed to 1 to 3 like most of our Walks with a Naturalist.  \nCost: Free! \nAge: Adults and children 12 and up\, accompanied by an adult \nWeather policy: Rain or shine except in case of extreme weather (e.g. thunderstorm or significant snow fall).  Please check your email for updates on the morning of the event. \nWhat to bring: Water bottle\, hat\, sunscreen\, binoculars. \nCOVID-19 Information: This program will be entirely outdoors (an outside port-o-potty will be available). Please do not attend if you are experiencing or have experienced in the last two weeks any symptoms associated with COVID-19 (fever\, cough\, shortness of breath\, etc.). \nRegistration is REQUIRED. \nCancellation policy: If you register and can no longer attend this event\, please let us know as soon as possible so that we can open your spot to someone else. \nBefore attending this event\, please read the information included on our liability release form (click here). \nWe look forward to seeing you at the Clifton Institute!
URL:https://cliftoninstitute.org/event/wwn-weather/
LOCATION:The Clifton Institute\, 6712 Blantyre Road\, Warrenton\, VA\, 20187\, United States
CATEGORIES:Adult programs
ATTACH;FMTTYPE=image/png:https://cliftoninstitute.org/wp-content/uploads/2022/05/Walk-with-a-Naturalist-weather.png
GEO:38.7751537;-77.7981971
X-APPLE-STRUCTURED-LOCATION;VALUE=URI;X-ADDRESS=The Clifton Institute 6712 Blantyre Road Warrenton VA 20187 United States;X-APPLE-RADIUS=500;X-TITLE=6712 Blantyre Road:geo:-77.7981971,38.7751537
END:VEVENT
BEGIN:VEVENT
DTSTART;TZID=America/New_York:20220827T100000
DTEND;TZID=America/New_York:20220827T170000
DTSTAMP:20260422T234442
CREATED:20220222T183756Z
LAST-MODIFIED:20220409T191857Z
UID:8991-1661594400-1661619600@cliftoninstitute.org
SUMMARY:Nature Camp For Grownups
DESCRIPTION:Hey grownups! Have you ever wished you could come to one of our nature camps? Well\, now you can! This August we are offering our second annual weekend-long Nature Camp for Grownups. Activities will start on the morning of August 27\, go through a campfire that night\, resume on the morning of August 28\, and conclude that afternoon. Activities will include nature walks\, nature journaling\, introductory lessons about Virginia’s plant and animals\, crafts\, and more. And of course we’ll be making friends and having fun the whole time! We’ll provide dinner and s’mores on Saturday night and some sweet treats and coffee on Sunday morning; you’ll bring bag lunches both days. All materials for crafts and other projects will be included. This is not sleep away camp – at least not yet – so you’ll go home to your own bed on Saturday night. \nTimes: 10:00AM – 9:00PM on August 27 and 10:00AM to 5:00PM on August 28 \n\nCost: $125 ($100 for Friends of the Clifton Institute). \n\n\nAge: Adults only. \n\n\nBring: Lunch\, snacks\, water bottle\, a nature journal if you have one. \n\n\nWeather policy: Rain or shine except in case of extreme weather (e.g. thunderstorm or significant snow fall). \n\n\nCOVID-19 Information: This program will be entirely outdoors (an outside porta potty will be available). We require that everyone have a mask with them in case we need to go inside during inclement weather\, to administer first aid\, or for other reasons. Please do not attend if you are experiencing or have experienced in the last two weeks any symptoms associated with COVID-19 (fever\, cough\, shortness of breath\, etc.). \n\n\nRegistration is REQUIRED. \n\n\nCancellation policy: If you register and can no longer attend this event\, please let us know as soon as possible so that we can open your spot to someone else. No refunds will be given upon registrant cancellation. \n\n\nBefore attending this event\, please read the information included on our liability release form (click here). \n\n\nWe look forward to seeing you at the Clifton Institute! \n\n 
URL:https://cliftoninstitute.org/event/nature-camp-for-grownups/2022-08-27/
LOCATION:The Clifton Institute\, 6712 Blantyre Road\, Warrenton\, VA\, 20187\, United States
CATEGORIES:Adult programs,Summer Camps
ATTACH;FMTTYPE=image/png:https://cliftoninstitute.org/wp-content/uploads/2022/02/Nature-Camp-for-Grownups.png
GEO:38.7751537;-77.7981971
X-APPLE-STRUCTURED-LOCATION;VALUE=URI;X-ADDRESS=The Clifton Institute 6712 Blantyre Road Warrenton VA 20187 United States;X-APPLE-RADIUS=500;X-TITLE=6712 Blantyre Road:geo:-77.7981971,38.7751537
END:VEVENT
END:VCALENDAR