BEGIN:VCALENDAR
VERSION:2.0
PRODID:-//The Clifton Institute - ECPv6.15.15//NONSGML v1.0//EN
CALSCALE:GREGORIAN
METHOD:PUBLISH
X-ORIGINAL-URL:https://cliftoninstitute.org
X-WR-CALDESC:Events for The Clifton Institute
REFRESH-INTERVAL;VALUE=DURATION:PT1H
X-Robots-Tag:noindex
X-PUBLISHED-TTL:PT1H
BEGIN:VTIMEZONE
TZID:America/New_York
BEGIN:DAYLIGHT
TZOFFSETFROM:-0500
TZOFFSETTO:-0400
TZNAME:EDT
DTSTART:20210314T070000
END:DAYLIGHT
BEGIN:STANDARD
TZOFFSETFROM:-0400
TZOFFSETTO:-0500
TZNAME:EST
DTSTART:20211107T060000
END:STANDARD
BEGIN:DAYLIGHT
TZOFFSETFROM:-0500
TZOFFSETTO:-0400
TZNAME:EDT
DTSTART:20220313T070000
END:DAYLIGHT
BEGIN:STANDARD
TZOFFSETFROM:-0400
TZOFFSETTO:-0500
TZNAME:EST
DTSTART:20221106T060000
END:STANDARD
BEGIN:DAYLIGHT
TZOFFSETFROM:-0500
TZOFFSETTO:-0400
TZNAME:EDT
DTSTART:20230312T070000
END:DAYLIGHT
BEGIN:STANDARD
TZOFFSETFROM:-0400
TZOFFSETTO:-0500
TZNAME:EST
DTSTART:20231105T060000
END:STANDARD
END:VTIMEZONE
BEGIN:VEVENT
DTSTART;TZID=America/New_York:20220402T100000
DTEND;TZID=America/New_York:20220402T120000
DTSTAMP:20260423T053248
CREATED:20220204T185820Z
LAST-MODIFIED:20220204T185820Z
UID:8666-1648893600-1648900800@cliftoninstitute.org
SUMMARY:Early Spring Wildflower Walk
DESCRIPTION:In early spring ephemeral wildflowers appear on the forest floor taking advantage of a brief moment of sunlight before the canopy above fills out with trees. Join us for a walk exploring our wooded trails in search of early spring ephemerals such as Bloodroot\, Cutleaf toothwort\, Rue-anemone\, and Skunk Cabbage. \nCost: Free! \nAge: Adults and children 12 and up\, accompanied by an adult \nWeather policy: Date and time subject to change dependent on weather. Please check your email for updates on the morning of the event. \nCOVID-19 Information: This program will be entirely outdoors (an outside port-o-potty will be available). We require that everyone have a mask with them in case we need to go inside during inclement weather\, to administer first aid\, or for other reasons. Please do not attend if you are experiencing or have experienced in the last two weeks any symptoms associated with COVID-19 (fever\, cough\, shortness of breath\, etc.). \nRegistration is REQUIRED. \nCancellation policy: If you register and can no longer attend this event\, please let us know as soon as possible so that we can open your spot to someone else. \nBefore attending this event\, please read the information included on our liability release form (click here). \nWe look forward to seeing you at the Clifton Institute! \n 
URL:https://cliftoninstitute.org/event/early-spring-wildflower-walk/
LOCATION:The Clifton Institute\, 6712 Blantyre Road\, Warrenton\, VA\, 20187\, United States
CATEGORIES:Adult programs
ATTACH;FMTTYPE=image/png:https://cliftoninstitute.org/wp-content/uploads/2022/02/Winter-Tree-Identification-for-Beginners-4.png
GEO:38.7751537;-77.7981971
X-APPLE-STRUCTURED-LOCATION;VALUE=URI;X-ADDRESS=The Clifton Institute 6712 Blantyre Road Warrenton VA 20187 United States;X-APPLE-RADIUS=500;X-TITLE=6712 Blantyre Road:geo:-77.7981971,38.7751537
END:VEVENT
BEGIN:VEVENT
DTSTART;TZID=America/New_York:20220406T070000
DTEND;TZID=America/New_York:20220406T090000
DTSTAMP:20260423T053248
CREATED:20211217T193351Z
LAST-MODIFIED:20220203T215139Z
UID:8138-1649228400-1649235600@cliftoninstitute.org
SUMMARY:Bird Walk
DESCRIPTION:Novice and experienced birders will enjoy this guided 1-2 mile hike to look for the many species of birds that can be found on the field station. We will explore successional fields\, meadows\, lake edges\, and forest. Don’t forget to bring your binoculars! \nCost: Free! \nAge: Adults and children 12 and up\, accompanied by an adult \nWeather policy: Rain or shine except in case of extreme weather (e.g. thunderstorm or significant snow fall). Please check your email for updates the morning of the event. \nCOVID-19 Information: This program will be entirely outdoors (an outside port-o-potty will be available). We require that everyone have a mask with them in case we need to go inside during inclement weather\, to administer first aid\, or for other reasons. Please do not attend if you are experiencing or have experienced in the last two weeks any symptoms associated with COVID-19 (fever\, cough\, shortness of breath\, etc.). \nRegistration is REQUIRED. \nCancellation policy: If you register and can no longer attend this event\, please let us know as soon as possible so that we can open your spot to someone else. \nBefore attending this event\, please read the information included on our liability release form (Click Here). \nWe look forward to seeing you at the Clifton Institute!
URL:https://cliftoninstitute.org/event/bird-walk-16/
LOCATION:The Clifton Institute\, 6712 Blantyre Road\, Warrenton\, VA\, 20187\, United States
CATEGORIES:Adult programs
ATTACH;FMTTYPE=image/png:https://cliftoninstitute.org/wp-content/uploads/2021/09/monthly-bird-walks-2.5-1.png
GEO:38.7751537;-77.7981971
X-APPLE-STRUCTURED-LOCATION;VALUE=URI;X-ADDRESS=The Clifton Institute 6712 Blantyre Road Warrenton VA 20187 United States;X-APPLE-RADIUS=500;X-TITLE=6712 Blantyre Road:geo:-77.7981971,38.7751537
END:VEVENT
BEGIN:VEVENT
DTSTART;TZID=America/New_York:20220415T180000
DTEND;TZID=America/New_York:20220415T190000
DTSTAMP:20260423T053248
CREATED:20220211T202042Z
LAST-MODIFIED:20220330T182821Z
UID:8823-1650045600-1650049200@cliftoninstitute.org
SUMMARY:Warbler Song Bootcamp Virtual Program
DESCRIPTION:Brush up on your warbler songs just before the migrants arrive in droves. We will listen to the songs of each of the migratory warblers that pass through our region in spring\, while looking at spectrograms to help visual learners identify differences in similar songs. We will also briefly discuss habitats where breeding warblers can be found in our area and cover a handful of other migrants such as vireos and thrushes. This workshop will be of interest to birdwatchers of all skill levels. It will definitely be more fun than listening to a warbler song CD in your car!  \nThis event will take place over Zoom. A Zoom link will be emailed to participants shortly before the event.  \nRegistration is REQUIRED. If you register and can no longer attend this event\, please let us know as soon as possible so that we can open your spot to someone else. \nCost: Free!
URL:https://cliftoninstitute.org/event/warbler-song-bootcamp-virtual-hybrid/
LOCATION:The Clifton Institute\, 6712 Blantyre Road\, Warrenton\, VA\, 20187\, United States
CATEGORIES:Adult programs
ATTACH;FMTTYPE=image/png:https://cliftoninstitute.org/wp-content/uploads/2022/02/warbler-song-bootcamp.png
GEO:38.7751537;-77.7981971
X-APPLE-STRUCTURED-LOCATION;VALUE=URI;X-ADDRESS=The Clifton Institute 6712 Blantyre Road Warrenton VA 20187 United States;X-APPLE-RADIUS=500;X-TITLE=6712 Blantyre Road:geo:-77.7981971,38.7751537
END:VEVENT
BEGIN:VEVENT
DTSTART;TZID=America/New_York:20220416T070000
DTEND;TZID=America/New_York:20220416T090000
DTSTAMP:20260423T053248
CREATED:20220210T172619Z
LAST-MODIFIED:20220226T175302Z
UID:8801-1650092400-1650099600@cliftoninstitute.org
SUMMARY:Bird Walk
DESCRIPTION:Novice and experienced birders will enjoy this guided 1-2 mile hike to look for the many species of birds that can be found on the field station. We will explore successional fields\, meadows\, lake edges\, and forest. Don’t forget to bring your binoculars! \nCost: Free! \nAge: Adults and children 12 and up\, accompanied by an adult \nWeather policy: Rain or shine except in case of extreme weather (e.g. thunderstorm or significant snow fall). Please check your email for updates the morning of the event. \nCOVID-19 Information: This program will be entirely outdoors (an outside port-o-potty will be available). We require that everyone have a mask with them in case we need to go inside during inclement weather\, to administer first aid\, or for other reasons. Please do not attend if you are experiencing or have experienced in the last two weeks any symptoms associated with COVID-19 (fever\, cough\, shortness of breath\, etc.). \nRegistration is REQUIRED. \nCancellation policy: If you register and can no longer attend this event\, please let us know as soon as possible so that we can open your spot to someone else. \nBefore attending this event\, please read the information included on our liability release form (click here). \nWe look forward to seeing you at the Clifton Institute!
URL:https://cliftoninstitute.org/event/bird-walk-17/
LOCATION:The Clifton Institute\, 6712 Blantyre Road\, Warrenton\, VA\, 20187\, United States
CATEGORIES:Adult programs
ATTACH;FMTTYPE=image/png:https://cliftoninstitute.org/wp-content/uploads/2021/09/monthly-bird-walks-2.5-1.png
GEO:38.7751537;-77.7981971
X-APPLE-STRUCTURED-LOCATION;VALUE=URI;X-ADDRESS=The Clifton Institute 6712 Blantyre Road Warrenton VA 20187 United States;X-APPLE-RADIUS=500;X-TITLE=6712 Blantyre Road:geo:-77.7981971,38.7751537
END:VEVENT
BEGIN:VEVENT
DTSTART;TZID=America/New_York:20220423T130000
DTEND;TZID=America/New_York:20220423T150000
DTSTAMP:20260423T053248
CREATED:20220205T162230Z
LAST-MODIFIED:20220205T164711Z
UID:8683-1650718800-1650726000@cliftoninstitute.org
SUMMARY:Walk With A Naturalist
DESCRIPTION:Join us for a walk on our trails with one our naturalists. \nCost: Free! \nAge: Adults and children 12 and up\, accompanied by an adult \nWeather policy: Rain or shine except in case of extreme weather (e.g. thunderstorm or significant snow fall).  Please check your email for updates on the morning of the event. \nWhat to bring: Water bottle\, hat\, sunscreen\, bug spray\, camera\, binoculars. \nCOVID-19 Information: This program will be entirely outdoors (an outside port-o-potty will be available). We require that everyone have a mask with them in case we need to go inside during inclement weather\, to administer first aid\, or for other reasons. Please do not attend if you are experiencing or have experienced in the last two weeks any symptoms associated with COVID-19 (fever\, cough\, shortness of breath\, etc.). \nRegistration is REQUIRED. \nCancellation policy: If you register and can no longer attend this event\, please let us know as soon as possible so that we can open your spot to someone else. \nBefore attending this event\, please read the information included on our liability release form (click here). \nWe look forward to seeing you at the Clifton Institute!
URL:https://cliftoninstitute.org/event/walk-with-a-naturalist-9/
LOCATION:The Clifton Institute\, 6712 Blantyre Road\, Warrenton\, VA\, 20187\, United States
CATEGORIES:Adult programs
ATTACH;FMTTYPE=image/png:https://cliftoninstitute.org/wp-content/uploads/2021/11/walk-with-a-naturalist-2.5-1.png
GEO:38.7751537;-77.7981971
X-APPLE-STRUCTURED-LOCATION;VALUE=URI;X-ADDRESS=The Clifton Institute 6712 Blantyre Road Warrenton VA 20187 United States;X-APPLE-RADIUS=500;X-TITLE=6712 Blantyre Road:geo:-77.7981971,38.7751537
END:VEVENT
BEGIN:VEVENT
DTSTART;TZID=America/New_York:20220430T090000
DTEND;TZID=America/New_York:20220430T120000
DTSTAMP:20260423T053248
CREATED:20220426T143517Z
LAST-MODIFIED:20220426T143700Z
UID:9844-1651309200-1651320000@cliftoninstitute.org
SUMMARY:Volunteer Day: Tree Planting
DESCRIPTION:Come help us plant trees for a riparian buffer in our pasture! If you have any of the following items\, please bring them with you: pick ax\, shovel\, gardening gloves\, watering can\, mallet. \nAge: Adults only and children ages 12 and up\, accompanied by an adult. \nWeather policy: Date and time subject to change dependent on weather. Please check your email for updates on the morning of the event.\n\nCOVID-19 Information: This program will be entirely outdoors (an outside port-o-potty will be available). We require that everyone have a mask with them in case we need to go inside during inclement weather\, to administer first aid\, or for other reasons. Please do not attend if you are experiencing or have experienced in the last two weeks any symptoms associated with COVID-19 (fever\, cough\, shortness of breath\, etc.). \nRegistration is REQUIRED so that we can communicate with you in case of changes. \nBefore attending this event\, please read the information included on our liability release form (click here).
URL:https://cliftoninstitute.org/event/volunteer-day-tree-planting-7/
LOCATION:The Clifton Institute\, 6712 Blantyre Road\, Warrenton\, VA\, 20187\, United States
CATEGORIES:Adult programs,Volunteer days
GEO:38.7751537;-77.7981971
X-APPLE-STRUCTURED-LOCATION;VALUE=URI;X-ADDRESS=The Clifton Institute 6712 Blantyre Road Warrenton VA 20187 United States;X-APPLE-RADIUS=500;X-TITLE=6712 Blantyre Road:geo:-77.7981971,38.7751537
END:VEVENT
BEGIN:VEVENT
DTSTART;TZID=America/New_York:20220430T100000
DTEND;TZID=America/New_York:20220430T160000
DTSTAMP:20260423T053248
CREATED:20220328T201614Z
LAST-MODIFIED:20220328T205320Z
UID:9404-1651312800-1651334400@cliftoninstitute.org
SUMMARY:City Nature Challenge
DESCRIPTION:Every year the community science platform iNaturalist organizes the City Nature Challenge\, a friendly competition between cities all over the world to see who can find the most species\, make the most observations\, and involve the most people in community science. This year the Challenge will take place from April 29 to May 2\, but we’ll be focusing our efforts on April 30 and contributing our observations to the Washington\, DC Metro Area team. \nOn April 30 from 10AM to 4PM\, we will have tables where you can learn how to use iNaturalist\, get a map to your very own little patch of the property to survey and photograph\, see examples of a few common species\, and play a game to practice using a dichotomous key. The only thing you need in order to participate is a camera or phone and a willingness to slow down and look closely. (It would help to download the iNaturalist app before you arrive.) Don’t worry about identifying all of the plants\, animals\, and fungi you photograph!  iNaturalist will help you make a good guess and nerds from around the world (or here at Clifton) will identify them the following week. \nHere at the Clifton Institute we use iNaturalist every day to keep track of what we find on our property.  The current count is a whopping 2\,127 species! This is a great way for families and adults alike to help us grow that number\, spend some time outside during a beautiful time of year\, and learn about Virginia’s plants and animals. \n\nCost: Free! \n\n\nAge: All ages. (Children must be accompanied by an adult.) \n\n\nBring: Please bring your smartphone or a camera. \n\n\nWeather policy: Date and time subject to change dependent on weather. Please check our Facebook page on the morning of the event in case of inclement weather. \n\n\nCOVID-19 Information: This program will be entirely outdoors (an outside porta potty will be available). Please do not attend if you are experiencing or have experienced in the last two weeks any symptoms associated with COVID-19 (fever\, cough\, shortness of breath\, etc.). \n\n\nBy attending this event\, you are affirming that you have read and agree to our liability release policy. \n\n\nWe look forward to seeing you at the Clifton Institute! \n\n 
URL:https://cliftoninstitute.org/event/city-nature-challenge-22/
LOCATION:The Clifton Institute\, 6712 Blantyre Road\, Warrenton\, VA\, 20187\, United States
CATEGORIES:Adult programs,Community science,Family programs,Open Access days
ATTACH;FMTTYPE=image/png:https://cliftoninstitute.org/wp-content/uploads/2022/03/CityNature-Challenge.png
GEO:38.7751537;-77.7981971
X-APPLE-STRUCTURED-LOCATION;VALUE=URI;X-ADDRESS=The Clifton Institute 6712 Blantyre Road Warrenton VA 20187 United States;X-APPLE-RADIUS=500;X-TITLE=6712 Blantyre Road:geo:-77.7981971,38.7751537
END:VEVENT
END:VCALENDAR