BEGIN:VCALENDAR
VERSION:2.0
PRODID:-//The Clifton Institute - ECPv6.15.15//NONSGML v1.0//EN
CALSCALE:GREGORIAN
METHOD:PUBLISH
X-WR-CALNAME:The Clifton Institute
X-ORIGINAL-URL:https://cliftoninstitute.org
X-WR-CALDESC:Events for The Clifton Institute
REFRESH-INTERVAL;VALUE=DURATION:PT1H
X-Robots-Tag:noindex
X-PUBLISHED-TTL:PT1H
BEGIN:VTIMEZONE
TZID:America/New_York
BEGIN:DAYLIGHT
TZOFFSETFROM:-0500
TZOFFSETTO:-0400
TZNAME:EDT
DTSTART:20210314T070000
END:DAYLIGHT
BEGIN:STANDARD
TZOFFSETFROM:-0400
TZOFFSETTO:-0500
TZNAME:EST
DTSTART:20211107T060000
END:STANDARD
BEGIN:DAYLIGHT
TZOFFSETFROM:-0500
TZOFFSETTO:-0400
TZNAME:EDT
DTSTART:20220313T070000
END:DAYLIGHT
BEGIN:STANDARD
TZOFFSETFROM:-0400
TZOFFSETTO:-0500
TZNAME:EST
DTSTART:20221106T060000
END:STANDARD
BEGIN:DAYLIGHT
TZOFFSETFROM:-0500
TZOFFSETTO:-0400
TZNAME:EDT
DTSTART:20230312T070000
END:DAYLIGHT
BEGIN:STANDARD
TZOFFSETFROM:-0400
TZOFFSETTO:-0500
TZNAME:EST
DTSTART:20231105T060000
END:STANDARD
END:VTIMEZONE
BEGIN:VEVENT
DTSTART;TZID=America/New_York:20220205T090000
DTEND;TZID=America/New_York:20220205T110000
DTSTAMP:20260423T081926
CREATED:20211102T140852Z
LAST-MODIFIED:20220129T212038Z
UID:7523-1644051600-1644058800@cliftoninstitute.org
SUMMARY:Bird Walk
DESCRIPTION:Note that this is postponed from our normal date of January 29. \nNovice and experienced birders will enjoy this guided 1-2 mile hike to look for the many species of birds that can be found on the field station. We will explore successional fields\, meadows\, lake edges\, and forest. \nCost: Free! \nAge: Adults and children 12 and up\, accompanied by an adult \nWeather policy: Rain or shine except in case of extreme weather (e.g. thunderstorm or significant snow fall). Please check your email for updates the morning of the event. \nCOVID-19 Information: This program will be entirely outdoors (an outside port-o-potty will be available). We require that everyone have a mask with them in case we need to go inside during inclement weather\, to administer first aid\, or for other reasons. Please do not attend if you are experiencing or have experienced in the last two weeks any symptoms associated with COVID-19 (fever\, cough\, shortness of breath\, etc.). \nRegistration is REQUIRED. \nCancellation policy: If you register and can no longer attend this event\, please let us know as soon as possible so that we can open your spot to someone else. \nBefore attending this event\, please read the information included on our liability release form (click here). \nWe look forward to seeing you at the Clifton Institute!
URL:https://cliftoninstitute.org/event/bird-walk-12/
LOCATION:The Clifton Institute\, 6712 Blantyre Road\, Warrenton\, VA\, 20187\, United States
CATEGORIES:Adult programs
ATTACH;FMTTYPE=image/png:https://cliftoninstitute.org/wp-content/uploads/2021/09/monthly-bird-walks-2.5-1.png
GEO:38.7751537;-77.7981971
X-APPLE-STRUCTURED-LOCATION;VALUE=URI;X-ADDRESS=The Clifton Institute 6712 Blantyre Road Warrenton VA 20187 United States;X-APPLE-RADIUS=500;X-TITLE=6712 Blantyre Road:geo:-77.7981971,38.7751537
END:VEVENT
BEGIN:VEVENT
DTSTART;TZID=America/New_York:20220205T130000
DTEND;TZID=America/New_York:20220205T150000
DTSTAMP:20260423T081926
CREATED:20211110T160726Z
LAST-MODIFIED:20220201T202340Z
UID:7544-1644066000-1644073200@cliftoninstitute.org
SUMMARY:Winter Tree Identification for Beginners
DESCRIPTION:Please note that this program was postponed from its original date of January 29. \nWinter is a great time of year to learn how to identify trees and to practice looking at bark and twigs. In this program\, we will take you on a short walk in the woods and talk about the tips and tricks to identify the most common trees in our forests. This program is meant for beginners. Advanced botanists are welcome but you may teach us more than we teach you! If you would like to start practicing now or if you would like to bring some resources with you\, we recommend the book Winter Tree Finder by May Theilgaard Watts and Tom Watts\, the Flora of Virginia app\, and the Virginia Tech Tree ID app. \n\nCost: $10 ($8 for Friends of the Clifton Institute) \n\n\nAge: Adults and children 12 and up\, accompanied by an adult \n\n\nWeather policy: Rain or shine except in case of extreme weather (e.g. thunderstorm or significant snow fall). Please check your email for updates on the morning of the event. \n\n\nCOVID-19 Information: This program will be entirely outdoors (an outside port-o-potty will be available). We require that everyone have a mask with them in case we need to go inside during inclement weather\, to administer first aid\, or for other reasons. Please do not attend if you are experiencing or have experienced in the last two weeks any symptoms associated with COVID-19 (fever\, cough\, shortness of breath\, etc.). \n\n\nRegistration is REQUIRED. \n\n\nCancellation policy: If you register and can no longer attend this event\, please let us know as soon as possible so that we can open your spot to someone else. No refunds will be given upon registrant cancellation. \n\nBefore registering for this event\, please read the information included on our liability release form (click here). \n\nWe look forward to seeing you at the Clifton Institute! \n\n 
URL:https://cliftoninstitute.org/event/winter-tree-identification-for-beginners/
LOCATION:The Clifton Institute\, 6712 Blantyre Road\, Warrenton\, VA\, 20187\, United States
CATEGORIES:Adult programs
ATTACH;FMTTYPE=image/png:https://cliftoninstitute.org/wp-content/uploads/2021/11/Winter-Tree-Identification-for-Beginners.png
GEO:38.7751537;-77.7981971
X-APPLE-STRUCTURED-LOCATION;VALUE=URI;X-ADDRESS=The Clifton Institute 6712 Blantyre Road Warrenton VA 20187 United States;X-APPLE-RADIUS=500;X-TITLE=6712 Blantyre Road:geo:-77.7981971,38.7751537
END:VEVENT
BEGIN:VEVENT
DTSTART;TZID=America/New_York:20220209T080000
DTEND;TZID=America/New_York:20220209T100000
DTSTAMP:20260423T081926
CREATED:20211116T150705Z
LAST-MODIFIED:20211217T192913Z
UID:7710-1644393600-1644400800@cliftoninstitute.org
SUMMARY:Bird Walk
DESCRIPTION:Novice and experienced birders will enjoy this guided 1-2 mile hike to look for the many species of birds that can be found on the field station. We will explore successional fields\, meadows\, lake edges\, and forest. Don’t forget to bring your binoculars! \nCost: Free! \nAge: Adults and children 12 and up\, accompanied by an adult \nWeather policy: Rain or shine except in case of extreme weather (e.g. thunderstorm or significant snow fall). Please check your email for updates the morning of the event. \nCOVID-19 Information: This program will be entirely outdoors (an outside port-o-potty will be available). We require that everyone have a mask with them in case we need to go inside during inclement weather\, to administer first aid\, or for other reasons. Please do not attend if you are experiencing or have experienced in the last two weeks any symptoms associated with COVID-19 (fever\, cough\, shortness of breath\, etc.). \nRegistration is REQUIRED. \nCancellation policy: If you register and can no longer attend this event\, please let us know as soon as possible so that we can open your spot to someone else. \nBefore attending this event\, please read the information included on our liability release form (click here). \nWe look forward to seeing you at the Clifton Institute!
URL:https://cliftoninstitute.org/event/bird-walk-14/
LOCATION:The Clifton Institute\, 6712 Blantyre Road\, Warrenton\, VA\, 20187\, United States
CATEGORIES:Adult programs
ATTACH;FMTTYPE=image/png:https://cliftoninstitute.org/wp-content/uploads/2021/09/monthly-bird-walks-2.5-1.png
GEO:38.7751537;-77.7981971
X-APPLE-STRUCTURED-LOCATION;VALUE=URI;X-ADDRESS=The Clifton Institute 6712 Blantyre Road Warrenton VA 20187 United States;X-APPLE-RADIUS=500;X-TITLE=6712 Blantyre Road:geo:-77.7981971,38.7751537
END:VEVENT
BEGIN:VEVENT
DTSTART;TZID=America/New_York:20220212T100000
DTEND;TZID=America/New_York:20220212T120000
DTSTAMP:20260423T081926
CREATED:20211102T140534Z
LAST-MODIFIED:20211202T012557Z
UID:7520-1644660000-1644667200@cliftoninstitute.org
SUMMARY:Walk with a Naturalist
DESCRIPTION:Join us for a walk on our trails with one our naturalists. This month\, we’ll be looking for otters! These playful creatures are often seen on our ponds in early winter. \nCost: Free! \nAge: Adults and children 12 and up\, accompanied by an adult \nWeather policy: Rain or shine except in case of extreme weather (e.g. thunderstorm or significant snow fall).  Please check your email for updates on the morning of the event. \nWhat to bring: Water bottle\, hat\, sunscreen\, bug spray\, camera\, binoculars. \nCOVID-19 Information: This program will be entirely outdoors (an outside port-o-potty will be available). We require that everyone have a mask with them in case we need to go inside during inclement weather\, to administer first aid\, or for other reasons. Please do not attend if you are experiencing or have experienced in the last two weeks any symptoms associated with COVID-19 (fever\, cough\, shortness of breath\, etc.). \nRegistration is REQUIRED. \nCancellation policy: If you register and can no longer attend this event\, please let us know as soon as possible so that we can open your spot to someone else. \nBefore attending this event\, please read the information included on our liability release form (click here). \nWe look forward to seeing you at the Clifton Institute!
URL:https://cliftoninstitute.org/event/walk-with-a-naturalist-6/
LOCATION:The Clifton Institute\, 6712 Blantyre Road\, Warrenton\, VA\, 20187\, United States
CATEGORIES:Adult programs
GEO:38.7751537;-77.7981971
X-APPLE-STRUCTURED-LOCATION;VALUE=URI;X-ADDRESS=The Clifton Institute 6712 Blantyre Road Warrenton VA 20187 United States;X-APPLE-RADIUS=500;X-TITLE=6712 Blantyre Road:geo:-77.7981971,38.7751537
END:VEVENT
BEGIN:VEVENT
DTSTART;TZID=America/New_York:20220215T190000
DTEND;TZID=America/New_York:20220215T210000
DTSTAMP:20260423T081926
CREATED:20211116T160206Z
LAST-MODIFIED:20220201T162750Z
UID:7722-1644951600-1644958800@cliftoninstitute.org
SUMMARY:Spotted Salamander Walk
DESCRIPTION:Once a year\, salamanders leave their homes in the woods and head toward vernal pools\, temporary ponds created by spring rains and melting winter snow. The conditions must be just right\, a warm night with rainy conditions. The males arrive first and lay sperm sacks around the pond. The females come later and absorb these sacks\, which causes them to lay their eggs\, about 50-100 per female. Join us on a walk to our vernal pools to witness this spectacle of nature. \nWe’ll be watching the weather closely to adjust our time and date that looks most promising for us to see this wonderful migration. For now\, this date is a best-guess placeholder for us. \n\nCost: Free! \n\n\nAge:  Adults and children ages 12 and up\, accompanied by an adult. \n\nWeather policy:  Date and time subject to change dependent on weather. Please check your email for updates on the morning of the event.\n\nCOVID-19 Information: This program will be entirely outdoors (an outside porta potty will be available). We require that everyone have a mask with them in case we need to go inside during inclement weather\, to administer first aid\, or for other reasons. Please do not attend if you are experiencing or have experienced in the last two weeks any symptoms associated with COVID-19 (fever\, cough\, shortness of breath\, etc.). \n\n\nRegistration is REQUIRED. \n\n\nCancellation policy: If you register and can no longer attend this event\, please let us know as soon as possible so that we can open your spot to someone else. \n\n\nBefore attending this event\, please read the information included on our liability release form (click here). \n\n\nWe look forward to seeing you at the Clifton Institute!
URL:https://cliftoninstitute.org/event/spotted-salamander-walk/
LOCATION:The Clifton Institute\, 6712 Blantyre Road\, Warrenton\, VA\, 20187\, United States
CATEGORIES:Adult programs,Family programs
ATTACH;FMTTYPE=image/png:https://cliftoninstitute.org/wp-content/uploads/2021/11/Spotted-Salamander-Walk-1.png
GEO:38.7751537;-77.7981971
X-APPLE-STRUCTURED-LOCATION;VALUE=URI;X-ADDRESS=The Clifton Institute 6712 Blantyre Road Warrenton VA 20187 United States;X-APPLE-RADIUS=500;X-TITLE=6712 Blantyre Road:geo:-77.7981971,38.7751537
END:VEVENT
BEGIN:VEVENT
DTSTART;TZID=America/New_York:20220217T180000
DTEND;TZID=America/New_York:20220217T190000
DTSTAMP:20260423T081926
CREATED:20211117T222613Z
LAST-MODIFIED:20220128T173227Z
UID:7740-1645120800-1645124400@cliftoninstitute.org
SUMMARY:Patterns in Nature Classes and Crafts
DESCRIPTION:Join us for this exciting series of programs all about patterns in nature! Mathematical patterns are all around us\, in plants\, animals\, and even fungi! Knowing where to find them and why they’re there can make being outside in nature even more fun. On each of three consecutive Thursdays\, co-director Eleanor Harris\, Ph.D.\, will give a brief talk on one pattern in nature and then we’ll gather around the dining room table and make a craft that displays that evening’s pattern. No mathematical knowledge or crafting experience required\, just a little curiosity and creativity! All materials will be provided. We’ll have drinks and snacks as we craft. We will meet on February 17\, February 24\, and March 3 6-7PM. \n\nCost: $30 ($25 for Friends of the Clifton Institute) \n\n\nAge: Adults only. \n\n\nCOVID-19 Information: This program will take place inside. We are requiring all participants to be fully vaccinated and to wear masks. We will ask to see vaccination cards. Please do not attend if you are experiencing or have experienced in the last two weeks any symptoms associated with COVID-19 (fever\, cough\, shortness of breath\, etc.). \n\n\nRegistration is REQUIRED. \n\n\nCancellation policy: If you register and can no longer attend this event\, please let us know as soon as possible so that we can open your spot to someone else. No refunds will be given upon registrant cancellation. \n\n\nBefore attending this event\, please read the information included on our liability release form (click here). \n\n\nWe look forward to seeing you at the Clifton Institute! \n\n 
URL:https://cliftoninstitute.org/event/patterns-in-nature-classes-and-crafts/
LOCATION:6712 Blantyre Road\, Warrenton\, VA\, 20187\, United States
CATEGORIES:Adult programs
ATTACH;FMTTYPE=image/png:https://cliftoninstitute.org/wp-content/uploads/2021/11/patterns-in-nature2.png
GEO:38.7751537;-77.7981971
X-APPLE-STRUCTURED-LOCATION;VALUE=URI;X-ADDRESS=6712 Blantyre Road Warrenton VA 20187 United States;X-APPLE-RADIUS=500;X-TITLE=6712 Blantyre Road:geo:-77.7981971,38.7751537
END:VEVENT
BEGIN:VEVENT
DTSTART;TZID=America/New_York:20220226T083000
DTEND;TZID=America/New_York:20220226T100000
DTSTAMP:20260423T081926
CREATED:20211116T150449Z
LAST-MODIFIED:20220201T162517Z
UID:7707-1645864200-1645869600@cliftoninstitute.org
SUMMARY:Bird Walk
DESCRIPTION:Novice and experienced birders will enjoy this guided 1-2 mile hike to look for the many species of birds that can be found on the field station. We will explore successional fields\, meadows\, lake edges\, and forest. Don’t forget to bring your binoculars! \nCost: Free! \nAge: Adults and children 12 and up\, accompanied by an adult \nWeather policy: Rain or shine except in case of extreme weather (e.g. thunderstorm or significant snow fall). Please check your email for updates the morning of the event. \nCOVID-19 Information: This program will be entirely outdoors (an outside port-o-potty will be available). We require that everyone have a mask with them in case we need to go inside during inclement weather\, to administer first aid\, or for other reasons. Please do not attend if you are experiencing or have experienced in the last two weeks any symptoms associated with COVID-19 (fever\, cough\, shortness of breath\, etc.). \nRegistration is REQUIRED. \nCancellation policy: If you register and can no longer attend this event\, please let us know as soon as possible so that we can open your spot to someone else. \nBefore attending this event\, please read the information included on our liability release form (click here). \nWe look forward to seeing you at the Clifton Institute!
URL:https://cliftoninstitute.org/event/bird-walk-13/
LOCATION:The Clifton Institute\, 6712 Blantyre Road\, Warrenton\, VA\, 20187\, United States
CATEGORIES:Adult programs
ATTACH;FMTTYPE=image/png:https://cliftoninstitute.org/wp-content/uploads/2021/09/monthly-bird-walks-2.5-1.png
GEO:38.7751537;-77.7981971
X-APPLE-STRUCTURED-LOCATION;VALUE=URI;X-ADDRESS=The Clifton Institute 6712 Blantyre Road Warrenton VA 20187 United States;X-APPLE-RADIUS=500;X-TITLE=6712 Blantyre Road:geo:-77.7981971,38.7751537
END:VEVENT
END:VCALENDAR