BEGIN:VCALENDAR
VERSION:2.0
PRODID:-//The Clifton Institute - ECPv6.15.15//NONSGML v1.0//EN
CALSCALE:GREGORIAN
METHOD:PUBLISH
X-ORIGINAL-URL:https://cliftoninstitute.org
X-WR-CALDESC:Events for The Clifton Institute
REFRESH-INTERVAL;VALUE=DURATION:PT1H
X-Robots-Tag:noindex
X-PUBLISHED-TTL:PT1H
BEGIN:VTIMEZONE
TZID:America/New_York
BEGIN:DAYLIGHT
TZOFFSETFROM:-0500
TZOFFSETTO:-0400
TZNAME:EDT
DTSTART:20200308T070000
END:DAYLIGHT
BEGIN:STANDARD
TZOFFSETFROM:-0400
TZOFFSETTO:-0500
TZNAME:EST
DTSTART:20201101T060000
END:STANDARD
BEGIN:DAYLIGHT
TZOFFSETFROM:-0500
TZOFFSETTO:-0400
TZNAME:EDT
DTSTART:20210314T070000
END:DAYLIGHT
BEGIN:STANDARD
TZOFFSETFROM:-0400
TZOFFSETTO:-0500
TZNAME:EST
DTSTART:20211107T060000
END:STANDARD
BEGIN:DAYLIGHT
TZOFFSETFROM:-0500
TZOFFSETTO:-0400
TZNAME:EDT
DTSTART:20220313T070000
END:DAYLIGHT
BEGIN:STANDARD
TZOFFSETFROM:-0400
TZOFFSETTO:-0500
TZNAME:EST
DTSTART:20221106T060000
END:STANDARD
END:VTIMEZONE
BEGIN:VEVENT
DTSTART;TZID=America/New_York:20211208T080000
DTEND;TZID=America/New_York:20211208T100000
DTSTAMP:20260423T110501
CREATED:20210929T231454Z
LAST-MODIFIED:20211109T172036Z
UID:7056-1638950400-1638957600@cliftoninstitute.org
SUMMARY:Bird Walk
DESCRIPTION:Novice and experienced birders will enjoy this guided 1-2 mile hike to look for the many species of birds that can be found on the field station. We will explore successional fields\, meadows\, lake edges\, and forest. \nCost: Free! \nAge: Adults and children 12 and up\, accompanied by an adult \nWeather policy: Rain or shine except in case of extreme weather (e.g. thunderstorm or significant snow fall). Please check your email for updates the morning of the event. \nCOVID-19 Information: This program will be entirely outdoors (an outside port-o-potty will be available). We require that everyone have a mask with them in case we need to go inside during inclement weather\, to administer first aid\, or for other reasons. Please do not attend if you are experiencing or have experienced in the last two weeks any symptoms associated with COVID-19 (fever\, cough\, shortness of breath\, etc.). \nRegistration is REQUIRED. \nCancellation policy: If you register and can no longer attend this event\, please let us know as soon as possible so that we can open your spot to someone else. \nBefore attending this event\, please read the information included on our liability release form (click here). \nWe look forward to seeing you at the Clifton Institute!
URL:https://cliftoninstitute.org/event/bird-walk-10/
LOCATION:The Clifton Institute\, 6712 Blantyre Road\, Warrenton\, VA\, 20187\, United States
CATEGORIES:Adult programs
ATTACH;FMTTYPE=image/png:https://cliftoninstitute.org/wp-content/uploads/2021/09/monthly-bird-walks-2.5-1.png
GEO:38.7751537;-77.7981971
X-APPLE-STRUCTURED-LOCATION;VALUE=URI;X-ADDRESS=The Clifton Institute 6712 Blantyre Road Warrenton VA 20187 United States;X-APPLE-RADIUS=500;X-TITLE=6712 Blantyre Road:geo:-77.7981971,38.7751537
END:VEVENT
BEGIN:VEVENT
DTSTART;TZID=America/New_York:20211208T100000
DTEND;TZID=America/New_York:20211208T120000
DTSTAMP:20260423T110501
CREATED:20211122T161200Z
LAST-MODIFIED:20211130T164109Z
UID:7784-1638957600-1638964800@cliftoninstitute.org
SUMMARY:Project Feederwatch Giveaway
DESCRIPTION:Friends of the Rappahannock will be giving away free Project Feederwatch bird feeders at the Clifton Institute after our regular Wednesday morning bird walk! The feeders are first-come first-serve\, and the limit is one per family. A Friends of the Rappahannock instructor will give you instructions on how participate in Project Feederwatch\, which is a community science project run by the Cornell Lab of Ornithology. Having a bird feeder is a great way to learn about our winter birds and help contribute to science!
URL:https://cliftoninstitute.org/event/project-feederwatch-giveaway/
LOCATION:The Clifton Institute\, 6712 Blantyre Road\, Warrenton\, VA\, 20187\, United States
CATEGORIES:Adult programs,Community science,Family programs
ATTACH;FMTTYPE=image/png:https://cliftoninstitute.org/wp-content/uploads/2021/11/Project-Feederwatch.png
GEO:38.7751537;-77.7981971
X-APPLE-STRUCTURED-LOCATION;VALUE=URI;X-ADDRESS=The Clifton Institute 6712 Blantyre Road Warrenton VA 20187 United States;X-APPLE-RADIUS=500;X-TITLE=6712 Blantyre Road:geo:-77.7981971,38.7751537
END:VEVENT
BEGIN:VEVENT
DTSTART;TZID=America/New_York:20211211T100000
DTEND;TZID=America/New_York:20211211T120000
DTSTAMP:20260423T110501
CREATED:20210924T204626Z
LAST-MODIFIED:20211007T152842Z
UID:6995-1639216800-1639224000@cliftoninstitute.org
SUMMARY:Beginner Grass Identification
DESCRIPTION:At first glance\, it might seem like grasses all look the same and that they don’t offer the same beauty that showy flowers do. But we think it’s worth taking the time to learn to tell grasses apart and to appreciate their unique beauty. And winter is a great time to do it because the grasses have gone to seed and are easy to see in an otherwise quiescent landscape. In this workshop for beginners\, Executive Director Bert Harris will take participants on a walk through some of our fields and teach participants how to identify common grasses. \nAge: Adults and children ages 12 and up\, accompanied by an adult. \nWeather policy: Date and time subject to change dependent on weather. Please check your email for updates on the morning of the event. \n\nCOVID-19 Information: This program will be entirely outdoors (an outside port-o-potty will be available). We require that everyone have a mask with them in case we need to go inside during inclement weather\, to administer first aid\, or for other reasons. Please do not attend if you are experiencing or have experienced in the last two weeks any symptoms associated with COVID-19 (fever\, cough\, shortness of breath\, etc.). \n\n\nRegistration is REQUIRED. \n\n\nCancellation policy: If you register and can no longer attend this event\, please let us know as soon as possible so that we can open your spot to someone else. IF PAID EVENT– No refunds will be given upon registrant cancellation. \n\n\nBefore attending this event\, please read the information included on our liability release form (click here). \n\n\nWe look forward to seeing you at the Clifton Institute! \n\n 
URL:https://cliftoninstitute.org/event/beginner-grass-identification/
LOCATION:The Clifton Institute\, 6712 Blantyre Road\, Warrenton\, VA\, 20187\, United States
CATEGORIES:Adult programs
ATTACH;FMTTYPE=image/png:https://cliftoninstitute.org/wp-content/uploads/2021/09/Beginner-Grass-Identification.png
GEO:38.7751537;-77.7981971
X-APPLE-STRUCTURED-LOCATION;VALUE=URI;X-ADDRESS=The Clifton Institute 6712 Blantyre Road Warrenton VA 20187 United States;X-APPLE-RADIUS=500;X-TITLE=6712 Blantyre Road:geo:-77.7981971,38.7751537
END:VEVENT
BEGIN:VEVENT
DTSTART;TZID=America/New_York:20211218T140000
DTEND;TZID=America/New_York:20211218T160000
DTSTAMP:20260423T110501
CREATED:20211015T180345Z
LAST-MODIFIED:20211214T171741Z
UID:7352-1639836000-1639843200@cliftoninstitute.org
SUMMARY:Lichens for Beginners
DESCRIPTION:Lichens\, part algae\, part fungi\, and all mystery! Lichens are some of the hardiest organisms on earth and can be found all around us\, but they can be difficult to identify. In this program mycologist Thomas Roehl will teach us about lichen biology and then lead us on a walk around the field station to see how many types of lichens we can find. \nCost: $10 ($8 for Friends of the Clifton Institute) \n\n\nAge: Adults and children ages 12 and up\, accompanied by an adult. \n\n\nWeather policy: Date and time subject to change dependent on weather. Please check your email for updates on the morning of the event. \nCOVID-19 Information: This program will include a brief presentation inside. We are requiring all participants to be fully vaccinated and to wear masks inside. We will ask to see vaccination cards. Please do not attend if you are experiencing or have experienced in the last two weeks any symptoms associated with COVID-19 (fever\, cough\, shortness of breath\, etc.). \n\n\nRegistration is REQUIRED. \n\n\nCancellation policy: If you register and can no longer attend this event\, please let us know as soon as possible so that we can open your spot to someone else. No refunds will be given upon registrant cancellation. \n\n\nBefore attending this event\, please read the information included on our liability release form (click here). \n\n\nWe look forward to seeing you at the Clifton Institute! \n\n 
URL:https://cliftoninstitute.org/event/lichen-identification-for-beginners/
LOCATION:The Clifton Institute\, 6712 Blantyre Road\, Warrenton\, VA\, 20187\, United States
CATEGORIES:Adult programs
ATTACH;FMTTYPE=image/png:https://cliftoninstitute.org/wp-content/uploads/2021/10/Lichen-Identification.png
GEO:38.7751537;-77.7981971
X-APPLE-STRUCTURED-LOCATION;VALUE=URI;X-ADDRESS=The Clifton Institute 6712 Blantyre Road Warrenton VA 20187 United States;X-APPLE-RADIUS=500;X-TITLE=6712 Blantyre Road:geo:-77.7981971,38.7751537
END:VEVENT
BEGIN:VEVENT
DTSTART;TZID=America/New_York:20211219T090000
DTEND;TZID=America/New_York:20211219T180000
DTSTAMP:20260423T110501
CREATED:20210930T001631Z
LAST-MODIFIED:20211112T215714Z
UID:7081-1639904400-1639936800@cliftoninstitute.org
SUMMARY:Christmas Bird Count
DESCRIPTION:Join us for our annual Christmas Bird Count! We’ll spend the day surveying the birds in our 15-mile-diameter count circle\, which includes a variety of habitats. We usually see a nice diversity of waterfowl and grassland birds. There’s always a chance for Short-eared Owl and American Tree Sparrow! Participating in the Christmas Bird Count is a great way to learn about the winter birds of Virginia\, contribute to a long-term community science project\, and get to know other birdwatchers in the area. \nAfter you register\, our staff will assign you to a team of volunteers led by an expert counter. (If you feel qualified to lead a team\, please let us know!) Beginners will be assigned to a team responsible for counting the Clifton Institute’s property; this will give you a chance to go slow and learn how to identify our winter birds. If you are an experienced birdwatcher we will likely assign you to a team that will drive from site to site in our circle. Each team will decided whether to carpool or caravan from site to site. \nUnless conditions change dramatically\, we plan to have a compilation dinner here at the Clifton Institute at the end of the day. Since we will be inside\, we ask that you be vaccinated and bring your vaccine card. If you are not vaccinated or are uncomfortable being inside\, you can leave your data with us\, grab a treat\, and go. Chili will be warm starting at 5:00PM. \nAge: Adults and children accompanied by an adult. \n\nBring: Please bring binoculars and a spotting scope if you have one. \n\n\nWeather policy: Date and time subject to change dependent on weather. Please check your email for updates on the morning of the event. \n\n\nCOVID-19 Information: This program will be entirely outdoors (an outside port-o-potty will be available). We require that everyone have a mask with them in case we need to go inside during inclement weather\, to administer first aid\, or for other reasons. Please do not attend if you are experiencing or have experienced in the last two weeks any symptoms associated with COVID-19 (fever\, cough\, shortness of breath\, etc.). \n\n\nRegistration is REQUIRED. \n\n\nCancellation policy: If you register and can no longer attend\, please let us know as soon as possible so that we can make sure every group gets the volunteers they need. \n\n\nBefore attending this event\, please read the information included on our liability release form (click here).
URL:https://cliftoninstitute.org/event/christmas-bird-count/
LOCATION:The Clifton Institute\, 6712 Blantyre Road\, Warrenton\, VA\, 20187\, United States
CATEGORIES:Adult programs,Community science
ATTACH;FMTTYPE=image/png:https://cliftoninstitute.org/wp-content/uploads/2021/09/Copy-of-Christmas-Bird-Count-2.png
GEO:38.7751537;-77.7981971
X-APPLE-STRUCTURED-LOCATION;VALUE=URI;X-ADDRESS=The Clifton Institute 6712 Blantyre Road Warrenton VA 20187 United States;X-APPLE-RADIUS=500;X-TITLE=6712 Blantyre Road:geo:-77.7981971,38.7751537
END:VEVENT
END:VCALENDAR